BEGIN:VCALENDAR
VERSION:2.0
PRODID:-//Universität Innsbruck//LFU:online//DE
METHOD:PUBLISH
BEGIN:VEVENT
UID:17W_627582_3000407@uibk.ac.at
ORGANIZER;CN="LFU:online Universität Innsbruck":MAILTO:Uni-Innsbruck-noreply@uibk.ac.at
SUMMARY:Praktische Unterrichtsplanung und -gestaltung 2, Kurs 2 (LV 627582-0 17W)
DESCRIPTION:Lehrveranstaltung 627582 17W, Gruppe 0\nTitel: Praktische Unterrichtsplanung und -gestaltung 2, Kurs 2\nOrt: 60706 SR\n\nhttps://lfuonline.uibk.ac.at/public/lfuonline_lv.details?sem_id_in=17W&lvnr_id_in=627582\n
CLASS:PUBLIC
DTSTART:20171020T073000Z
DTEND:20171020T150000Z
DTSTAMP:20260421T031127Z
LOCATION:60706 SR
END:VEVENT
BEGIN:VEVENT
UID:17W_627582_3000408@uibk.ac.at
ORGANIZER;CN="LFU:online Universität Innsbruck":MAILTO:Uni-Innsbruck-noreply@uibk.ac.at
SUMMARY:Praktische Unterrichtsplanung und -gestaltung 2, Kurs 2 (LV 627582-0 17W)
DESCRIPTION:Lehrveranstaltung 627582 17W, Gruppe 0\nTitel: Praktische Unterrichtsplanung und -gestaltung 2, Kurs 2\nOrt: 60708 SR\n\nhttps://lfuonline.uibk.ac.at/public/lfuonline_lv.details?sem_id_in=17W&lvnr_id_in=627582\n
CLASS:PUBLIC
DTSTART:20171117T083000Z
DTEND:20171117T160000Z
DTSTAMP:20260421T031127Z
LOCATION:60708 SR
END:VEVENT
BEGIN:VEVENT
UID:17W_627582_3000409@uibk.ac.at
ORGANIZER;CN="LFU:online Universität Innsbruck":MAILTO:Uni-Innsbruck-noreply@uibk.ac.at
SUMMARY:Praktische Unterrichtsplanung und -gestaltung 2, Kurs 2 (LV 627582-0 17W)
DESCRIPTION:Lehrveranstaltung 627582 17W, Gruppe 0\nTitel: Praktische Unterrichtsplanung und -gestaltung 2, Kurs 2\nOrt: 60708 SR\n\nhttps://lfuonline.uibk.ac.at/public/lfuonline_lv.details?sem_id_in=17W&lvnr_id_in=627582\n
CLASS:PUBLIC
DTSTART:20171201T083000Z
DTEND:20171201T160000Z
DTSTAMP:20260421T031127Z
LOCATION:60708 SR
END:VEVENT
BEGIN:VEVENT
UID:17W_627582_3000412@uibk.ac.at
ORGANIZER;CN="LFU:online Universität Innsbruck":MAILTO:Uni-Innsbruck-noreply@uibk.ac.at
SUMMARY:Praktische Unterrichtsplanung und -gestaltung 2, Kurs 2 (LV 627582-0 17W)
DESCRIPTION:Lehrveranstaltung 627582 17W, Gruppe 0\nTitel: Praktische Unterrichtsplanung und -gestaltung 2, Kurs 2\nOrt: 60708 SR\n\nhttps://lfuonline.uibk.ac.at/public/lfuonline_lv.details?sem_id_in=17W&lvnr_id_in=627582\n
CLASS:PUBLIC
DTSTART:20180112T083000Z
DTEND:20180112T160000Z
DTSTAMP:20260421T031127Z
LOCATION:60708 SR
END:VEVENT
END:VCALENDAR