BEGIN:VCALENDAR
VERSION:2.0
PRODID:-//Universität Innsbruck//LFU:online//DE
METHOD:PUBLISH
BEGIN:VEVENT
UID:17W_627583_3035106@uibk.ac.at
ORGANIZER;CN="LFU:online Universität Innsbruck":MAILTO:Uni-Innsbruck-noreply@uibk.ac.at
SUMMARY:Praktische Unterrichtsplanung und -gestaltung 2, Kurs 3 (LV 627583-0 17W)
DESCRIPTION:Lehrveranstaltung 627583 17W, Gruppe 0\nTitel: Praktische Unterrichtsplanung und -gestaltung 2, Kurs 3\nOrt: 60708 SR\n\nhttps://lfuonline.uibk.ac.at/public/lfuonline_lv.details?sem_id_in=17W&lvnr_id_in=627583\n
CLASS:PUBLIC
DTSTART:20171009T114500Z
DTEND:20171009T131500Z
DTSTAMP:20260421T031127Z
LOCATION:60708 SR
END:VEVENT
BEGIN:VEVENT
UID:17W_627583_3035107@uibk.ac.at
ORGANIZER;CN="LFU:online Universität Innsbruck":MAILTO:Uni-Innsbruck-noreply@uibk.ac.at
SUMMARY:Praktische Unterrichtsplanung und -gestaltung 2, Kurs 3 (LV 627583-0 17W)
DESCRIPTION:Lehrveranstaltung 627583 17W, Gruppe 0\nTitel: Praktische Unterrichtsplanung und -gestaltung 2, Kurs 3\nOrt: 60708 SR\n\nhttps://lfuonline.uibk.ac.at/public/lfuonline_lv.details?sem_id_in=17W&lvnr_id_in=627583\n
CLASS:PUBLIC
DTSTART:20171016T114500Z
DTEND:20171016T131500Z
DTSTAMP:20260421T031127Z
LOCATION:60708 SR
END:VEVENT
BEGIN:VEVENT
UID:17W_627583_3035108@uibk.ac.at
ORGANIZER;CN="LFU:online Universität Innsbruck":MAILTO:Uni-Innsbruck-noreply@uibk.ac.at
SUMMARY:Praktische Unterrichtsplanung und -gestaltung 2, Kurs 3 (LV 627583-0 17W)
DESCRIPTION:Lehrveranstaltung 627583 17W, Gruppe 0\nTitel: Praktische Unterrichtsplanung und -gestaltung 2, Kurs 3\nOrt: 60708 SR\n\nhttps://lfuonline.uibk.ac.at/public/lfuonline_lv.details?sem_id_in=17W&lvnr_id_in=627583\n
CLASS:PUBLIC
DTSTART:20171023T114500Z
DTEND:20171023T131500Z
DTSTAMP:20260421T031127Z
LOCATION:60708 SR
END:VEVENT
BEGIN:VEVENT
UID:17W_627583_3035109@uibk.ac.at
ORGANIZER;CN="LFU:online Universität Innsbruck":MAILTO:Uni-Innsbruck-noreply@uibk.ac.at
SUMMARY:Praktische Unterrichtsplanung und -gestaltung 2, Kurs 3 (LV 627583-0 17W)
DESCRIPTION:Lehrveranstaltung 627583 17W, Gruppe 0\nTitel: Praktische Unterrichtsplanung und -gestaltung 2, Kurs 3\nOrt: 60708 SR\n\nhttps://lfuonline.uibk.ac.at/public/lfuonline_lv.details?sem_id_in=17W&lvnr_id_in=627583\n
CLASS:PUBLIC
DTSTART:20171030T124500Z
DTEND:20171030T141500Z
DTSTAMP:20260421T031127Z
LOCATION:60708 SR
END:VEVENT
BEGIN:VEVENT
UID:17W_627583_3035110@uibk.ac.at
ORGANIZER;CN="LFU:online Universität Innsbruck":MAILTO:Uni-Innsbruck-noreply@uibk.ac.at
SUMMARY:Praktische Unterrichtsplanung und -gestaltung 2, Kurs 3 (LV 627583-0 17W)
DESCRIPTION:Lehrveranstaltung 627583 17W, Gruppe 0\nTitel: Praktische Unterrichtsplanung und -gestaltung 2, Kurs 3\nOrt: 60708 SR\n\nhttps://lfuonline.uibk.ac.at/public/lfuonline_lv.details?sem_id_in=17W&lvnr_id_in=627583\n
CLASS:PUBLIC
DTSTART:20171106T124500Z
DTEND:20171106T141500Z
DTSTAMP:20260421T031127Z
LOCATION:60708 SR
END:VEVENT
BEGIN:VEVENT
UID:17W_627583_3035111@uibk.ac.at
ORGANIZER;CN="LFU:online Universität Innsbruck":MAILTO:Uni-Innsbruck-noreply@uibk.ac.at
SUMMARY:Praktische Unterrichtsplanung und -gestaltung 2, Kurs 3 (LV 627583-0 17W)
DESCRIPTION:Lehrveranstaltung 627583 17W, Gruppe 0\nTitel: Praktische Unterrichtsplanung und -gestaltung 2, Kurs 3\nOrt: 60708 SR\n\nhttps://lfuonline.uibk.ac.at/public/lfuonline_lv.details?sem_id_in=17W&lvnr_id_in=627583\n
CLASS:PUBLIC
DTSTART:20171113T124500Z
DTEND:20171113T141500Z
DTSTAMP:20260421T031127Z
LOCATION:60708 SR
END:VEVENT
BEGIN:VEVENT
UID:17W_627583_3035112@uibk.ac.at
ORGANIZER;CN="LFU:online Universität Innsbruck":MAILTO:Uni-Innsbruck-noreply@uibk.ac.at
SUMMARY:Praktische Unterrichtsplanung und -gestaltung 2, Kurs 3 (LV 627583-0 17W)
DESCRIPTION:Lehrveranstaltung 627583 17W, Gruppe 0\nTitel: Praktische Unterrichtsplanung und -gestaltung 2, Kurs 3\nOrt: 60708 SR\n\nhttps://lfuonline.uibk.ac.at/public/lfuonline_lv.details?sem_id_in=17W&lvnr_id_in=627583\n
CLASS:PUBLIC
DTSTART:20171120T124500Z
DTEND:20171120T141500Z
DTSTAMP:20260421T031127Z
LOCATION:60708 SR
END:VEVENT
BEGIN:VEVENT
UID:17W_627583_3035113@uibk.ac.at
ORGANIZER;CN="LFU:online Universität Innsbruck":MAILTO:Uni-Innsbruck-noreply@uibk.ac.at
SUMMARY:Praktische Unterrichtsplanung und -gestaltung 2, Kurs 3 (LV 627583-0 17W)
DESCRIPTION:Lehrveranstaltung 627583 17W, Gruppe 0\nTitel: Praktische Unterrichtsplanung und -gestaltung 2, Kurs 3\nOrt: 60708 SR\n\nhttps://lfuonline.uibk.ac.at/public/lfuonline_lv.details?sem_id_in=17W&lvnr_id_in=627583\n
CLASS:PUBLIC
DTSTART:20171127T124500Z
DTEND:20171127T141500Z
DTSTAMP:20260421T031127Z
LOCATION:60708 SR
END:VEVENT
BEGIN:VEVENT
UID:17W_627583_3035114@uibk.ac.at
ORGANIZER;CN="LFU:online Universität Innsbruck":MAILTO:Uni-Innsbruck-noreply@uibk.ac.at
SUMMARY:Praktische Unterrichtsplanung und -gestaltung 2, Kurs 3 (LV 627583-0 17W)
DESCRIPTION:Lehrveranstaltung 627583 17W, Gruppe 0\nTitel: Praktische Unterrichtsplanung und -gestaltung 2, Kurs 3\nOrt: 60708 SR\n\nhttps://lfuonline.uibk.ac.at/public/lfuonline_lv.details?sem_id_in=17W&lvnr_id_in=627583\n
CLASS:PUBLIC
DTSTART:20171204T124500Z
DTEND:20171204T141500Z
DTSTAMP:20260421T031127Z
LOCATION:60708 SR
END:VEVENT
BEGIN:VEVENT
UID:17W_627583_3035115@uibk.ac.at
ORGANIZER;CN="LFU:online Universität Innsbruck":MAILTO:Uni-Innsbruck-noreply@uibk.ac.at
SUMMARY:Praktische Unterrichtsplanung und -gestaltung 2, Kurs 3 (LV 627583-0 17W)
DESCRIPTION:Lehrveranstaltung 627583 17W, Gruppe 0\nTitel: Praktische Unterrichtsplanung und -gestaltung 2, Kurs 3\nOrt: 60708 SR\n\nhttps://lfuonline.uibk.ac.at/public/lfuonline_lv.details?sem_id_in=17W&lvnr_id_in=627583\n
CLASS:PUBLIC
DTSTART:20171211T124500Z
DTEND:20171211T141500Z
DTSTAMP:20260421T031127Z
LOCATION:60708 SR
END:VEVENT
BEGIN:VEVENT
UID:17W_627583_3035116@uibk.ac.at
ORGANIZER;CN="LFU:online Universität Innsbruck":MAILTO:Uni-Innsbruck-noreply@uibk.ac.at
SUMMARY:Praktische Unterrichtsplanung und -gestaltung 2, Kurs 3 (LV 627583-0 17W)
DESCRIPTION:Lehrveranstaltung 627583 17W, Gruppe 0\nTitel: Praktische Unterrichtsplanung und -gestaltung 2, Kurs 3\nOrt: 60708 SR\n\nhttps://lfuonline.uibk.ac.at/public/lfuonline_lv.details?sem_id_in=17W&lvnr_id_in=627583\n
CLASS:PUBLIC
DTSTART:20180108T124500Z
DTEND:20180108T141500Z
DTSTAMP:20260421T031127Z
LOCATION:60708 SR
END:VEVENT
BEGIN:VEVENT
UID:17W_627583_3035117@uibk.ac.at
ORGANIZER;CN="LFU:online Universität Innsbruck":MAILTO:Uni-Innsbruck-noreply@uibk.ac.at
SUMMARY:Praktische Unterrichtsplanung und -gestaltung 2, Kurs 3 (LV 627583-0 17W)
DESCRIPTION:Lehrveranstaltung 627583 17W, Gruppe 0\nTitel: Praktische Unterrichtsplanung und -gestaltung 2, Kurs 3\nOrt: 60708 SR\n\nhttps://lfuonline.uibk.ac.at/public/lfuonline_lv.details?sem_id_in=17W&lvnr_id_in=627583\n
CLASS:PUBLIC
DTSTART:20180115T124500Z
DTEND:20180115T141500Z
DTSTAMP:20260421T031127Z
LOCATION:60708 SR
END:VEVENT
BEGIN:VEVENT
UID:17W_627583_3035118@uibk.ac.at
ORGANIZER;CN="LFU:online Universität Innsbruck":MAILTO:Uni-Innsbruck-noreply@uibk.ac.at
SUMMARY:Praktische Unterrichtsplanung und -gestaltung 2, Kurs 3 (LV 627583-0 17W)
DESCRIPTION:Lehrveranstaltung 627583 17W, Gruppe 0\nTitel: Praktische Unterrichtsplanung und -gestaltung 2, Kurs 3\nOrt: 60708 SR\n\nhttps://lfuonline.uibk.ac.at/public/lfuonline_lv.details?sem_id_in=17W&lvnr_id_in=627583\n
CLASS:PUBLIC
DTSTART:20180122T124500Z
DTEND:20180122T141500Z
DTSTAMP:20260421T031127Z
LOCATION:60708 SR
END:VEVENT
BEGIN:VEVENT
UID:17W_627583_3035119@uibk.ac.at
ORGANIZER;CN="LFU:online Universität Innsbruck":MAILTO:Uni-Innsbruck-noreply@uibk.ac.at
SUMMARY:Praktische Unterrichtsplanung und -gestaltung 2, Kurs 3 (LV 627583-0 17W)
DESCRIPTION:Lehrveranstaltung 627583 17W, Gruppe 0\nTitel: Praktische Unterrichtsplanung und -gestaltung 2, Kurs 3\nOrt: 60708 SR\n\nhttps://lfuonline.uibk.ac.at/public/lfuonline_lv.details?sem_id_in=17W&lvnr_id_in=627583\n
CLASS:PUBLIC
DTSTART:20180129T124500Z
DTEND:20180129T141500Z
DTSTAMP:20260421T031127Z
LOCATION:60708 SR
END:VEVENT
END:VCALENDAR