BEGIN:VCALENDAR
VERSION:2.0
PRODID:-//Universität Innsbruck//LFU:online//DE
METHOD:PUBLISH
BEGIN:VEVENT
UID:17W_627584_3035142@uibk.ac.at
ORGANIZER;CN="LFU:online Universität Innsbruck":MAILTO:Uni-Innsbruck-noreply@uibk.ac.at
SUMMARY:Praktische Unterrichtsplanung und -gestaltung 2, Kurs 4 (LV 627584-0 17W)
DESCRIPTION:Lehrveranstaltung 627584 17W, Gruppe 0\nTitel: Praktische Unterrichtsplanung und -gestaltung 2, Kurs 4\nOrt: Besprechungsraum Geographie\n\nhttps://lfuonline.uibk.ac.at/public/lfuonline_lv.details?sem_id_in=17W&lvnr_id_in=627584\n
CLASS:PUBLIC
DTSTART:20171005T063000Z
DTEND:20171005T080000Z
DTSTAMP:20260421T031228Z
LOCATION:Besprechungsraum Geographie
END:VEVENT
BEGIN:VEVENT
UID:17W_627584_3035143@uibk.ac.at
ORGANIZER;CN="LFU:online Universität Innsbruck":MAILTO:Uni-Innsbruck-noreply@uibk.ac.at
SUMMARY:Praktische Unterrichtsplanung und -gestaltung 2, Kurs 4 (LV 627584-0 17W)
DESCRIPTION:Lehrveranstaltung 627584 17W, Gruppe 0\nTitel: Praktische Unterrichtsplanung und -gestaltung 2, Kurs 4\nOrt: Besprechungsraum Geographie\n\nhttps://lfuonline.uibk.ac.at/public/lfuonline_lv.details?sem_id_in=17W&lvnr_id_in=627584\n
CLASS:PUBLIC
DTSTART:20171012T063000Z
DTEND:20171012T080000Z
DTSTAMP:20260421T031228Z
LOCATION:Besprechungsraum Geographie
END:VEVENT
BEGIN:VEVENT
UID:17W_627584_3035144@uibk.ac.at
ORGANIZER;CN="LFU:online Universität Innsbruck":MAILTO:Uni-Innsbruck-noreply@uibk.ac.at
SUMMARY:Praktische Unterrichtsplanung und -gestaltung 2, Kurs 4 (LV 627584-0 17W)
DESCRIPTION:Lehrveranstaltung 627584 17W, Gruppe 0\nTitel: Praktische Unterrichtsplanung und -gestaltung 2, Kurs 4\nOrt: Besprechungsraum Geographie\n\nhttps://lfuonline.uibk.ac.at/public/lfuonline_lv.details?sem_id_in=17W&lvnr_id_in=627584\n
CLASS:PUBLIC
DTSTART:20171019T063000Z
DTEND:20171019T080000Z
DTSTAMP:20260421T031228Z
LOCATION:Besprechungsraum Geographie
END:VEVENT
BEGIN:VEVENT
UID:17W_627584_3035145@uibk.ac.at
ORGANIZER;CN="LFU:online Universität Innsbruck":MAILTO:Uni-Innsbruck-noreply@uibk.ac.at
SUMMARY:Praktische Unterrichtsplanung und -gestaltung 2, Kurs 4 (LV 627584-0 17W)
DESCRIPTION:Lehrveranstaltung 627584 17W, Gruppe 0\nTitel: Praktische Unterrichtsplanung und -gestaltung 2, Kurs 4\nOrt: Besprechungsraum Geographie\n\nhttps://lfuonline.uibk.ac.at/public/lfuonline_lv.details?sem_id_in=17W&lvnr_id_in=627584\n
CLASS:PUBLIC
DTSTART:20171109T073000Z
DTEND:20171109T090000Z
DTSTAMP:20260421T031228Z
LOCATION:Besprechungsraum Geographie
END:VEVENT
BEGIN:VEVENT
UID:17W_627584_3035146@uibk.ac.at
ORGANIZER;CN="LFU:online Universität Innsbruck":MAILTO:Uni-Innsbruck-noreply@uibk.ac.at
SUMMARY:Praktische Unterrichtsplanung und -gestaltung 2, Kurs 4 (LV 627584-0 17W)
DESCRIPTION:Lehrveranstaltung 627584 17W, Gruppe 0\nTitel: Praktische Unterrichtsplanung und -gestaltung 2, Kurs 4\nOrt: Besprechungsraum Geographie\n\nhttps://lfuonline.uibk.ac.at/public/lfuonline_lv.details?sem_id_in=17W&lvnr_id_in=627584\n
CLASS:PUBLIC
DTSTART:20171116T073000Z
DTEND:20171116T090000Z
DTSTAMP:20260421T031228Z
LOCATION:Besprechungsraum Geographie
END:VEVENT
BEGIN:VEVENT
UID:17W_627584_3035147@uibk.ac.at
ORGANIZER;CN="LFU:online Universität Innsbruck":MAILTO:Uni-Innsbruck-noreply@uibk.ac.at
SUMMARY:Praktische Unterrichtsplanung und -gestaltung 2, Kurs 4 (LV 627584-0 17W)
DESCRIPTION:Lehrveranstaltung 627584 17W, Gruppe 0\nTitel: Praktische Unterrichtsplanung und -gestaltung 2, Kurs 4\nOrt: Besprechungsraum Geographie\n\nhttps://lfuonline.uibk.ac.at/public/lfuonline_lv.details?sem_id_in=17W&lvnr_id_in=627584\n
CLASS:PUBLIC
DTSTART:20171123T073000Z
DTEND:20171123T090000Z
DTSTAMP:20260421T031228Z
LOCATION:Besprechungsraum Geographie
END:VEVENT
BEGIN:VEVENT
UID:17W_627584_3035148@uibk.ac.at
ORGANIZER;CN="LFU:online Universität Innsbruck":MAILTO:Uni-Innsbruck-noreply@uibk.ac.at
SUMMARY:Praktische Unterrichtsplanung und -gestaltung 2, Kurs 4 (LV 627584-0 17W)
DESCRIPTION:Lehrveranstaltung 627584 17W, Gruppe 0\nTitel: Praktische Unterrichtsplanung und -gestaltung 2, Kurs 4\nOrt: Besprechungsraum Geographie\n\nhttps://lfuonline.uibk.ac.at/public/lfuonline_lv.details?sem_id_in=17W&lvnr_id_in=627584\n
CLASS:PUBLIC
DTSTART:20171130T073000Z
DTEND:20171130T090000Z
DTSTAMP:20260421T031228Z
LOCATION:Besprechungsraum Geographie
END:VEVENT
BEGIN:VEVENT
UID:17W_627584_3035149@uibk.ac.at
ORGANIZER;CN="LFU:online Universität Innsbruck":MAILTO:Uni-Innsbruck-noreply@uibk.ac.at
SUMMARY:Praktische Unterrichtsplanung und -gestaltung 2, Kurs 4 (LV 627584-0 17W)
DESCRIPTION:Lehrveranstaltung 627584 17W, Gruppe 0\nTitel: Praktische Unterrichtsplanung und -gestaltung 2, Kurs 4\nOrt: Besprechungsraum Geographie\n\nhttps://lfuonline.uibk.ac.at/public/lfuonline_lv.details?sem_id_in=17W&lvnr_id_in=627584\n
CLASS:PUBLIC
DTSTART:20171207T073000Z
DTEND:20171207T090000Z
DTSTAMP:20260421T031228Z
LOCATION:Besprechungsraum Geographie
END:VEVENT
BEGIN:VEVENT
UID:17W_627584_3098972@uibk.ac.at
ORGANIZER;CN="LFU:online Universität Innsbruck":MAILTO:Uni-Innsbruck-noreply@uibk.ac.at
SUMMARY:Praktische Unterrichtsplanung und -gestaltung 2, Kurs 4 (LV 627584-0 17W)
DESCRIPTION:Lehrveranstaltung 627584 17W, Gruppe 0\nTitel: Praktische Unterrichtsplanung und -gestaltung 2, Kurs 4\nOrt: 60819 SR\n\nhttps://lfuonline.uibk.ac.at/public/lfuonline_lv.details?sem_id_in=17W&lvnr_id_in=627584\n
CLASS:PUBLIC
DTSTART:20171214T073000Z
DTEND:20171214T090000Z
DTSTAMP:20260421T031228Z
LOCATION:60819 SR
END:VEVENT
BEGIN:VEVENT
UID:17W_627584_3035151@uibk.ac.at
ORGANIZER;CN="LFU:online Universität Innsbruck":MAILTO:Uni-Innsbruck-noreply@uibk.ac.at
SUMMARY:Praktische Unterrichtsplanung und -gestaltung 2, Kurs 4 (LV 627584-0 17W)
DESCRIPTION:Lehrveranstaltung 627584 17W, Gruppe 0\nTitel: Praktische Unterrichtsplanung und -gestaltung 2, Kurs 4\nOrt: Besprechungsraum Geographie\n\nhttps://lfuonline.uibk.ac.at/public/lfuonline_lv.details?sem_id_in=17W&lvnr_id_in=627584\n
CLASS:PUBLIC
DTSTART:20180111T073000Z
DTEND:20180111T090000Z
DTSTAMP:20260421T031228Z
LOCATION:Besprechungsraum Geographie
END:VEVENT
BEGIN:VEVENT
UID:17W_627584_3084729@uibk.ac.at
ORGANIZER;CN="LFU:online Universität Innsbruck":MAILTO:Uni-Innsbruck-noreply@uibk.ac.at
SUMMARY:Praktische Unterrichtsplanung und -gestaltung 2, Kurs 4 (LV 627584-0 17W)
DESCRIPTION:Lehrveranstaltung 627584 17W, Gruppe 0\nTitel: Praktische Unterrichtsplanung und -gestaltung 2, Kurs 4\nOrt: Container 2\n\nhttps://lfuonline.uibk.ac.at/public/lfuonline_lv.details?sem_id_in=17W&lvnr_id_in=627584\n
CLASS:PUBLIC
DTSTART:20180118T073000Z
DTEND:20180118T090000Z
DTSTAMP:20260421T031228Z
LOCATION:Container 2
COMMENT:Ausweichtermin Bachelorseminar Geographie
END:VEVENT
BEGIN:VEVENT
UID:17W_627584_3035153@uibk.ac.at
ORGANIZER;CN="LFU:online Universität Innsbruck":MAILTO:Uni-Innsbruck-noreply@uibk.ac.at
SUMMARY:Praktische Unterrichtsplanung und -gestaltung 2, Kurs 4 (LV 627584-0 17W)
DESCRIPTION:Lehrveranstaltung 627584 17W, Gruppe 0\nTitel: Praktische Unterrichtsplanung und -gestaltung 2, Kurs 4\nOrt: Besprechungsraum Geographie\n\nhttps://lfuonline.uibk.ac.at/public/lfuonline_lv.details?sem_id_in=17W&lvnr_id_in=627584\n
CLASS:PUBLIC
DTSTART:20180125T073000Z
DTEND:20180125T090000Z
DTSTAMP:20260421T031228Z
LOCATION:Besprechungsraum Geographie
END:VEVENT
BEGIN:VEVENT
UID:17W_627584_3035154@uibk.ac.at
ORGANIZER;CN="LFU:online Universität Innsbruck":MAILTO:Uni-Innsbruck-noreply@uibk.ac.at
SUMMARY:Praktische Unterrichtsplanung und -gestaltung 2, Kurs 4 (LV 627584-0 17W)
DESCRIPTION:Lehrveranstaltung 627584 17W, Gruppe 0\nTitel: Praktische Unterrichtsplanung und -gestaltung 2, Kurs 4\nOrt: Besprechungsraum Geographie\n\nhttps://lfuonline.uibk.ac.at/public/lfuonline_lv.details?sem_id_in=17W&lvnr_id_in=627584\n
CLASS:PUBLIC
DTSTART:20180201T073000Z
DTEND:20180201T090000Z
DTSTAMP:20260421T031228Z
LOCATION:Besprechungsraum Geographie
END:VEVENT
END:VCALENDAR