BEGIN:VCALENDAR
VERSION:2.0
PRODID:-//Universität Innsbruck//LFU:online//DE
METHOD:PUBLISH
BEGIN:VEVENT
UID:14W_640008_2333995@uibk.ac.at
ORGANIZER;CN="LFU:online Universität Innsbruck":MAILTO:Uni-Innsbruck-noreply@uibk.ac.at
SUMMARY:Wissenschaftstheorie "Anything goes": KörperWissen - KörperGeschichte (LV 640008-0 14W)
DESCRIPTION:Lehrveranstaltung 640008 14W, Gruppe 0\nTitel: Wissenschaftstheorie "Anything goes": KörperWissen - KörperGeschichte\nOrt: 52U109 SR\n\nhttps://lfuonline.uibk.ac.at/public/lfuonline_lv.details?sem_id_in=14W&lvnr_id_in=640008\n
CLASS:PUBLIC
DTSTART:20141002T133000Z
DTEND:20141002T150000Z
DTSTAMP:20260425T151618Z
LOCATION:52U109 SR
END:VEVENT
BEGIN:VEVENT
UID:14W_640008_2333996@uibk.ac.at
ORGANIZER;CN="LFU:online Universität Innsbruck":MAILTO:Uni-Innsbruck-noreply@uibk.ac.at
SUMMARY:Wissenschaftstheorie "Anything goes": KörperWissen - KörperGeschichte (LV 640008-0 14W)
DESCRIPTION:Lehrveranstaltung 640008 14W, Gruppe 0\nTitel: Wissenschaftstheorie "Anything goes": KörperWissen - KörperGeschichte\nOrt: 52U109 SR\n\nhttps://lfuonline.uibk.ac.at/public/lfuonline_lv.details?sem_id_in=14W&lvnr_id_in=640008\n
CLASS:PUBLIC
DTSTART:20141009T133000Z
DTEND:20141009T150000Z
DTSTAMP:20260425T151618Z
LOCATION:52U109 SR
END:VEVENT
BEGIN:VEVENT
UID:14W_640008_2333997@uibk.ac.at
ORGANIZER;CN="LFU:online Universität Innsbruck":MAILTO:Uni-Innsbruck-noreply@uibk.ac.at
SUMMARY:Wissenschaftstheorie "Anything goes": KörperWissen - KörperGeschichte (LV 640008-0 14W)
DESCRIPTION:Lehrveranstaltung 640008 14W, Gruppe 0\nTitel: Wissenschaftstheorie "Anything goes": KörperWissen - KörperGeschichte\nOrt: 52U109 SR\n\nhttps://lfuonline.uibk.ac.at/public/lfuonline_lv.details?sem_id_in=14W&lvnr_id_in=640008\n
CLASS:PUBLIC
DTSTART:20141016T133000Z
DTEND:20141016T150000Z
DTSTAMP:20260425T151618Z
LOCATION:52U109 SR
END:VEVENT
BEGIN:VEVENT
UID:14W_640008_2333998@uibk.ac.at
ORGANIZER;CN="LFU:online Universität Innsbruck":MAILTO:Uni-Innsbruck-noreply@uibk.ac.at
SUMMARY:Wissenschaftstheorie "Anything goes": KörperWissen - KörperGeschichte (LV 640008-0 14W)
DESCRIPTION:Lehrveranstaltung 640008 14W, Gruppe 0\nTitel: Wissenschaftstheorie "Anything goes": KörperWissen - KörperGeschichte\nOrt: 52U109 SR\n\nhttps://lfuonline.uibk.ac.at/public/lfuonline_lv.details?sem_id_in=14W&lvnr_id_in=640008\n
CLASS:PUBLIC
DTSTART:20141023T133000Z
DTEND:20141023T150000Z
DTSTAMP:20260425T151618Z
LOCATION:52U109 SR
END:VEVENT
BEGIN:VEVENT
UID:14W_640008_2333999@uibk.ac.at
ORGANIZER;CN="LFU:online Universität Innsbruck":MAILTO:Uni-Innsbruck-noreply@uibk.ac.at
SUMMARY:Wissenschaftstheorie "Anything goes": KörperWissen - KörperGeschichte (LV 640008-0 14W)
DESCRIPTION:Lehrveranstaltung 640008 14W, Gruppe 0\nTitel: Wissenschaftstheorie "Anything goes": KörperWissen - KörperGeschichte\nOrt: 52U109 SR\n\nhttps://lfuonline.uibk.ac.at/public/lfuonline_lv.details?sem_id_in=14W&lvnr_id_in=640008\n
CLASS:PUBLIC
DTSTART:20141030T143000Z
DTEND:20141030T160000Z
DTSTAMP:20260425T151618Z
LOCATION:52U109 SR
END:VEVENT
BEGIN:VEVENT
UID:14W_640008_2334000@uibk.ac.at
ORGANIZER;CN="LFU:online Universität Innsbruck":MAILTO:Uni-Innsbruck-noreply@uibk.ac.at
SUMMARY:Wissenschaftstheorie "Anything goes": KörperWissen - KörperGeschichte (LV 640008-0 14W)
DESCRIPTION:Lehrveranstaltung 640008 14W, Gruppe 0\nTitel: Wissenschaftstheorie "Anything goes": KörperWissen - KörperGeschichte\nOrt: 52U109 SR\n\nhttps://lfuonline.uibk.ac.at/public/lfuonline_lv.details?sem_id_in=14W&lvnr_id_in=640008\n
CLASS:PUBLIC
DTSTART:20141106T143000Z
DTEND:20141106T160000Z
DTSTAMP:20260425T151618Z
LOCATION:52U109 SR
END:VEVENT
BEGIN:VEVENT
UID:14W_640008_2334001@uibk.ac.at
ORGANIZER;CN="LFU:online Universität Innsbruck":MAILTO:Uni-Innsbruck-noreply@uibk.ac.at
SUMMARY:Wissenschaftstheorie "Anything goes": KörperWissen - KörperGeschichte (LV 640008-0 14W)
DESCRIPTION:Lehrveranstaltung 640008 14W, Gruppe 0\nTitel: Wissenschaftstheorie "Anything goes": KörperWissen - KörperGeschichte\nOrt: 52U109 SR\n\nhttps://lfuonline.uibk.ac.at/public/lfuonline_lv.details?sem_id_in=14W&lvnr_id_in=640008\n
CLASS:PUBLIC
DTSTART:20141113T143000Z
DTEND:20141113T160000Z
DTSTAMP:20260425T151618Z
LOCATION:52U109 SR
END:VEVENT
BEGIN:VEVENT
UID:14W_640008_2334002@uibk.ac.at
ORGANIZER;CN="LFU:online Universität Innsbruck":MAILTO:Uni-Innsbruck-noreply@uibk.ac.at
SUMMARY:Wissenschaftstheorie "Anything goes": KörperWissen - KörperGeschichte (LV 640008-0 14W)
DESCRIPTION:Lehrveranstaltung 640008 14W, Gruppe 0\nTitel: Wissenschaftstheorie "Anything goes": KörperWissen - KörperGeschichte\nOrt: 52U109 SR\n\nhttps://lfuonline.uibk.ac.at/public/lfuonline_lv.details?sem_id_in=14W&lvnr_id_in=640008\n
CLASS:PUBLIC
DTSTART:20141120T143000Z
DTEND:20141120T160000Z
DTSTAMP:20260425T151618Z
LOCATION:52U109 SR
END:VEVENT
BEGIN:VEVENT
UID:14W_640008_2334003@uibk.ac.at
ORGANIZER;CN="LFU:online Universität Innsbruck":MAILTO:Uni-Innsbruck-noreply@uibk.ac.at
SUMMARY:Wissenschaftstheorie "Anything goes": KörperWissen - KörperGeschichte (LV 640008-0 14W)
DESCRIPTION:Lehrveranstaltung 640008 14W, Gruppe 0\nTitel: Wissenschaftstheorie "Anything goes": KörperWissen - KörperGeschichte\nOrt: 52U109 SR\n\nhttps://lfuonline.uibk.ac.at/public/lfuonline_lv.details?sem_id_in=14W&lvnr_id_in=640008\n
CLASS:PUBLIC
DTSTART:20141127T143000Z
DTEND:20141127T160000Z
DTSTAMP:20260425T151618Z
LOCATION:52U109 SR
END:VEVENT
BEGIN:VEVENT
UID:14W_640008_2334004@uibk.ac.at
ORGANIZER;CN="LFU:online Universität Innsbruck":MAILTO:Uni-Innsbruck-noreply@uibk.ac.at
SUMMARY:Wissenschaftstheorie "Anything goes": KörperWissen - KörperGeschichte (LV 640008-0 14W)
DESCRIPTION:Lehrveranstaltung 640008 14W, Gruppe 0\nTitel: Wissenschaftstheorie "Anything goes": KörperWissen - KörperGeschichte\nOrt: 52U109 SR\n\nhttps://lfuonline.uibk.ac.at/public/lfuonline_lv.details?sem_id_in=14W&lvnr_id_in=640008\n
CLASS:PUBLIC
DTSTART:20141204T143000Z
DTEND:20141204T160000Z
DTSTAMP:20260425T151618Z
LOCATION:52U109 SR
END:VEVENT
BEGIN:VEVENT
UID:14W_640008_2334005@uibk.ac.at
ORGANIZER;CN="LFU:online Universität Innsbruck":MAILTO:Uni-Innsbruck-noreply@uibk.ac.at
SUMMARY:Wissenschaftstheorie "Anything goes": KörperWissen - KörperGeschichte (LV 640008-0 14W)
DESCRIPTION:Lehrveranstaltung 640008 14W, Gruppe 0\nTitel: Wissenschaftstheorie "Anything goes": KörperWissen - KörperGeschichte\nOrt: 52U109 SR\n\nhttps://lfuonline.uibk.ac.at/public/lfuonline_lv.details?sem_id_in=14W&lvnr_id_in=640008\n
CLASS:PUBLIC
DTSTART:20141211T143000Z
DTEND:20141211T160000Z
DTSTAMP:20260425T151618Z
LOCATION:52U109 SR
END:VEVENT
BEGIN:VEVENT
UID:14W_640008_2334006@uibk.ac.at
ORGANIZER;CN="LFU:online Universität Innsbruck":MAILTO:Uni-Innsbruck-noreply@uibk.ac.at
SUMMARY:Wissenschaftstheorie "Anything goes": KörperWissen - KörperGeschichte (LV 640008-0 14W)
DESCRIPTION:Lehrveranstaltung 640008 14W, Gruppe 0\nTitel: Wissenschaftstheorie "Anything goes": KörperWissen - KörperGeschichte\nOrt: 52U109 SR\n\nhttps://lfuonline.uibk.ac.at/public/lfuonline_lv.details?sem_id_in=14W&lvnr_id_in=640008\n
CLASS:PUBLIC
DTSTART:20150108T143000Z
DTEND:20150108T160000Z
DTSTAMP:20260425T151618Z
LOCATION:52U109 SR
END:VEVENT
BEGIN:VEVENT
UID:14W_640008_2334007@uibk.ac.at
ORGANIZER;CN="LFU:online Universität Innsbruck":MAILTO:Uni-Innsbruck-noreply@uibk.ac.at
SUMMARY:Wissenschaftstheorie "Anything goes": KörperWissen - KörperGeschichte (LV 640008-0 14W)
DESCRIPTION:Lehrveranstaltung 640008 14W, Gruppe 0\nTitel: Wissenschaftstheorie "Anything goes": KörperWissen - KörperGeschichte\nOrt: 52U109 SR\n\nhttps://lfuonline.uibk.ac.at/public/lfuonline_lv.details?sem_id_in=14W&lvnr_id_in=640008\n
CLASS:PUBLIC
DTSTART:20150115T143000Z
DTEND:20150115T160000Z
DTSTAMP:20260425T151618Z
LOCATION:52U109 SR
END:VEVENT
BEGIN:VEVENT
UID:14W_640008_2334008@uibk.ac.at
ORGANIZER;CN="LFU:online Universität Innsbruck":MAILTO:Uni-Innsbruck-noreply@uibk.ac.at
SUMMARY:Wissenschaftstheorie "Anything goes": KörperWissen - KörperGeschichte (LV 640008-0 14W)
DESCRIPTION:Lehrveranstaltung 640008 14W, Gruppe 0\nTitel: Wissenschaftstheorie "Anything goes": KörperWissen - KörperGeschichte\nOrt: 52U109 SR\n\nhttps://lfuonline.uibk.ac.at/public/lfuonline_lv.details?sem_id_in=14W&lvnr_id_in=640008\n
CLASS:PUBLIC
DTSTART:20150122T143000Z
DTEND:20150122T160000Z
DTSTAMP:20260425T151618Z
LOCATION:52U109 SR
END:VEVENT
BEGIN:VEVENT
UID:14W_640008_2334009@uibk.ac.at
ORGANIZER;CN="LFU:online Universität Innsbruck":MAILTO:Uni-Innsbruck-noreply@uibk.ac.at
SUMMARY:Wissenschaftstheorie "Anything goes": KörperWissen - KörperGeschichte (LV 640008-0 14W)
DESCRIPTION:Lehrveranstaltung 640008 14W, Gruppe 0\nTitel: Wissenschaftstheorie "Anything goes": KörperWissen - KörperGeschichte\nOrt: 52U109 SR\n\nhttps://lfuonline.uibk.ac.at/public/lfuonline_lv.details?sem_id_in=14W&lvnr_id_in=640008\n
CLASS:PUBLIC
DTSTART:20150129T143000Z
DTEND:20150129T160000Z
DTSTAMP:20260425T151618Z
LOCATION:52U109 SR
END:VEVENT
END:VCALENDAR