BEGIN:VCALENDAR
VERSION:2.0
PRODID:-//Universität Innsbruck//LFU:online//DE
METHOD:PUBLISH
BEGIN:VEVENT
UID:11W_640010_1620672@uibk.ac.at
ORGANIZER;CN="LFU:online Universität Innsbruck":MAILTO:Uni-Innsbruck-noreply@uibk.ac.at
SUMMARY:Alte Geschichte I: Was ist ein Volk (LV 640010-0 11W)
DESCRIPTION:Lehrveranstaltung 640010 11W, Gruppe 0\nTitel: Alte Geschichte I: Was ist ein Volk\nOrt: Atrium - SR 2\n\nhttps://lfuonline.uibk.ac.at/public/lfuonline_lv.details?sem_id_in=11W&lvnr_id_in=640010\n
CLASS:PUBLIC
DTSTART:20111011T130000Z
DTEND:20111011T143000Z
DTSTAMP:20260419T121511Z
LOCATION:Atrium - SR 2
END:VEVENT
BEGIN:VEVENT
UID:11W_640010_1620673@uibk.ac.at
ORGANIZER;CN="LFU:online Universität Innsbruck":MAILTO:Uni-Innsbruck-noreply@uibk.ac.at
SUMMARY:Alte Geschichte I: Was ist ein Volk (LV 640010-0 11W)
DESCRIPTION:Lehrveranstaltung 640010 11W, Gruppe 0\nTitel: Alte Geschichte I: Was ist ein Volk\nOrt: Atrium - SR 2\n\nhttps://lfuonline.uibk.ac.at/public/lfuonline_lv.details?sem_id_in=11W&lvnr_id_in=640010\n
CLASS:PUBLIC
DTSTART:20111018T130000Z
DTEND:20111018T143000Z
DTSTAMP:20260419T121511Z
LOCATION:Atrium - SR 2
END:VEVENT
BEGIN:VEVENT
UID:11W_640010_1620674@uibk.ac.at
ORGANIZER;CN="LFU:online Universität Innsbruck":MAILTO:Uni-Innsbruck-noreply@uibk.ac.at
SUMMARY:Alte Geschichte I: Was ist ein Volk (LV 640010-0 11W)
DESCRIPTION:Lehrveranstaltung 640010 11W, Gruppe 0\nTitel: Alte Geschichte I: Was ist ein Volk\nOrt: Atrium - SR 2\n\nhttps://lfuonline.uibk.ac.at/public/lfuonline_lv.details?sem_id_in=11W&lvnr_id_in=640010\n
CLASS:PUBLIC
DTSTART:20111025T130000Z
DTEND:20111025T143000Z
DTSTAMP:20260419T121511Z
LOCATION:Atrium - SR 2
END:VEVENT
BEGIN:VEVENT
UID:11W_640010_1620675@uibk.ac.at
ORGANIZER;CN="LFU:online Universität Innsbruck":MAILTO:Uni-Innsbruck-noreply@uibk.ac.at
SUMMARY:Alte Geschichte I: Was ist ein Volk (LV 640010-0 11W)
DESCRIPTION:Lehrveranstaltung 640010 11W, Gruppe 0\nTitel: Alte Geschichte I: Was ist ein Volk\nOrt: Atrium - SR 2\n\nhttps://lfuonline.uibk.ac.at/public/lfuonline_lv.details?sem_id_in=11W&lvnr_id_in=640010\n
CLASS:PUBLIC
DTSTART:20111108T140000Z
DTEND:20111108T153000Z
DTSTAMP:20260419T121511Z
LOCATION:Atrium - SR 2
END:VEVENT
BEGIN:VEVENT
UID:11W_640010_1620676@uibk.ac.at
ORGANIZER;CN="LFU:online Universität Innsbruck":MAILTO:Uni-Innsbruck-noreply@uibk.ac.at
SUMMARY:Alte Geschichte I: Was ist ein Volk (LV 640010-0 11W)
DESCRIPTION:Lehrveranstaltung 640010 11W, Gruppe 0\nTitel: Alte Geschichte I: Was ist ein Volk\nOrt: Atrium - SR 2\n\nhttps://lfuonline.uibk.ac.at/public/lfuonline_lv.details?sem_id_in=11W&lvnr_id_in=640010\n
CLASS:PUBLIC
DTSTART:20111115T140000Z
DTEND:20111115T153000Z
DTSTAMP:20260419T121511Z
LOCATION:Atrium - SR 2
END:VEVENT
BEGIN:VEVENT
UID:11W_640010_1620677@uibk.ac.at
ORGANIZER;CN="LFU:online Universität Innsbruck":MAILTO:Uni-Innsbruck-noreply@uibk.ac.at
SUMMARY:Alte Geschichte I: Was ist ein Volk (LV 640010-0 11W)
DESCRIPTION:Lehrveranstaltung 640010 11W, Gruppe 0\nTitel: Alte Geschichte I: Was ist ein Volk\nOrt: Atrium - SR 2\n\nhttps://lfuonline.uibk.ac.at/public/lfuonline_lv.details?sem_id_in=11W&lvnr_id_in=640010\n
CLASS:PUBLIC
DTSTART:20111122T140000Z
DTEND:20111122T153000Z
DTSTAMP:20260419T121511Z
LOCATION:Atrium - SR 2
END:VEVENT
BEGIN:VEVENT
UID:11W_640010_1620678@uibk.ac.at
ORGANIZER;CN="LFU:online Universität Innsbruck":MAILTO:Uni-Innsbruck-noreply@uibk.ac.at
SUMMARY:Alte Geschichte I: Was ist ein Volk (LV 640010-0 11W)
DESCRIPTION:Lehrveranstaltung 640010 11W, Gruppe 0\nTitel: Alte Geschichte I: Was ist ein Volk\nOrt: Atrium - SR 2\n\nhttps://lfuonline.uibk.ac.at/public/lfuonline_lv.details?sem_id_in=11W&lvnr_id_in=640010\n
CLASS:PUBLIC
DTSTART:20111129T140000Z
DTEND:20111129T153000Z
DTSTAMP:20260419T121511Z
LOCATION:Atrium - SR 2
END:VEVENT
BEGIN:VEVENT
UID:11W_640010_1620679@uibk.ac.at
ORGANIZER;CN="LFU:online Universität Innsbruck":MAILTO:Uni-Innsbruck-noreply@uibk.ac.at
SUMMARY:Alte Geschichte I: Was ist ein Volk (LV 640010-0 11W)
DESCRIPTION:Lehrveranstaltung 640010 11W, Gruppe 0\nTitel: Alte Geschichte I: Was ist ein Volk\nOrt: Atrium - SR 2\n\nhttps://lfuonline.uibk.ac.at/public/lfuonline_lv.details?sem_id_in=11W&lvnr_id_in=640010\n
CLASS:PUBLIC
DTSTART:20111206T140000Z
DTEND:20111206T153000Z
DTSTAMP:20260419T121511Z
LOCATION:Atrium - SR 2
END:VEVENT
BEGIN:VEVENT
UID:11W_640010_1620680@uibk.ac.at
ORGANIZER;CN="LFU:online Universität Innsbruck":MAILTO:Uni-Innsbruck-noreply@uibk.ac.at
SUMMARY:Alte Geschichte I: Was ist ein Volk (LV 640010-0 11W)
DESCRIPTION:Lehrveranstaltung 640010 11W, Gruppe 0\nTitel: Alte Geschichte I: Was ist ein Volk\nOrt: Atrium - SR 2\n\nhttps://lfuonline.uibk.ac.at/public/lfuonline_lv.details?sem_id_in=11W&lvnr_id_in=640010\n
CLASS:PUBLIC
DTSTART:20111213T140000Z
DTEND:20111213T153000Z
DTSTAMP:20260419T121511Z
LOCATION:Atrium - SR 2
END:VEVENT
BEGIN:VEVENT
UID:11W_640010_1620681@uibk.ac.at
ORGANIZER;CN="LFU:online Universität Innsbruck":MAILTO:Uni-Innsbruck-noreply@uibk.ac.at
SUMMARY:Alte Geschichte I: Was ist ein Volk (LV 640010-0 11W)
DESCRIPTION:Lehrveranstaltung 640010 11W, Gruppe 0\nTitel: Alte Geschichte I: Was ist ein Volk\nOrt: Atrium - SR 2\n\nhttps://lfuonline.uibk.ac.at/public/lfuonline_lv.details?sem_id_in=11W&lvnr_id_in=640010\n
CLASS:PUBLIC
DTSTART:20120110T140000Z
DTEND:20120110T153000Z
DTSTAMP:20260419T121511Z
LOCATION:Atrium - SR 2
END:VEVENT
BEGIN:VEVENT
UID:11W_640010_1620682@uibk.ac.at
ORGANIZER;CN="LFU:online Universität Innsbruck":MAILTO:Uni-Innsbruck-noreply@uibk.ac.at
SUMMARY:Alte Geschichte I: Was ist ein Volk (LV 640010-0 11W)
DESCRIPTION:Lehrveranstaltung 640010 11W, Gruppe 0\nTitel: Alte Geschichte I: Was ist ein Volk\nOrt: Atrium - SR 2\n\nhttps://lfuonline.uibk.ac.at/public/lfuonline_lv.details?sem_id_in=11W&lvnr_id_in=640010\n
CLASS:PUBLIC
DTSTART:20120117T140000Z
DTEND:20120117T153000Z
DTSTAMP:20260419T121511Z
LOCATION:Atrium - SR 2
END:VEVENT
BEGIN:VEVENT
UID:11W_640010_1620683@uibk.ac.at
ORGANIZER;CN="LFU:online Universität Innsbruck":MAILTO:Uni-Innsbruck-noreply@uibk.ac.at
SUMMARY:Alte Geschichte I: Was ist ein Volk (LV 640010-0 11W)
DESCRIPTION:Lehrveranstaltung 640010 11W, Gruppe 0\nTitel: Alte Geschichte I: Was ist ein Volk\nOrt: Atrium - SR 2\n\nhttps://lfuonline.uibk.ac.at/public/lfuonline_lv.details?sem_id_in=11W&lvnr_id_in=640010\n
CLASS:PUBLIC
DTSTART:20120124T140000Z
DTEND:20120124T153000Z
DTSTAMP:20260419T121511Z
LOCATION:Atrium - SR 2
END:VEVENT
BEGIN:VEVENT
UID:11W_640010_1620684@uibk.ac.at
ORGANIZER;CN="LFU:online Universität Innsbruck":MAILTO:Uni-Innsbruck-noreply@uibk.ac.at
SUMMARY:Alte Geschichte I: Was ist ein Volk (LV 640010-0 11W)
DESCRIPTION:Lehrveranstaltung 640010 11W, Gruppe 0\nTitel: Alte Geschichte I: Was ist ein Volk\nOrt: Atrium - SR 2\n\nhttps://lfuonline.uibk.ac.at/public/lfuonline_lv.details?sem_id_in=11W&lvnr_id_in=640010\n
CLASS:PUBLIC
DTSTART:20120131T140000Z
DTEND:20120131T153000Z
DTSTAMP:20260419T121511Z
LOCATION:Atrium - SR 2
END:VEVENT
END:VCALENDAR