BEGIN:VCALENDAR
VERSION:2.0
PRODID:-//Universität Innsbruck//LFU:online//DE
METHOD:PUBLISH
BEGIN:VEVENT
UID:22S_640027_4007980@uibk.ac.at
ORGANIZER;CN="LFU:online Universität Innsbruck":MAILTO:Uni-Innsbruck-noreply@uibk.ac.at
SUMMARY:SE Alte Geschichte II: Quellen und Forschung zur Römischen Republik (LV 640027-0 22S)
DESCRIPTION:Lehrveranstaltung 640027 22S, Gruppe 0\nTitel: SE Alte Geschichte II: Quellen und Forschung zur Römischen Republik\nOrt: Atrium - SR 4\n\nhttps://lfuonline.uibk.ac.at/public/lfuonline_lv.details?sem_id_in=22S&lvnr_id_in=640027\n
CLASS:PUBLIC
DTSTART:20220310T080000Z
DTEND:20220310T093000Z
DTSTAMP:20260425T210644Z
LOCATION:Atrium - SR 4
COMMENT:ENTFÄLLT
END:VEVENT
BEGIN:VEVENT
UID:22S_640027_4007981@uibk.ac.at
ORGANIZER;CN="LFU:online Universität Innsbruck":MAILTO:Uni-Innsbruck-noreply@uibk.ac.at
SUMMARY:SE Alte Geschichte II: Quellen und Forschung zur Römischen Republik (LV 640027-0 22S)
DESCRIPTION:Lehrveranstaltung 640027 22S, Gruppe 0\nTitel: SE Alte Geschichte II: Quellen und Forschung zur Römischen Republik\nOrt: Atrium - SR 4\n\nhttps://lfuonline.uibk.ac.at/public/lfuonline_lv.details?sem_id_in=22S&lvnr_id_in=640027\n
CLASS:PUBLIC
DTSTART:20220317T080000Z
DTEND:20220317T093000Z
DTSTAMP:20260425T210644Z
LOCATION:Atrium - SR 4
END:VEVENT
BEGIN:VEVENT
UID:22S_640027_4007982@uibk.ac.at
ORGANIZER;CN="LFU:online Universität Innsbruck":MAILTO:Uni-Innsbruck-noreply@uibk.ac.at
SUMMARY:SE Alte Geschichte II: Quellen und Forschung zur Römischen Republik (LV 640027-0 22S)
DESCRIPTION:Lehrveranstaltung 640027 22S, Gruppe 0\nTitel: SE Alte Geschichte II: Quellen und Forschung zur Römischen Republik\nOrt: Atrium - SR 4\n\nhttps://lfuonline.uibk.ac.at/public/lfuonline_lv.details?sem_id_in=22S&lvnr_id_in=640027\n
CLASS:PUBLIC
DTSTART:20220324T080000Z
DTEND:20220324T093000Z
DTSTAMP:20260425T210644Z
LOCATION:Atrium - SR 4
END:VEVENT
BEGIN:VEVENT
UID:22S_640027_4007983@uibk.ac.at
ORGANIZER;CN="LFU:online Universität Innsbruck":MAILTO:Uni-Innsbruck-noreply@uibk.ac.at
SUMMARY:SE Alte Geschichte II: Quellen und Forschung zur Römischen Republik (LV 640027-0 22S)
DESCRIPTION:Lehrveranstaltung 640027 22S, Gruppe 0\nTitel: SE Alte Geschichte II: Quellen und Forschung zur Römischen Republik\nOrt: Atrium - SR 4\n\nhttps://lfuonline.uibk.ac.at/public/lfuonline_lv.details?sem_id_in=22S&lvnr_id_in=640027\n
CLASS:PUBLIC
DTSTART:20220331T070000Z
DTEND:20220331T083000Z
DTSTAMP:20260425T210644Z
LOCATION:Atrium - SR 4
END:VEVENT
BEGIN:VEVENT
UID:22S_640027_4007984@uibk.ac.at
ORGANIZER;CN="LFU:online Universität Innsbruck":MAILTO:Uni-Innsbruck-noreply@uibk.ac.at
SUMMARY:SE Alte Geschichte II: Quellen und Forschung zur Römischen Republik (LV 640027-0 22S)
DESCRIPTION:Lehrveranstaltung 640027 22S, Gruppe 0\nTitel: SE Alte Geschichte II: Quellen und Forschung zur Römischen Republik\nOrt: Atrium - SR 4\n\nhttps://lfuonline.uibk.ac.at/public/lfuonline_lv.details?sem_id_in=22S&lvnr_id_in=640027\n
CLASS:PUBLIC
DTSTART:20220407T070000Z
DTEND:20220407T083000Z
DTSTAMP:20260425T210644Z
LOCATION:Atrium - SR 4
END:VEVENT
BEGIN:VEVENT
UID:22S_640027_4007985@uibk.ac.at
ORGANIZER;CN="LFU:online Universität Innsbruck":MAILTO:Uni-Innsbruck-noreply@uibk.ac.at
SUMMARY:SE Alte Geschichte II: Quellen und Forschung zur Römischen Republik (LV 640027-0 22S)
DESCRIPTION:Lehrveranstaltung 640027 22S, Gruppe 0\nTitel: SE Alte Geschichte II: Quellen und Forschung zur Römischen Republik\nOrt: Atrium - SR 4\n\nhttps://lfuonline.uibk.ac.at/public/lfuonline_lv.details?sem_id_in=22S&lvnr_id_in=640027\n
CLASS:PUBLIC
DTSTART:20220428T070000Z
DTEND:20220428T083000Z
DTSTAMP:20260425T210644Z
LOCATION:Atrium - SR 4
END:VEVENT
BEGIN:VEVENT
UID:22S_640027_4007986@uibk.ac.at
ORGANIZER;CN="LFU:online Universität Innsbruck":MAILTO:Uni-Innsbruck-noreply@uibk.ac.at
SUMMARY:SE Alte Geschichte II: Quellen und Forschung zur Römischen Republik (LV 640027-0 22S)
DESCRIPTION:Lehrveranstaltung 640027 22S, Gruppe 0\nTitel: SE Alte Geschichte II: Quellen und Forschung zur Römischen Republik\nOrt: Atrium - SR 4\n\nhttps://lfuonline.uibk.ac.at/public/lfuonline_lv.details?sem_id_in=22S&lvnr_id_in=640027\n
CLASS:PUBLIC
DTSTART:20220505T070000Z
DTEND:20220505T083000Z
DTSTAMP:20260425T210644Z
LOCATION:Atrium - SR 4
END:VEVENT
BEGIN:VEVENT
UID:22S_640027_4007987@uibk.ac.at
ORGANIZER;CN="LFU:online Universität Innsbruck":MAILTO:Uni-Innsbruck-noreply@uibk.ac.at
SUMMARY:SE Alte Geschichte II: Quellen und Forschung zur Römischen Republik (LV 640027-0 22S)
DESCRIPTION:Lehrveranstaltung 640027 22S, Gruppe 0\nTitel: SE Alte Geschichte II: Quellen und Forschung zur Römischen Republik\nOrt: Atrium - SR 4\n\nhttps://lfuonline.uibk.ac.at/public/lfuonline_lv.details?sem_id_in=22S&lvnr_id_in=640027\n
CLASS:PUBLIC
DTSTART:20220512T070000Z
DTEND:20220512T083000Z
DTSTAMP:20260425T210644Z
LOCATION:Atrium - SR 4
END:VEVENT
BEGIN:VEVENT
UID:22S_640027_4007988@uibk.ac.at
ORGANIZER;CN="LFU:online Universität Innsbruck":MAILTO:Uni-Innsbruck-noreply@uibk.ac.at
SUMMARY:SE Alte Geschichte II: Quellen und Forschung zur Römischen Republik (LV 640027-0 22S)
DESCRIPTION:Lehrveranstaltung 640027 22S, Gruppe 0\nTitel: SE Alte Geschichte II: Quellen und Forschung zur Römischen Republik\nOrt: Atrium - SR 4\n\nhttps://lfuonline.uibk.ac.at/public/lfuonline_lv.details?sem_id_in=22S&lvnr_id_in=640027\n
CLASS:PUBLIC
DTSTART:20220519T070000Z
DTEND:20220519T083000Z
DTSTAMP:20260425T210644Z
LOCATION:Atrium - SR 4
END:VEVENT
BEGIN:VEVENT
UID:22S_640027_4007989@uibk.ac.at
ORGANIZER;CN="LFU:online Universität Innsbruck":MAILTO:Uni-Innsbruck-noreply@uibk.ac.at
SUMMARY:SE Alte Geschichte II: Quellen und Forschung zur Römischen Republik (LV 640027-0 22S)
DESCRIPTION:Lehrveranstaltung 640027 22S, Gruppe 0\nTitel: SE Alte Geschichte II: Quellen und Forschung zur Römischen Republik\nOrt: Hörsaal 2\n\nhttps://lfuonline.uibk.ac.at/public/lfuonline_lv.details?sem_id_in=22S&lvnr_id_in=640027\n
CLASS:PUBLIC
DTSTART:20220602T063000Z
DTEND:20220602T090000Z
DTSTAMP:20260425T210644Z
LOCATION:Hörsaal 2
END:VEVENT
BEGIN:VEVENT
UID:22S_640027_4007990@uibk.ac.at
ORGANIZER;CN="LFU:online Universität Innsbruck":MAILTO:Uni-Innsbruck-noreply@uibk.ac.at
SUMMARY:SE Alte Geschichte II: Quellen und Forschung zur Römischen Republik (LV 640027-0 22S)
DESCRIPTION:Lehrveranstaltung 640027 22S, Gruppe 0\nTitel: SE Alte Geschichte II: Quellen und Forschung zur Römischen Republik\nOrt: Atrium - SR 4\n\nhttps://lfuonline.uibk.ac.at/public/lfuonline_lv.details?sem_id_in=22S&lvnr_id_in=640027\n
CLASS:PUBLIC
DTSTART:20220609T070000Z
DTEND:20220609T083000Z
DTSTAMP:20260425T210644Z
LOCATION:Atrium - SR 4
END:VEVENT
BEGIN:VEVENT
UID:22S_640027_4007991@uibk.ac.at
ORGANIZER;CN="LFU:online Universität Innsbruck":MAILTO:Uni-Innsbruck-noreply@uibk.ac.at
SUMMARY:SE Alte Geschichte II: Quellen und Forschung zur Römischen Republik (LV 640027-0 22S)
DESCRIPTION:Lehrveranstaltung 640027 22S, Gruppe 0\nTitel: SE Alte Geschichte II: Quellen und Forschung zur Römischen Republik\nOrt: Atrium - SR 4\n\nhttps://lfuonline.uibk.ac.at/public/lfuonline_lv.details?sem_id_in=22S&lvnr_id_in=640027\n
CLASS:PUBLIC
DTSTART:20220623T070000Z
DTEND:20220623T083000Z
DTSTAMP:20260425T210644Z
LOCATION:Atrium - SR 4
END:VEVENT
BEGIN:VEVENT
UID:22S_640027_4007992@uibk.ac.at
ORGANIZER;CN="LFU:online Universität Innsbruck":MAILTO:Uni-Innsbruck-noreply@uibk.ac.at
SUMMARY:SE Alte Geschichte II: Quellen und Forschung zur Römischen Republik (LV 640027-0 22S)
DESCRIPTION:Lehrveranstaltung 640027 22S, Gruppe 0\nTitel: SE Alte Geschichte II: Quellen und Forschung zur Römischen Republik\nOrt: Atrium - SR 4\n\nhttps://lfuonline.uibk.ac.at/public/lfuonline_lv.details?sem_id_in=22S&lvnr_id_in=640027\n
CLASS:PUBLIC
DTSTART:20220630T070000Z
DTEND:20220630T083000Z
DTSTAMP:20260425T210644Z
LOCATION:Atrium - SR 4
END:VEVENT
END:VCALENDAR