BEGIN:VCALENDAR
VERSION:2.0
PRODID:-//Universität Innsbruck//LFU:online//DE
METHOD:PUBLISH
BEGIN:VEVENT
UID:16S_641026_2658412@uibk.ac.at
ORGANIZER;CN="LFU:online Universität Innsbruck":MAILTO:Uni-Innsbruck-noreply@uibk.ac.at
SUMMARY:Sprachkurs: Koreanisch für AnfängerInnen (LV 641026-0 16S)
DESCRIPTION:Lehrveranstaltung 641026 16S, Gruppe 0\nTitel: Sprachkurs: Koreanisch für AnfängerInnen\nOrt: 40432 UR\n\nhttps://lfuonline.uibk.ac.at/public/lfuonline_lv.details?sem_id_in=16S&lvnr_id_in=641026\n
CLASS:PUBLIC
DTSTART:20160307T110000Z
DTEND:20160307T123000Z
DTSTAMP:20260419T182253Z
LOCATION:40432 UR
END:VEVENT
BEGIN:VEVENT
UID:16S_641026_2658413@uibk.ac.at
ORGANIZER;CN="LFU:online Universität Innsbruck":MAILTO:Uni-Innsbruck-noreply@uibk.ac.at
SUMMARY:Sprachkurs: Koreanisch für AnfängerInnen (LV 641026-0 16S)
DESCRIPTION:Lehrveranstaltung 641026 16S, Gruppe 0\nTitel: Sprachkurs: Koreanisch für AnfängerInnen\nOrt: 40432 UR\n\nhttps://lfuonline.uibk.ac.at/public/lfuonline_lv.details?sem_id_in=16S&lvnr_id_in=641026\n
CLASS:PUBLIC
DTSTART:20160314T110000Z
DTEND:20160314T123000Z
DTSTAMP:20260419T182253Z
LOCATION:40432 UR
END:VEVENT
BEGIN:VEVENT
UID:16S_641026_2658414@uibk.ac.at
ORGANIZER;CN="LFU:online Universität Innsbruck":MAILTO:Uni-Innsbruck-noreply@uibk.ac.at
SUMMARY:Sprachkurs: Koreanisch für AnfängerInnen (LV 641026-0 16S)
DESCRIPTION:Lehrveranstaltung 641026 16S, Gruppe 0\nTitel: Sprachkurs: Koreanisch für AnfängerInnen\nOrt: 40432 UR\n\nhttps://lfuonline.uibk.ac.at/public/lfuonline_lv.details?sem_id_in=16S&lvnr_id_in=641026\n
CLASS:PUBLIC
DTSTART:20160404T100000Z
DTEND:20160404T113000Z
DTSTAMP:20260419T182253Z
LOCATION:40432 UR
END:VEVENT
BEGIN:VEVENT
UID:16S_641026_2658415@uibk.ac.at
ORGANIZER;CN="LFU:online Universität Innsbruck":MAILTO:Uni-Innsbruck-noreply@uibk.ac.at
SUMMARY:Sprachkurs: Koreanisch für AnfängerInnen (LV 641026-0 16S)
DESCRIPTION:Lehrveranstaltung 641026 16S, Gruppe 0\nTitel: Sprachkurs: Koreanisch für AnfängerInnen\nOrt: 40432 UR\n\nhttps://lfuonline.uibk.ac.at/public/lfuonline_lv.details?sem_id_in=16S&lvnr_id_in=641026\n
CLASS:PUBLIC
DTSTART:20160411T100000Z
DTEND:20160411T113000Z
DTSTAMP:20260419T182253Z
LOCATION:40432 UR
END:VEVENT
BEGIN:VEVENT
UID:16S_641026_2658416@uibk.ac.at
ORGANIZER;CN="LFU:online Universität Innsbruck":MAILTO:Uni-Innsbruck-noreply@uibk.ac.at
SUMMARY:Sprachkurs: Koreanisch für AnfängerInnen (LV 641026-0 16S)
DESCRIPTION:Lehrveranstaltung 641026 16S, Gruppe 0\nTitel: Sprachkurs: Koreanisch für AnfängerInnen\nOrt: 40432 UR\n\nhttps://lfuonline.uibk.ac.at/public/lfuonline_lv.details?sem_id_in=16S&lvnr_id_in=641026\n
CLASS:PUBLIC
DTSTART:20160418T100000Z
DTEND:20160418T113000Z
DTSTAMP:20260419T182253Z
LOCATION:40432 UR
END:VEVENT
BEGIN:VEVENT
UID:16S_641026_2658417@uibk.ac.at
ORGANIZER;CN="LFU:online Universität Innsbruck":MAILTO:Uni-Innsbruck-noreply@uibk.ac.at
SUMMARY:Sprachkurs: Koreanisch für AnfängerInnen (LV 641026-0 16S)
DESCRIPTION:Lehrveranstaltung 641026 16S, Gruppe 0\nTitel: Sprachkurs: Koreanisch für AnfängerInnen\nOrt: 40432 UR\n\nhttps://lfuonline.uibk.ac.at/public/lfuonline_lv.details?sem_id_in=16S&lvnr_id_in=641026\n
CLASS:PUBLIC
DTSTART:20160425T100000Z
DTEND:20160425T113000Z
DTSTAMP:20260419T182253Z
LOCATION:40432 UR
END:VEVENT
BEGIN:VEVENT
UID:16S_641026_2658418@uibk.ac.at
ORGANIZER;CN="LFU:online Universität Innsbruck":MAILTO:Uni-Innsbruck-noreply@uibk.ac.at
SUMMARY:Sprachkurs: Koreanisch für AnfängerInnen (LV 641026-0 16S)
DESCRIPTION:Lehrveranstaltung 641026 16S, Gruppe 0\nTitel: Sprachkurs: Koreanisch für AnfängerInnen\nOrt: 40432 UR\n\nhttps://lfuonline.uibk.ac.at/public/lfuonline_lv.details?sem_id_in=16S&lvnr_id_in=641026\n
CLASS:PUBLIC
DTSTART:20160502T100000Z
DTEND:20160502T113000Z
DTSTAMP:20260419T182253Z
LOCATION:40432 UR
END:VEVENT
BEGIN:VEVENT
UID:16S_641026_2658419@uibk.ac.at
ORGANIZER;CN="LFU:online Universität Innsbruck":MAILTO:Uni-Innsbruck-noreply@uibk.ac.at
SUMMARY:Sprachkurs: Koreanisch für AnfängerInnen (LV 641026-0 16S)
DESCRIPTION:Lehrveranstaltung 641026 16S, Gruppe 0\nTitel: Sprachkurs: Koreanisch für AnfängerInnen\nOrt: 40432 UR\n\nhttps://lfuonline.uibk.ac.at/public/lfuonline_lv.details?sem_id_in=16S&lvnr_id_in=641026\n
CLASS:PUBLIC
DTSTART:20160509T100000Z
DTEND:20160509T113000Z
DTSTAMP:20260419T182253Z
LOCATION:40432 UR
END:VEVENT
BEGIN:VEVENT
UID:16S_641026_2658420@uibk.ac.at
ORGANIZER;CN="LFU:online Universität Innsbruck":MAILTO:Uni-Innsbruck-noreply@uibk.ac.at
SUMMARY:Sprachkurs: Koreanisch für AnfängerInnen (LV 641026-0 16S)
DESCRIPTION:Lehrveranstaltung 641026 16S, Gruppe 0\nTitel: Sprachkurs: Koreanisch für AnfängerInnen\nOrt: 40432 UR\n\nhttps://lfuonline.uibk.ac.at/public/lfuonline_lv.details?sem_id_in=16S&lvnr_id_in=641026\n
CLASS:PUBLIC
DTSTART:20160523T100000Z
DTEND:20160523T113000Z
DTSTAMP:20260419T182253Z
LOCATION:40432 UR
END:VEVENT
BEGIN:VEVENT
UID:16S_641026_2658421@uibk.ac.at
ORGANIZER;CN="LFU:online Universität Innsbruck":MAILTO:Uni-Innsbruck-noreply@uibk.ac.at
SUMMARY:Sprachkurs: Koreanisch für AnfängerInnen (LV 641026-0 16S)
DESCRIPTION:Lehrveranstaltung 641026 16S, Gruppe 0\nTitel: Sprachkurs: Koreanisch für AnfängerInnen\nOrt: 40432 UR\n\nhttps://lfuonline.uibk.ac.at/public/lfuonline_lv.details?sem_id_in=16S&lvnr_id_in=641026\n
CLASS:PUBLIC
DTSTART:20160530T100000Z
DTEND:20160530T113000Z
DTSTAMP:20260419T182253Z
LOCATION:40432 UR
END:VEVENT
BEGIN:VEVENT
UID:16S_641026_2658422@uibk.ac.at
ORGANIZER;CN="LFU:online Universität Innsbruck":MAILTO:Uni-Innsbruck-noreply@uibk.ac.at
SUMMARY:Sprachkurs: Koreanisch für AnfängerInnen (LV 641026-0 16S)
DESCRIPTION:Lehrveranstaltung 641026 16S, Gruppe 0\nTitel: Sprachkurs: Koreanisch für AnfängerInnen\nOrt: 40432 UR\n\nhttps://lfuonline.uibk.ac.at/public/lfuonline_lv.details?sem_id_in=16S&lvnr_id_in=641026\n
CLASS:PUBLIC
DTSTART:20160606T100000Z
DTEND:20160606T113000Z
DTSTAMP:20260419T182253Z
LOCATION:40432 UR
END:VEVENT
BEGIN:VEVENT
UID:16S_641026_2658423@uibk.ac.at
ORGANIZER;CN="LFU:online Universität Innsbruck":MAILTO:Uni-Innsbruck-noreply@uibk.ac.at
SUMMARY:Sprachkurs: Koreanisch für AnfängerInnen (LV 641026-0 16S)
DESCRIPTION:Lehrveranstaltung 641026 16S, Gruppe 0\nTitel: Sprachkurs: Koreanisch für AnfängerInnen\nOrt: 40432 UR\n\nhttps://lfuonline.uibk.ac.at/public/lfuonline_lv.details?sem_id_in=16S&lvnr_id_in=641026\n
CLASS:PUBLIC
DTSTART:20160613T100000Z
DTEND:20160613T113000Z
DTSTAMP:20260419T182253Z
LOCATION:40432 UR
END:VEVENT
BEGIN:VEVENT
UID:16S_641026_2658424@uibk.ac.at
ORGANIZER;CN="LFU:online Universität Innsbruck":MAILTO:Uni-Innsbruck-noreply@uibk.ac.at
SUMMARY:Sprachkurs: Koreanisch für AnfängerInnen (LV 641026-0 16S)
DESCRIPTION:Lehrveranstaltung 641026 16S, Gruppe 0\nTitel: Sprachkurs: Koreanisch für AnfängerInnen\nOrt: 40432 UR\n\nhttps://lfuonline.uibk.ac.at/public/lfuonline_lv.details?sem_id_in=16S&lvnr_id_in=641026\n
CLASS:PUBLIC
DTSTART:20160620T100000Z
DTEND:20160620T113000Z
DTSTAMP:20260419T182253Z
LOCATION:40432 UR
END:VEVENT
BEGIN:VEVENT
UID:16S_641026_2658425@uibk.ac.at
ORGANIZER;CN="LFU:online Universität Innsbruck":MAILTO:Uni-Innsbruck-noreply@uibk.ac.at
SUMMARY:Sprachkurs: Koreanisch für AnfängerInnen (LV 641026-0 16S)
DESCRIPTION:Lehrveranstaltung 641026 16S, Gruppe 0\nTitel: Sprachkurs: Koreanisch für AnfängerInnen\nOrt: 40432 UR\n\nhttps://lfuonline.uibk.ac.at/public/lfuonline_lv.details?sem_id_in=16S&lvnr_id_in=641026\n
CLASS:PUBLIC
DTSTART:20160627T100000Z
DTEND:20160627T113000Z
DTSTAMP:20260419T182253Z
LOCATION:40432 UR
END:VEVENT
END:VCALENDAR