BEGIN:VCALENDAR
VERSION:2.0
PRODID:-//Universität Innsbruck//LFU:online//DE
METHOD:PUBLISH
BEGIN:VEVENT
UID:15W_641034_2553937@uibk.ac.at
ORGANIZER;CN="LFU:online Universität Innsbruck":MAILTO:Uni-Innsbruck-noreply@uibk.ac.at
SUMMARY:Sprach- und Grammatiktheorie: Funktionale Grammatik (LV 641034-0 15W)
DESCRIPTION:Lehrveranstaltung 641034 15W, Gruppe 0\nTitel: Sprach- und Grammatiktheorie: Funktionale Grammatik\nOrt: 40432 UR\n\nhttps://lfuonline.uibk.ac.at/public/lfuonline_lv.details?sem_id_in=15W&lvnr_id_in=641034\n
CLASS:PUBLIC
DTSTART:20151007T081500Z
DTEND:20151007T094500Z
DTSTAMP:20260420T163707Z
LOCATION:40432 UR
END:VEVENT
BEGIN:VEVENT
UID:15W_641034_2553938@uibk.ac.at
ORGANIZER;CN="LFU:online Universität Innsbruck":MAILTO:Uni-Innsbruck-noreply@uibk.ac.at
SUMMARY:Sprach- und Grammatiktheorie: Funktionale Grammatik (LV 641034-0 15W)
DESCRIPTION:Lehrveranstaltung 641034 15W, Gruppe 0\nTitel: Sprach- und Grammatiktheorie: Funktionale Grammatik\nOrt: 40432 UR\n\nhttps://lfuonline.uibk.ac.at/public/lfuonline_lv.details?sem_id_in=15W&lvnr_id_in=641034\n
CLASS:PUBLIC
DTSTART:20151014T081500Z
DTEND:20151014T094500Z
DTSTAMP:20260420T163707Z
LOCATION:40432 UR
END:VEVENT
BEGIN:VEVENT
UID:15W_641034_2553939@uibk.ac.at
ORGANIZER;CN="LFU:online Universität Innsbruck":MAILTO:Uni-Innsbruck-noreply@uibk.ac.at
SUMMARY:Sprach- und Grammatiktheorie: Funktionale Grammatik (LV 641034-0 15W)
DESCRIPTION:Lehrveranstaltung 641034 15W, Gruppe 0\nTitel: Sprach- und Grammatiktheorie: Funktionale Grammatik\nOrt: 40432 UR\n\nhttps://lfuonline.uibk.ac.at/public/lfuonline_lv.details?sem_id_in=15W&lvnr_id_in=641034\n
CLASS:PUBLIC
DTSTART:20151021T081500Z
DTEND:20151021T094500Z
DTSTAMP:20260420T163707Z
LOCATION:40432 UR
END:VEVENT
BEGIN:VEVENT
UID:15W_641034_2553940@uibk.ac.at
ORGANIZER;CN="LFU:online Universität Innsbruck":MAILTO:Uni-Innsbruck-noreply@uibk.ac.at
SUMMARY:Sprach- und Grammatiktheorie: Funktionale Grammatik (LV 641034-0 15W)
DESCRIPTION:Lehrveranstaltung 641034 15W, Gruppe 0\nTitel: Sprach- und Grammatiktheorie: Funktionale Grammatik\nOrt: 40432 UR\n\nhttps://lfuonline.uibk.ac.at/public/lfuonline_lv.details?sem_id_in=15W&lvnr_id_in=641034\n
CLASS:PUBLIC
DTSTART:20151028T091500Z
DTEND:20151028T104500Z
DTSTAMP:20260420T163707Z
LOCATION:40432 UR
END:VEVENT
BEGIN:VEVENT
UID:15W_641034_2553941@uibk.ac.at
ORGANIZER;CN="LFU:online Universität Innsbruck":MAILTO:Uni-Innsbruck-noreply@uibk.ac.at
SUMMARY:Sprach- und Grammatiktheorie: Funktionale Grammatik (LV 641034-0 15W)
DESCRIPTION:Lehrveranstaltung 641034 15W, Gruppe 0\nTitel: Sprach- und Grammatiktheorie: Funktionale Grammatik\nOrt: 40432 UR\n\nhttps://lfuonline.uibk.ac.at/public/lfuonline_lv.details?sem_id_in=15W&lvnr_id_in=641034\n
CLASS:PUBLIC
DTSTART:20151104T091500Z
DTEND:20151104T104500Z
DTSTAMP:20260420T163707Z
LOCATION:40432 UR
END:VEVENT
BEGIN:VEVENT
UID:15W_641034_2553942@uibk.ac.at
ORGANIZER;CN="LFU:online Universität Innsbruck":MAILTO:Uni-Innsbruck-noreply@uibk.ac.at
SUMMARY:Sprach- und Grammatiktheorie: Funktionale Grammatik (LV 641034-0 15W)
DESCRIPTION:Lehrveranstaltung 641034 15W, Gruppe 0\nTitel: Sprach- und Grammatiktheorie: Funktionale Grammatik\nOrt: 40432 UR\n\nhttps://lfuonline.uibk.ac.at/public/lfuonline_lv.details?sem_id_in=15W&lvnr_id_in=641034\n
CLASS:PUBLIC
DTSTART:20151111T091500Z
DTEND:20151111T104500Z
DTSTAMP:20260420T163707Z
LOCATION:40432 UR
END:VEVENT
BEGIN:VEVENT
UID:15W_641034_2553943@uibk.ac.at
ORGANIZER;CN="LFU:online Universität Innsbruck":MAILTO:Uni-Innsbruck-noreply@uibk.ac.at
SUMMARY:Sprach- und Grammatiktheorie: Funktionale Grammatik (LV 641034-0 15W)
DESCRIPTION:Lehrveranstaltung 641034 15W, Gruppe 0\nTitel: Sprach- und Grammatiktheorie: Funktionale Grammatik\nOrt: 40432 UR\n\nhttps://lfuonline.uibk.ac.at/public/lfuonline_lv.details?sem_id_in=15W&lvnr_id_in=641034\n
CLASS:PUBLIC
DTSTART:20151118T091500Z
DTEND:20151118T104500Z
DTSTAMP:20260420T163707Z
LOCATION:40432 UR
END:VEVENT
BEGIN:VEVENT
UID:15W_641034_2553944@uibk.ac.at
ORGANIZER;CN="LFU:online Universität Innsbruck":MAILTO:Uni-Innsbruck-noreply@uibk.ac.at
SUMMARY:Sprach- und Grammatiktheorie: Funktionale Grammatik (LV 641034-0 15W)
DESCRIPTION:Lehrveranstaltung 641034 15W, Gruppe 0\nTitel: Sprach- und Grammatiktheorie: Funktionale Grammatik\nOrt: 40432 UR\n\nhttps://lfuonline.uibk.ac.at/public/lfuonline_lv.details?sem_id_in=15W&lvnr_id_in=641034\n
CLASS:PUBLIC
DTSTART:20151125T091500Z
DTEND:20151125T104500Z
DTSTAMP:20260420T163707Z
LOCATION:40432 UR
END:VEVENT
BEGIN:VEVENT
UID:15W_641034_2553945@uibk.ac.at
ORGANIZER;CN="LFU:online Universität Innsbruck":MAILTO:Uni-Innsbruck-noreply@uibk.ac.at
SUMMARY:Sprach- und Grammatiktheorie: Funktionale Grammatik (LV 641034-0 15W)
DESCRIPTION:Lehrveranstaltung 641034 15W, Gruppe 0\nTitel: Sprach- und Grammatiktheorie: Funktionale Grammatik\nOrt: 40432 UR\n\nhttps://lfuonline.uibk.ac.at/public/lfuonline_lv.details?sem_id_in=15W&lvnr_id_in=641034\n
CLASS:PUBLIC
DTSTART:20151202T091500Z
DTEND:20151202T104500Z
DTSTAMP:20260420T163707Z
LOCATION:40432 UR
END:VEVENT
BEGIN:VEVENT
UID:15W_641034_2553946@uibk.ac.at
ORGANIZER;CN="LFU:online Universität Innsbruck":MAILTO:Uni-Innsbruck-noreply@uibk.ac.at
SUMMARY:Sprach- und Grammatiktheorie: Funktionale Grammatik (LV 641034-0 15W)
DESCRIPTION:Lehrveranstaltung 641034 15W, Gruppe 0\nTitel: Sprach- und Grammatiktheorie: Funktionale Grammatik\nOrt: 40432 UR\n\nhttps://lfuonline.uibk.ac.at/public/lfuonline_lv.details?sem_id_in=15W&lvnr_id_in=641034\n
CLASS:PUBLIC
DTSTART:20151209T091500Z
DTEND:20151209T104500Z
DTSTAMP:20260420T163707Z
LOCATION:40432 UR
END:VEVENT
BEGIN:VEVENT
UID:15W_641034_2553947@uibk.ac.at
ORGANIZER;CN="LFU:online Universität Innsbruck":MAILTO:Uni-Innsbruck-noreply@uibk.ac.at
SUMMARY:Sprach- und Grammatiktheorie: Funktionale Grammatik (LV 641034-0 15W)
DESCRIPTION:Lehrveranstaltung 641034 15W, Gruppe 0\nTitel: Sprach- und Grammatiktheorie: Funktionale Grammatik\nOrt: 40432 UR\n\nhttps://lfuonline.uibk.ac.at/public/lfuonline_lv.details?sem_id_in=15W&lvnr_id_in=641034\n
CLASS:PUBLIC
DTSTART:20151216T091500Z
DTEND:20151216T104500Z
DTSTAMP:20260420T163707Z
LOCATION:40432 UR
END:VEVENT
BEGIN:VEVENT
UID:15W_641034_2553948@uibk.ac.at
ORGANIZER;CN="LFU:online Universität Innsbruck":MAILTO:Uni-Innsbruck-noreply@uibk.ac.at
SUMMARY:Sprach- und Grammatiktheorie: Funktionale Grammatik (LV 641034-0 15W)
DESCRIPTION:Lehrveranstaltung 641034 15W, Gruppe 0\nTitel: Sprach- und Grammatiktheorie: Funktionale Grammatik\nOrt: 40432 UR\n\nhttps://lfuonline.uibk.ac.at/public/lfuonline_lv.details?sem_id_in=15W&lvnr_id_in=641034\n
CLASS:PUBLIC
DTSTART:20160113T091500Z
DTEND:20160113T104500Z
DTSTAMP:20260420T163707Z
LOCATION:40432 UR
END:VEVENT
BEGIN:VEVENT
UID:15W_641034_2553949@uibk.ac.at
ORGANIZER;CN="LFU:online Universität Innsbruck":MAILTO:Uni-Innsbruck-noreply@uibk.ac.at
SUMMARY:Sprach- und Grammatiktheorie: Funktionale Grammatik (LV 641034-0 15W)
DESCRIPTION:Lehrveranstaltung 641034 15W, Gruppe 0\nTitel: Sprach- und Grammatiktheorie: Funktionale Grammatik\nOrt: 40432 UR\n\nhttps://lfuonline.uibk.ac.at/public/lfuonline_lv.details?sem_id_in=15W&lvnr_id_in=641034\n
CLASS:PUBLIC
DTSTART:20160120T091500Z
DTEND:20160120T104500Z
DTSTAMP:20260420T163707Z
LOCATION:40432 UR
END:VEVENT
BEGIN:VEVENT
UID:15W_641034_2553950@uibk.ac.at
ORGANIZER;CN="LFU:online Universität Innsbruck":MAILTO:Uni-Innsbruck-noreply@uibk.ac.at
SUMMARY:Sprach- und Grammatiktheorie: Funktionale Grammatik (LV 641034-0 15W)
DESCRIPTION:Lehrveranstaltung 641034 15W, Gruppe 0\nTitel: Sprach- und Grammatiktheorie: Funktionale Grammatik\nOrt: 40432 UR\n\nhttps://lfuonline.uibk.ac.at/public/lfuonline_lv.details?sem_id_in=15W&lvnr_id_in=641034\n
CLASS:PUBLIC
DTSTART:20160127T091500Z
DTEND:20160127T104500Z
DTSTAMP:20260420T163707Z
LOCATION:40432 UR
END:VEVENT
BEGIN:VEVENT
UID:15W_641034_2553951@uibk.ac.at
ORGANIZER;CN="LFU:online Universität Innsbruck":MAILTO:Uni-Innsbruck-noreply@uibk.ac.at
SUMMARY:Sprach- und Grammatiktheorie: Funktionale Grammatik (LV 641034-0 15W)
DESCRIPTION:Lehrveranstaltung 641034 15W, Gruppe 0\nTitel: Sprach- und Grammatiktheorie: Funktionale Grammatik\nOrt: 40432 UR\n\nhttps://lfuonline.uibk.ac.at/public/lfuonline_lv.details?sem_id_in=15W&lvnr_id_in=641034\n
CLASS:PUBLIC
DTSTART:20160203T091500Z
DTEND:20160203T104500Z
DTSTAMP:20260420T163707Z
LOCATION:40432 UR
END:VEVENT
END:VCALENDAR