BEGIN:VCALENDAR
VERSION:2.0
PRODID:-//Universität Innsbruck//LFU:online//DE
METHOD:PUBLISH
BEGIN:VEVENT
UID:17W_641051_2977129@uibk.ac.at
ORGANIZER;CN="LFU:online Universität Innsbruck":MAILTO:Uni-Innsbruck-noreply@uibk.ac.at
SUMMARY:Linguistisches Spezialgebiet: Balkansprachbund (LV 641051-0 17W)
DESCRIPTION:Lehrveranstaltung 641051 17W, Gruppe 0\nTitel: Linguistisches Spezialgebiet: Balkansprachbund\nOrt: 40432 UR\n\nhttps://lfuonline.uibk.ac.at/public/lfuonline_lv.details?sem_id_in=17W&lvnr_id_in=641051\n
CLASS:PUBLIC
DTSTART:20171003T133000Z
DTEND:20171003T150000Z
DTSTAMP:20260423T023729Z
LOCATION:40432 UR
END:VEVENT
BEGIN:VEVENT
UID:17W_641051_2977130@uibk.ac.at
ORGANIZER;CN="LFU:online Universität Innsbruck":MAILTO:Uni-Innsbruck-noreply@uibk.ac.at
SUMMARY:Linguistisches Spezialgebiet: Balkansprachbund (LV 641051-0 17W)
DESCRIPTION:Lehrveranstaltung 641051 17W, Gruppe 0\nTitel: Linguistisches Spezialgebiet: Balkansprachbund\nOrt: 40432 UR\n\nhttps://lfuonline.uibk.ac.at/public/lfuonline_lv.details?sem_id_in=17W&lvnr_id_in=641051\n
CLASS:PUBLIC
DTSTART:20171010T133000Z
DTEND:20171010T150000Z
DTSTAMP:20260423T023729Z
LOCATION:40432 UR
END:VEVENT
BEGIN:VEVENT
UID:17W_641051_2977131@uibk.ac.at
ORGANIZER;CN="LFU:online Universität Innsbruck":MAILTO:Uni-Innsbruck-noreply@uibk.ac.at
SUMMARY:Linguistisches Spezialgebiet: Balkansprachbund (LV 641051-0 17W)
DESCRIPTION:Lehrveranstaltung 641051 17W, Gruppe 0\nTitel: Linguistisches Spezialgebiet: Balkansprachbund\nOrt: 40432 UR\n\nhttps://lfuonline.uibk.ac.at/public/lfuonline_lv.details?sem_id_in=17W&lvnr_id_in=641051\n
CLASS:PUBLIC
DTSTART:20171017T133000Z
DTEND:20171017T150000Z
DTSTAMP:20260423T023729Z
LOCATION:40432 UR
END:VEVENT
BEGIN:VEVENT
UID:17W_641051_2977132@uibk.ac.at
ORGANIZER;CN="LFU:online Universität Innsbruck":MAILTO:Uni-Innsbruck-noreply@uibk.ac.at
SUMMARY:Linguistisches Spezialgebiet: Balkansprachbund (LV 641051-0 17W)
DESCRIPTION:Lehrveranstaltung 641051 17W, Gruppe 0\nTitel: Linguistisches Spezialgebiet: Balkansprachbund\nOrt: 40432 UR\n\nhttps://lfuonline.uibk.ac.at/public/lfuonline_lv.details?sem_id_in=17W&lvnr_id_in=641051\n
CLASS:PUBLIC
DTSTART:20171024T133000Z
DTEND:20171024T150000Z
DTSTAMP:20260423T023729Z
LOCATION:40432 UR
END:VEVENT
BEGIN:VEVENT
UID:17W_641051_2977133@uibk.ac.at
ORGANIZER;CN="LFU:online Universität Innsbruck":MAILTO:Uni-Innsbruck-noreply@uibk.ac.at
SUMMARY:Linguistisches Spezialgebiet: Balkansprachbund (LV 641051-0 17W)
DESCRIPTION:Lehrveranstaltung 641051 17W, Gruppe 0\nTitel: Linguistisches Spezialgebiet: Balkansprachbund\nOrt: 40432 UR\n\nhttps://lfuonline.uibk.ac.at/public/lfuonline_lv.details?sem_id_in=17W&lvnr_id_in=641051\n
CLASS:PUBLIC
DTSTART:20171031T143000Z
DTEND:20171031T160000Z
DTSTAMP:20260423T023729Z
LOCATION:40432 UR
END:VEVENT
BEGIN:VEVENT
UID:17W_641051_2977134@uibk.ac.at
ORGANIZER;CN="LFU:online Universität Innsbruck":MAILTO:Uni-Innsbruck-noreply@uibk.ac.at
SUMMARY:Linguistisches Spezialgebiet: Balkansprachbund (LV 641051-0 17W)
DESCRIPTION:Lehrveranstaltung 641051 17W, Gruppe 0\nTitel: Linguistisches Spezialgebiet: Balkansprachbund\nOrt: 40432 UR\n\nhttps://lfuonline.uibk.ac.at/public/lfuonline_lv.details?sem_id_in=17W&lvnr_id_in=641051\n
CLASS:PUBLIC
DTSTART:20171107T143000Z
DTEND:20171107T160000Z
DTSTAMP:20260423T023729Z
LOCATION:40432 UR
END:VEVENT
BEGIN:VEVENT
UID:17W_641051_2977135@uibk.ac.at
ORGANIZER;CN="LFU:online Universität Innsbruck":MAILTO:Uni-Innsbruck-noreply@uibk.ac.at
SUMMARY:Linguistisches Spezialgebiet: Balkansprachbund (LV 641051-0 17W)
DESCRIPTION:Lehrveranstaltung 641051 17W, Gruppe 0\nTitel: Linguistisches Spezialgebiet: Balkansprachbund\nOrt: 40432 UR\n\nhttps://lfuonline.uibk.ac.at/public/lfuonline_lv.details?sem_id_in=17W&lvnr_id_in=641051\n
CLASS:PUBLIC
DTSTART:20171114T143000Z
DTEND:20171114T160000Z
DTSTAMP:20260423T023729Z
LOCATION:40432 UR
END:VEVENT
BEGIN:VEVENT
UID:17W_641051_2977136@uibk.ac.at
ORGANIZER;CN="LFU:online Universität Innsbruck":MAILTO:Uni-Innsbruck-noreply@uibk.ac.at
SUMMARY:Linguistisches Spezialgebiet: Balkansprachbund (LV 641051-0 17W)
DESCRIPTION:Lehrveranstaltung 641051 17W, Gruppe 0\nTitel: Linguistisches Spezialgebiet: Balkansprachbund\nOrt: 40432 UR\n\nhttps://lfuonline.uibk.ac.at/public/lfuonline_lv.details?sem_id_in=17W&lvnr_id_in=641051\n
CLASS:PUBLIC
DTSTART:20171121T143000Z
DTEND:20171121T160000Z
DTSTAMP:20260423T023729Z
LOCATION:40432 UR
END:VEVENT
BEGIN:VEVENT
UID:17W_641051_2977137@uibk.ac.at
ORGANIZER;CN="LFU:online Universität Innsbruck":MAILTO:Uni-Innsbruck-noreply@uibk.ac.at
SUMMARY:Linguistisches Spezialgebiet: Balkansprachbund (LV 641051-0 17W)
DESCRIPTION:Lehrveranstaltung 641051 17W, Gruppe 0\nTitel: Linguistisches Spezialgebiet: Balkansprachbund\nOrt: 40432 UR\n\nhttps://lfuonline.uibk.ac.at/public/lfuonline_lv.details?sem_id_in=17W&lvnr_id_in=641051\n
CLASS:PUBLIC
DTSTART:20171128T143000Z
DTEND:20171128T160000Z
DTSTAMP:20260423T023729Z
LOCATION:40432 UR
END:VEVENT
BEGIN:VEVENT
UID:17W_641051_2977138@uibk.ac.at
ORGANIZER;CN="LFU:online Universität Innsbruck":MAILTO:Uni-Innsbruck-noreply@uibk.ac.at
SUMMARY:Linguistisches Spezialgebiet: Balkansprachbund (LV 641051-0 17W)
DESCRIPTION:Lehrveranstaltung 641051 17W, Gruppe 0\nTitel: Linguistisches Spezialgebiet: Balkansprachbund\nOrt: 40432 UR\n\nhttps://lfuonline.uibk.ac.at/public/lfuonline_lv.details?sem_id_in=17W&lvnr_id_in=641051\n
CLASS:PUBLIC
DTSTART:20171205T143000Z
DTEND:20171205T160000Z
DTSTAMP:20260423T023729Z
LOCATION:40432 UR
END:VEVENT
BEGIN:VEVENT
UID:17W_641051_2977139@uibk.ac.at
ORGANIZER;CN="LFU:online Universität Innsbruck":MAILTO:Uni-Innsbruck-noreply@uibk.ac.at
SUMMARY:Linguistisches Spezialgebiet: Balkansprachbund (LV 641051-0 17W)
DESCRIPTION:Lehrveranstaltung 641051 17W, Gruppe 0\nTitel: Linguistisches Spezialgebiet: Balkansprachbund\nOrt: 40432 UR\n\nhttps://lfuonline.uibk.ac.at/public/lfuonline_lv.details?sem_id_in=17W&lvnr_id_in=641051\n
CLASS:PUBLIC
DTSTART:20171212T143000Z
DTEND:20171212T160000Z
DTSTAMP:20260423T023729Z
LOCATION:40432 UR
END:VEVENT
BEGIN:VEVENT
UID:17W_641051_2977140@uibk.ac.at
ORGANIZER;CN="LFU:online Universität Innsbruck":MAILTO:Uni-Innsbruck-noreply@uibk.ac.at
SUMMARY:Linguistisches Spezialgebiet: Balkansprachbund (LV 641051-0 17W)
DESCRIPTION:Lehrveranstaltung 641051 17W, Gruppe 0\nTitel: Linguistisches Spezialgebiet: Balkansprachbund\nOrt: 40432 UR\n\nhttps://lfuonline.uibk.ac.at/public/lfuonline_lv.details?sem_id_in=17W&lvnr_id_in=641051\n
CLASS:PUBLIC
DTSTART:20180109T143000Z
DTEND:20180109T160000Z
DTSTAMP:20260423T023729Z
LOCATION:40432 UR
END:VEVENT
BEGIN:VEVENT
UID:17W_641051_2977141@uibk.ac.at
ORGANIZER;CN="LFU:online Universität Innsbruck":MAILTO:Uni-Innsbruck-noreply@uibk.ac.at
SUMMARY:Linguistisches Spezialgebiet: Balkansprachbund (LV 641051-0 17W)
DESCRIPTION:Lehrveranstaltung 641051 17W, Gruppe 0\nTitel: Linguistisches Spezialgebiet: Balkansprachbund\nOrt: 40432 UR\n\nhttps://lfuonline.uibk.ac.at/public/lfuonline_lv.details?sem_id_in=17W&lvnr_id_in=641051\n
CLASS:PUBLIC
DTSTART:20180116T143000Z
DTEND:20180116T160000Z
DTSTAMP:20260423T023729Z
LOCATION:40432 UR
END:VEVENT
BEGIN:VEVENT
UID:17W_641051_2977142@uibk.ac.at
ORGANIZER;CN="LFU:online Universität Innsbruck":MAILTO:Uni-Innsbruck-noreply@uibk.ac.at
SUMMARY:Linguistisches Spezialgebiet: Balkansprachbund (LV 641051-0 17W)
DESCRIPTION:Lehrveranstaltung 641051 17W, Gruppe 0\nTitel: Linguistisches Spezialgebiet: Balkansprachbund\nOrt: 40432 UR\n\nhttps://lfuonline.uibk.ac.at/public/lfuonline_lv.details?sem_id_in=17W&lvnr_id_in=641051\n
CLASS:PUBLIC
DTSTART:20180123T143000Z
DTEND:20180123T160000Z
DTSTAMP:20260423T023729Z
LOCATION:40432 UR
END:VEVENT
BEGIN:VEVENT
UID:17W_641051_2977143@uibk.ac.at
ORGANIZER;CN="LFU:online Universität Innsbruck":MAILTO:Uni-Innsbruck-noreply@uibk.ac.at
SUMMARY:Linguistisches Spezialgebiet: Balkansprachbund (LV 641051-0 17W)
DESCRIPTION:Lehrveranstaltung 641051 17W, Gruppe 0\nTitel: Linguistisches Spezialgebiet: Balkansprachbund\nOrt: 40432 UR\n\nhttps://lfuonline.uibk.ac.at/public/lfuonline_lv.details?sem_id_in=17W&lvnr_id_in=641051\n
CLASS:PUBLIC
DTSTART:20180130T143000Z
DTEND:20180130T160000Z
DTSTAMP:20260423T023729Z
LOCATION:40432 UR
END:VEVENT
END:VCALENDAR