BEGIN:VCALENDAR
VERSION:2.0
PRODID:-//Universität Innsbruck//LFU:online//DE
METHOD:PUBLISH
BEGIN:VEVENT
UID:19S_641215_3271004@uibk.ac.at
ORGANIZER;CN="LFU:online Universität Innsbruck":MAILTO:Uni-Innsbruck-noreply@uibk.ac.at
SUMMARY:Literaturtheoretische Positionen: ver/sammeln: Narrative, Medien, Theorien (LV 641215-0 19S)
DESCRIPTION:Lehrveranstaltung 641215 19S, Gruppe 0\nTitel: Literaturtheoretische Positionen: ver/sammeln: Narrative, Medien, Theorien\nOrt: 40123\n\nhttps://lfuonline.uibk.ac.at/public/lfuonline_lv.details?sem_id_in=19S&lvnr_id_in=641215\n
CLASS:PUBLIC
DTSTART:20190329T080000Z
DTEND:20190329T170000Z
DTSTAMP:20260423T031258Z
LOCATION:40123
END:VEVENT
BEGIN:VEVENT
UID:19S_641215_3271006@uibk.ac.at
ORGANIZER;CN="LFU:online Universität Innsbruck":MAILTO:Uni-Innsbruck-noreply@uibk.ac.at
SUMMARY:Literaturtheoretische Positionen: ver/sammeln: Narrative, Medien, Theorien (LV 641215-0 19S)
DESCRIPTION:Lehrveranstaltung 641215 19S, Gruppe 0\nTitel: Literaturtheoretische Positionen: ver/sammeln: Narrative, Medien, Theorien\nOrt: 40123\n\nhttps://lfuonline.uibk.ac.at/public/lfuonline_lv.details?sem_id_in=19S&lvnr_id_in=641215\n
CLASS:PUBLIC
DTSTART:20190330T080000Z
DTEND:20190330T170000Z
DTSTAMP:20260423T031258Z
LOCATION:40123
END:VEVENT
BEGIN:VEVENT
UID:19S_641215_3284621@uibk.ac.at
ORGANIZER;CN="LFU:online Universität Innsbruck":MAILTO:Uni-Innsbruck-noreply@uibk.ac.at
SUMMARY:Literaturtheoretische Positionen: ver/sammeln: Narrative, Medien, Theorien (LV 641215-0 19S)
DESCRIPTION:Lehrveranstaltung 641215 19S, Gruppe 0\nTitel: Literaturtheoretische Positionen: ver/sammeln: Narrative, Medien, Theorien\nOrt: 40123\n\nhttps://lfuonline.uibk.ac.at/public/lfuonline_lv.details?sem_id_in=19S&lvnr_id_in=641215\n
CLASS:PUBLIC
DTSTART:20190510T070000Z
DTEND:20190510T160000Z
DTSTAMP:20260423T031258Z
LOCATION:40123
END:VEVENT
BEGIN:VEVENT
UID:19S_641215_3284622@uibk.ac.at
ORGANIZER;CN="LFU:online Universität Innsbruck":MAILTO:Uni-Innsbruck-noreply@uibk.ac.at
SUMMARY:Literaturtheoretische Positionen: ver/sammeln: Narrative, Medien, Theorien (LV 641215-0 19S)
DESCRIPTION:Lehrveranstaltung 641215 19S, Gruppe 0\nTitel: Literaturtheoretische Positionen: ver/sammeln: Narrative, Medien, Theorien\nOrt: 40123\n\nhttps://lfuonline.uibk.ac.at/public/lfuonline_lv.details?sem_id_in=19S&lvnr_id_in=641215\n
CLASS:PUBLIC
DTSTART:20190511T070000Z
DTEND:20190511T160000Z
DTSTAMP:20260423T031258Z
LOCATION:40123
END:VEVENT
END:VCALENDAR