BEGIN:VCALENDAR
VERSION:2.0
PRODID:-//Universität Innsbruck//LFU:online//DE
METHOD:PUBLISH
BEGIN:VEVENT
UID:14S_641881_2109754@uibk.ac.at
ORGANIZER;CN="LFU:online Universität Innsbruck":MAILTO:Uni-Innsbruck-noreply@uibk.ac.at
SUMMARY:Grundlagen der Linguistik (LV 641881-0 14S)
DESCRIPTION:Lehrveranstaltung 641881 14S, Gruppe 0\nTitel: Grundlagen der Linguistik\nOrt: Hörsaal 4\n\nhttps://lfuonline.uibk.ac.at/public/lfuonline_lv.details?sem_id_in=14S&lvnr_id_in=641881\n
CLASS:PUBLIC
DTSTART:20140305T110000Z
DTEND:20140305T123000Z
DTSTAMP:20260420T061151Z
LOCATION:Hörsaal 4
END:VEVENT
BEGIN:VEVENT
UID:14S_641881_2109755@uibk.ac.at
ORGANIZER;CN="LFU:online Universität Innsbruck":MAILTO:Uni-Innsbruck-noreply@uibk.ac.at
SUMMARY:Grundlagen der Linguistik (LV 641881-0 14S)
DESCRIPTION:Lehrveranstaltung 641881 14S, Gruppe 0\nTitel: Grundlagen der Linguistik\nOrt: Hörsaal 4\n\nhttps://lfuonline.uibk.ac.at/public/lfuonline_lv.details?sem_id_in=14S&lvnr_id_in=641881\n
CLASS:PUBLIC
DTSTART:20140312T110000Z
DTEND:20140312T123000Z
DTSTAMP:20260420T061151Z
LOCATION:Hörsaal 4
END:VEVENT
BEGIN:VEVENT
UID:14S_641881_2109756@uibk.ac.at
ORGANIZER;CN="LFU:online Universität Innsbruck":MAILTO:Uni-Innsbruck-noreply@uibk.ac.at
SUMMARY:Grundlagen der Linguistik (LV 641881-0 14S)
DESCRIPTION:Lehrveranstaltung 641881 14S, Gruppe 0\nTitel: Grundlagen der Linguistik\nOrt: Hörsaal 4\n\nhttps://lfuonline.uibk.ac.at/public/lfuonline_lv.details?sem_id_in=14S&lvnr_id_in=641881\n
CLASS:PUBLIC
DTSTART:20140319T110000Z
DTEND:20140319T123000Z
DTSTAMP:20260420T061151Z
LOCATION:Hörsaal 4
END:VEVENT
BEGIN:VEVENT
UID:14S_641881_2109757@uibk.ac.at
ORGANIZER;CN="LFU:online Universität Innsbruck":MAILTO:Uni-Innsbruck-noreply@uibk.ac.at
SUMMARY:Grundlagen der Linguistik (LV 641881-0 14S)
DESCRIPTION:Lehrveranstaltung 641881 14S, Gruppe 0\nTitel: Grundlagen der Linguistik\nOrt: Hörsaal 4\n\nhttps://lfuonline.uibk.ac.at/public/lfuonline_lv.details?sem_id_in=14S&lvnr_id_in=641881\n
CLASS:PUBLIC
DTSTART:20140326T110000Z
DTEND:20140326T123000Z
DTSTAMP:20260420T061151Z
LOCATION:Hörsaal 4
END:VEVENT
BEGIN:VEVENT
UID:14S_641881_2109758@uibk.ac.at
ORGANIZER;CN="LFU:online Universität Innsbruck":MAILTO:Uni-Innsbruck-noreply@uibk.ac.at
SUMMARY:Grundlagen der Linguistik (LV 641881-0 14S)
DESCRIPTION:Lehrveranstaltung 641881 14S, Gruppe 0\nTitel: Grundlagen der Linguistik\nOrt: Hörsaal 4\n\nhttps://lfuonline.uibk.ac.at/public/lfuonline_lv.details?sem_id_in=14S&lvnr_id_in=641881\n
CLASS:PUBLIC
DTSTART:20140402T100000Z
DTEND:20140402T113000Z
DTSTAMP:20260420T061151Z
LOCATION:Hörsaal 4
END:VEVENT
BEGIN:VEVENT
UID:14S_641881_2109759@uibk.ac.at
ORGANIZER;CN="LFU:online Universität Innsbruck":MAILTO:Uni-Innsbruck-noreply@uibk.ac.at
SUMMARY:Grundlagen der Linguistik (LV 641881-0 14S)
DESCRIPTION:Lehrveranstaltung 641881 14S, Gruppe 0\nTitel: Grundlagen der Linguistik\nOrt: Hörsaal 4\n\nhttps://lfuonline.uibk.ac.at/public/lfuonline_lv.details?sem_id_in=14S&lvnr_id_in=641881\n
CLASS:PUBLIC
DTSTART:20140409T100000Z
DTEND:20140409T113000Z
DTSTAMP:20260420T061151Z
LOCATION:Hörsaal 4
END:VEVENT
BEGIN:VEVENT
UID:14S_641881_2109760@uibk.ac.at
ORGANIZER;CN="LFU:online Universität Innsbruck":MAILTO:Uni-Innsbruck-noreply@uibk.ac.at
SUMMARY:Grundlagen der Linguistik (LV 641881-0 14S)
DESCRIPTION:Lehrveranstaltung 641881 14S, Gruppe 0\nTitel: Grundlagen der Linguistik\nOrt: Hörsaal 4\n\nhttps://lfuonline.uibk.ac.at/public/lfuonline_lv.details?sem_id_in=14S&lvnr_id_in=641881\n
CLASS:PUBLIC
DTSTART:20140430T100000Z
DTEND:20140430T113000Z
DTSTAMP:20260420T061151Z
LOCATION:Hörsaal 4
END:VEVENT
BEGIN:VEVENT
UID:14S_641881_2109761@uibk.ac.at
ORGANIZER;CN="LFU:online Universität Innsbruck":MAILTO:Uni-Innsbruck-noreply@uibk.ac.at
SUMMARY:Grundlagen der Linguistik (LV 641881-0 14S)
DESCRIPTION:Lehrveranstaltung 641881 14S, Gruppe 0\nTitel: Grundlagen der Linguistik\nOrt: Hörsaal 4\n\nhttps://lfuonline.uibk.ac.at/public/lfuonline_lv.details?sem_id_in=14S&lvnr_id_in=641881\n
CLASS:PUBLIC
DTSTART:20140507T100000Z
DTEND:20140507T113000Z
DTSTAMP:20260420T061151Z
LOCATION:Hörsaal 4
END:VEVENT
BEGIN:VEVENT
UID:14S_641881_2109762@uibk.ac.at
ORGANIZER;CN="LFU:online Universität Innsbruck":MAILTO:Uni-Innsbruck-noreply@uibk.ac.at
SUMMARY:Grundlagen der Linguistik (LV 641881-0 14S)
DESCRIPTION:Lehrveranstaltung 641881 14S, Gruppe 0\nTitel: Grundlagen der Linguistik\nOrt: Hörsaal 4\n\nhttps://lfuonline.uibk.ac.at/public/lfuonline_lv.details?sem_id_in=14S&lvnr_id_in=641881\n
CLASS:PUBLIC
DTSTART:20140514T100000Z
DTEND:20140514T113000Z
DTSTAMP:20260420T061151Z
LOCATION:Hörsaal 4
END:VEVENT
BEGIN:VEVENT
UID:14S_641881_2109763@uibk.ac.at
ORGANIZER;CN="LFU:online Universität Innsbruck":MAILTO:Uni-Innsbruck-noreply@uibk.ac.at
SUMMARY:Grundlagen der Linguistik (LV 641881-0 14S)
DESCRIPTION:Lehrveranstaltung 641881 14S, Gruppe 0\nTitel: Grundlagen der Linguistik\nOrt: Hörsaal 4\n\nhttps://lfuonline.uibk.ac.at/public/lfuonline_lv.details?sem_id_in=14S&lvnr_id_in=641881\n
CLASS:PUBLIC
DTSTART:20140521T100000Z
DTEND:20140521T113000Z
DTSTAMP:20260420T061151Z
LOCATION:Hörsaal 4
END:VEVENT
BEGIN:VEVENT
UID:14S_641881_2109764@uibk.ac.at
ORGANIZER;CN="LFU:online Universität Innsbruck":MAILTO:Uni-Innsbruck-noreply@uibk.ac.at
SUMMARY:Grundlagen der Linguistik (LV 641881-0 14S)
DESCRIPTION:Lehrveranstaltung 641881 14S, Gruppe 0\nTitel: Grundlagen der Linguistik\nOrt: Hörsaal 4\n\nhttps://lfuonline.uibk.ac.at/public/lfuonline_lv.details?sem_id_in=14S&lvnr_id_in=641881\n
CLASS:PUBLIC
DTSTART:20140528T100000Z
DTEND:20140528T113000Z
DTSTAMP:20260420T061151Z
LOCATION:Hörsaal 4
END:VEVENT
BEGIN:VEVENT
UID:14S_641881_2109765@uibk.ac.at
ORGANIZER;CN="LFU:online Universität Innsbruck":MAILTO:Uni-Innsbruck-noreply@uibk.ac.at
SUMMARY:Grundlagen der Linguistik (LV 641881-0 14S)
DESCRIPTION:Lehrveranstaltung 641881 14S, Gruppe 0\nTitel: Grundlagen der Linguistik\nOrt: Hörsaal 4\n\nhttps://lfuonline.uibk.ac.at/public/lfuonline_lv.details?sem_id_in=14S&lvnr_id_in=641881\n
CLASS:PUBLIC
DTSTART:20140604T100000Z
DTEND:20140604T113000Z
DTSTAMP:20260420T061151Z
LOCATION:Hörsaal 4
END:VEVENT
BEGIN:VEVENT
UID:14S_641881_2109766@uibk.ac.at
ORGANIZER;CN="LFU:online Universität Innsbruck":MAILTO:Uni-Innsbruck-noreply@uibk.ac.at
SUMMARY:Grundlagen der Linguistik (LV 641881-0 14S)
DESCRIPTION:Lehrveranstaltung 641881 14S, Gruppe 0\nTitel: Grundlagen der Linguistik\nOrt: Hörsaal 4\n\nhttps://lfuonline.uibk.ac.at/public/lfuonline_lv.details?sem_id_in=14S&lvnr_id_in=641881\n
CLASS:PUBLIC
DTSTART:20140611T100000Z
DTEND:20140611T113000Z
DTSTAMP:20260420T061151Z
LOCATION:Hörsaal 4
END:VEVENT
BEGIN:VEVENT
UID:14S_641881_2109767@uibk.ac.at
ORGANIZER;CN="LFU:online Universität Innsbruck":MAILTO:Uni-Innsbruck-noreply@uibk.ac.at
SUMMARY:Grundlagen der Linguistik (LV 641881-0 14S)
DESCRIPTION:Lehrveranstaltung 641881 14S, Gruppe 0\nTitel: Grundlagen der Linguistik\nOrt: Hörsaal 4\n\nhttps://lfuonline.uibk.ac.at/public/lfuonline_lv.details?sem_id_in=14S&lvnr_id_in=641881\n
CLASS:PUBLIC
DTSTART:20140618T100000Z
DTEND:20140618T113000Z
DTSTAMP:20260420T061151Z
LOCATION:Hörsaal 4
END:VEVENT
BEGIN:VEVENT
UID:14S_641881_2109768@uibk.ac.at
ORGANIZER;CN="LFU:online Universität Innsbruck":MAILTO:Uni-Innsbruck-noreply@uibk.ac.at
SUMMARY:Grundlagen der Linguistik (LV 641881-0 14S)
DESCRIPTION:Lehrveranstaltung 641881 14S, Gruppe 0\nTitel: Grundlagen der Linguistik\nOrt: Hörsaal 4\n\nhttps://lfuonline.uibk.ac.at/public/lfuonline_lv.details?sem_id_in=14S&lvnr_id_in=641881\n
CLASS:PUBLIC
DTSTART:20140625T100000Z
DTEND:20140625T113000Z
DTSTAMP:20260420T061151Z
LOCATION:Hörsaal 4
COMMENT:1. Klausurtermin
END:VEVENT
BEGIN:VEVENT
UID:14S_641881_2378039@uibk.ac.at
ORGANIZER;CN="LFU:online Universität Innsbruck":MAILTO:Uni-Innsbruck-noreply@uibk.ac.at
SUMMARY:Grundlagen der Linguistik (LV 641881-0 14S)
DESCRIPTION:Lehrveranstaltung 641881 14S, Gruppe 0\nTitel: Grundlagen der Linguistik\nOrt: Hörsaal 7\n\nhttps://lfuonline.uibk.ac.at/public/lfuonline_lv.details?sem_id_in=14S&lvnr_id_in=641881\n
CLASS:PUBLIC
DTSTART:20141015T114500Z
DTEND:20141015T134500Z
DTSTAMP:20260420T061151Z
LOCATION:Hörsaal 7
COMMENT:2. Klausurtermin
END:VEVENT
BEGIN:VEVENT
UID:14S_641881_2378040@uibk.ac.at
ORGANIZER;CN="LFU:online Universität Innsbruck":MAILTO:Uni-Innsbruck-noreply@uibk.ac.at
SUMMARY:Grundlagen der Linguistik (LV 641881-0 14S)
DESCRIPTION:Lehrveranstaltung 641881 14S, Gruppe 0\nTitel: Grundlagen der Linguistik\nOrt: Hörsaal 7\n\nhttps://lfuonline.uibk.ac.at/public/lfuonline_lv.details?sem_id_in=14S&lvnr_id_in=641881\n
CLASS:PUBLIC
DTSTART:20141112T124500Z
DTEND:20141112T144500Z
DTSTAMP:20260420T061151Z
LOCATION:Hörsaal 7
COMMENT:3. Klausurtermin
END:VEVENT
END:VCALENDAR