BEGIN:VCALENDAR
VERSION:2.0
PRODID:-//Universität Innsbruck//LFU:online//DE
METHOD:PUBLISH
BEGIN:VEVENT
UID:17S_644902_2796062@uibk.ac.at
ORGANIZER;CN="LFU:online Universität Innsbruck":MAILTO:Uni-Innsbruck-noreply@uibk.ac.at
SUMMARY:Neue und disziplinübergreifende Forschungsmethoden (LV 644902-0 17S)
DESCRIPTION:Lehrveranstaltung 644902 17S, Gruppe 0\nTitel: Neue und disziplinübergreifende Forschungsmethoden\nOrt: Atrium - SR 1\n\nhttps://lfuonline.uibk.ac.at/public/lfuonline_lv.details?sem_id_in=17S&lvnr_id_in=644902\n
CLASS:PUBLIC
DTSTART:20170314T170000Z
DTEND:20170314T183000Z
DTSTAMP:20260420T163106Z
LOCATION:Atrium - SR 1
END:VEVENT
BEGIN:VEVENT
UID:17S_644902_2796063@uibk.ac.at
ORGANIZER;CN="LFU:online Universität Innsbruck":MAILTO:Uni-Innsbruck-noreply@uibk.ac.at
SUMMARY:Neue und disziplinübergreifende Forschungsmethoden (LV 644902-0 17S)
DESCRIPTION:Lehrveranstaltung 644902 17S, Gruppe 0\nTitel: Neue und disziplinübergreifende Forschungsmethoden\nOrt: Atrium - SR 1\n\nhttps://lfuonline.uibk.ac.at/public/lfuonline_lv.details?sem_id_in=17S&lvnr_id_in=644902\n
CLASS:PUBLIC
DTSTART:20170321T170000Z
DTEND:20170321T183000Z
DTSTAMP:20260420T163106Z
LOCATION:Atrium - SR 1
END:VEVENT
BEGIN:VEVENT
UID:17S_644902_2796064@uibk.ac.at
ORGANIZER;CN="LFU:online Universität Innsbruck":MAILTO:Uni-Innsbruck-noreply@uibk.ac.at
SUMMARY:Neue und disziplinübergreifende Forschungsmethoden (LV 644902-0 17S)
DESCRIPTION:Lehrveranstaltung 644902 17S, Gruppe 0\nTitel: Neue und disziplinübergreifende Forschungsmethoden\nOrt: Atrium - SR 1\n\nhttps://lfuonline.uibk.ac.at/public/lfuonline_lv.details?sem_id_in=17S&lvnr_id_in=644902\n
CLASS:PUBLIC
DTSTART:20170328T160000Z
DTEND:20170328T173000Z
DTSTAMP:20260420T163106Z
LOCATION:Atrium - SR 1
END:VEVENT
BEGIN:VEVENT
UID:17S_644902_2796065@uibk.ac.at
ORGANIZER;CN="LFU:online Universität Innsbruck":MAILTO:Uni-Innsbruck-noreply@uibk.ac.at
SUMMARY:Neue und disziplinübergreifende Forschungsmethoden (LV 644902-0 17S)
DESCRIPTION:Lehrveranstaltung 644902 17S, Gruppe 0\nTitel: Neue und disziplinübergreifende Forschungsmethoden\nOrt: Atrium - SR 1\n\nhttps://lfuonline.uibk.ac.at/public/lfuonline_lv.details?sem_id_in=17S&lvnr_id_in=644902\n
CLASS:PUBLIC
DTSTART:20170404T160000Z
DTEND:20170404T173000Z
DTSTAMP:20260420T163106Z
LOCATION:Atrium - SR 1
END:VEVENT
BEGIN:VEVENT
UID:17S_644902_2796067@uibk.ac.at
ORGANIZER;CN="LFU:online Universität Innsbruck":MAILTO:Uni-Innsbruck-noreply@uibk.ac.at
SUMMARY:Neue und disziplinübergreifende Forschungsmethoden (LV 644902-0 17S)
DESCRIPTION:Lehrveranstaltung 644902 17S, Gruppe 0\nTitel: Neue und disziplinübergreifende Forschungsmethoden\nOrt: Atrium - SR 1\n\nhttps://lfuonline.uibk.ac.at/public/lfuonline_lv.details?sem_id_in=17S&lvnr_id_in=644902\n
CLASS:PUBLIC
DTSTART:20170502T160000Z
DTEND:20170502T173000Z
DTSTAMP:20260420T163106Z
LOCATION:Atrium - SR 1
END:VEVENT
BEGIN:VEVENT
UID:17S_644902_2796069@uibk.ac.at
ORGANIZER;CN="LFU:online Universität Innsbruck":MAILTO:Uni-Innsbruck-noreply@uibk.ac.at
SUMMARY:Neue und disziplinübergreifende Forschungsmethoden (LV 644902-0 17S)
DESCRIPTION:Lehrveranstaltung 644902 17S, Gruppe 0\nTitel: Neue und disziplinübergreifende Forschungsmethoden\nOrt: Atrium - SR 1\n\nhttps://lfuonline.uibk.ac.at/public/lfuonline_lv.details?sem_id_in=17S&lvnr_id_in=644902\n
CLASS:PUBLIC
DTSTART:20170516T160000Z
DTEND:20170516T173000Z
DTSTAMP:20260420T163106Z
LOCATION:Atrium - SR 1
END:VEVENT
BEGIN:VEVENT
UID:17S_644902_2796070@uibk.ac.at
ORGANIZER;CN="LFU:online Universität Innsbruck":MAILTO:Uni-Innsbruck-noreply@uibk.ac.at
SUMMARY:Neue und disziplinübergreifende Forschungsmethoden (LV 644902-0 17S)
DESCRIPTION:Lehrveranstaltung 644902 17S, Gruppe 0\nTitel: Neue und disziplinübergreifende Forschungsmethoden\nOrt: Atrium - SR 1\n\nhttps://lfuonline.uibk.ac.at/public/lfuonline_lv.details?sem_id_in=17S&lvnr_id_in=644902\n
CLASS:PUBLIC
DTSTART:20170523T160000Z
DTEND:20170523T173000Z
DTSTAMP:20260420T163106Z
LOCATION:Atrium - SR 1
END:VEVENT
BEGIN:VEVENT
UID:17S_644902_2796071@uibk.ac.at
ORGANIZER;CN="LFU:online Universität Innsbruck":MAILTO:Uni-Innsbruck-noreply@uibk.ac.at
SUMMARY:Neue und disziplinübergreifende Forschungsmethoden (LV 644902-0 17S)
DESCRIPTION:Lehrveranstaltung 644902 17S, Gruppe 0\nTitel: Neue und disziplinübergreifende Forschungsmethoden\nOrt: Atrium - SR 1\n\nhttps://lfuonline.uibk.ac.at/public/lfuonline_lv.details?sem_id_in=17S&lvnr_id_in=644902\n
CLASS:PUBLIC
DTSTART:20170530T160000Z
DTEND:20170530T173000Z
DTSTAMP:20260420T163106Z
LOCATION:Atrium - SR 1
END:VEVENT
BEGIN:VEVENT
UID:17S_644902_2796072@uibk.ac.at
ORGANIZER;CN="LFU:online Universität Innsbruck":MAILTO:Uni-Innsbruck-noreply@uibk.ac.at
SUMMARY:Neue und disziplinübergreifende Forschungsmethoden (LV 644902-0 17S)
DESCRIPTION:Lehrveranstaltung 644902 17S, Gruppe 0\nTitel: Neue und disziplinübergreifende Forschungsmethoden\nOrt: Atrium - SR 1\n\nhttps://lfuonline.uibk.ac.at/public/lfuonline_lv.details?sem_id_in=17S&lvnr_id_in=644902\n
CLASS:PUBLIC
DTSTART:20170606T160000Z
DTEND:20170606T173000Z
DTSTAMP:20260420T163106Z
LOCATION:Atrium - SR 1
END:VEVENT
BEGIN:VEVENT
UID:17S_644902_2796074@uibk.ac.at
ORGANIZER;CN="LFU:online Universität Innsbruck":MAILTO:Uni-Innsbruck-noreply@uibk.ac.at
SUMMARY:Neue und disziplinübergreifende Forschungsmethoden (LV 644902-0 17S)
DESCRIPTION:Lehrveranstaltung 644902 17S, Gruppe 0\nTitel: Neue und disziplinübergreifende Forschungsmethoden\nOrt: Atrium - SR 1\n\nhttps://lfuonline.uibk.ac.at/public/lfuonline_lv.details?sem_id_in=17S&lvnr_id_in=644902\n
CLASS:PUBLIC
DTSTART:20170620T160000Z
DTEND:20170620T173000Z
DTSTAMP:20260420T163106Z
LOCATION:Atrium - SR 1
END:VEVENT
BEGIN:VEVENT
UID:17S_644902_2796075@uibk.ac.at
ORGANIZER;CN="LFU:online Universität Innsbruck":MAILTO:Uni-Innsbruck-noreply@uibk.ac.at
SUMMARY:Neue und disziplinübergreifende Forschungsmethoden (LV 644902-0 17S)
DESCRIPTION:Lehrveranstaltung 644902 17S, Gruppe 0\nTitel: Neue und disziplinübergreifende Forschungsmethoden\nOrt: Atrium - SR 1\n\nhttps://lfuonline.uibk.ac.at/public/lfuonline_lv.details?sem_id_in=17S&lvnr_id_in=644902\n
CLASS:PUBLIC
DTSTART:20170627T160000Z
DTEND:20170627T173000Z
DTSTAMP:20260420T163106Z
LOCATION:Atrium - SR 1
END:VEVENT
END:VCALENDAR