BEGIN:VCALENDAR
VERSION:2.0
PRODID:-//Universität Innsbruck//LFU:online//DE
METHOD:PUBLISH
BEGIN:VEVENT
UID:18S_645002_3049661@uibk.ac.at
ORGANIZER;CN="LFU:online Universität Innsbruck":MAILTO:Uni-Innsbruck-noreply@uibk.ac.at
SUMMARY:SE mit Bachelorarbeit Mittelalter: Frauen im Mittelalter (LV 645002-0 18S)
DESCRIPTION:Lehrveranstaltung 645002 18S, Gruppe 0\nTitel: SE mit Bachelorarbeit Mittelalter: Frauen im Mittelalter\nOrt: 40718 SR\n\nhttps://lfuonline.uibk.ac.at/public/lfuonline_lv.details?sem_id_in=18S&lvnr_id_in=645002\n
CLASS:PUBLIC
DTSTART:20180308T124500Z
DTEND:20180308T141500Z
DTSTAMP:20260423T014359Z
LOCATION:40718 SR
END:VEVENT
BEGIN:VEVENT
UID:18S_645002_3049662@uibk.ac.at
ORGANIZER;CN="LFU:online Universität Innsbruck":MAILTO:Uni-Innsbruck-noreply@uibk.ac.at
SUMMARY:SE mit Bachelorarbeit Mittelalter: Frauen im Mittelalter (LV 645002-0 18S)
DESCRIPTION:Lehrveranstaltung 645002 18S, Gruppe 0\nTitel: SE mit Bachelorarbeit Mittelalter: Frauen im Mittelalter\nOrt: 40718 SR\n\nhttps://lfuonline.uibk.ac.at/public/lfuonline_lv.details?sem_id_in=18S&lvnr_id_in=645002\n
CLASS:PUBLIC
DTSTART:20180315T124500Z
DTEND:20180315T141500Z
DTSTAMP:20260423T014359Z
LOCATION:40718 SR
END:VEVENT
BEGIN:VEVENT
UID:18S_645002_3049663@uibk.ac.at
ORGANIZER;CN="LFU:online Universität Innsbruck":MAILTO:Uni-Innsbruck-noreply@uibk.ac.at
SUMMARY:SE mit Bachelorarbeit Mittelalter: Frauen im Mittelalter (LV 645002-0 18S)
DESCRIPTION:Lehrveranstaltung 645002 18S, Gruppe 0\nTitel: SE mit Bachelorarbeit Mittelalter: Frauen im Mittelalter\nOrt: 40718 SR\n\nhttps://lfuonline.uibk.ac.at/public/lfuonline_lv.details?sem_id_in=18S&lvnr_id_in=645002\n
CLASS:PUBLIC
DTSTART:20180322T124500Z
DTEND:20180322T141500Z
DTSTAMP:20260423T014359Z
LOCATION:40718 SR
END:VEVENT
BEGIN:VEVENT
UID:18S_645002_3049664@uibk.ac.at
ORGANIZER;CN="LFU:online Universität Innsbruck":MAILTO:Uni-Innsbruck-noreply@uibk.ac.at
SUMMARY:SE mit Bachelorarbeit Mittelalter: Frauen im Mittelalter (LV 645002-0 18S)
DESCRIPTION:Lehrveranstaltung 645002 18S, Gruppe 0\nTitel: SE mit Bachelorarbeit Mittelalter: Frauen im Mittelalter\nOrt: 40718 SR\n\nhttps://lfuonline.uibk.ac.at/public/lfuonline_lv.details?sem_id_in=18S&lvnr_id_in=645002\n
CLASS:PUBLIC
DTSTART:20180412T114500Z
DTEND:20180412T131500Z
DTSTAMP:20260423T014359Z
LOCATION:40718 SR
END:VEVENT
BEGIN:VEVENT
UID:18S_645002_3049665@uibk.ac.at
ORGANIZER;CN="LFU:online Universität Innsbruck":MAILTO:Uni-Innsbruck-noreply@uibk.ac.at
SUMMARY:SE mit Bachelorarbeit Mittelalter: Frauen im Mittelalter (LV 645002-0 18S)
DESCRIPTION:Lehrveranstaltung 645002 18S, Gruppe 0\nTitel: SE mit Bachelorarbeit Mittelalter: Frauen im Mittelalter\nOrt: 40718 SR\n\nhttps://lfuonline.uibk.ac.at/public/lfuonline_lv.details?sem_id_in=18S&lvnr_id_in=645002\n
CLASS:PUBLIC
DTSTART:20180419T114500Z
DTEND:20180419T131500Z
DTSTAMP:20260423T014359Z
LOCATION:40718 SR
END:VEVENT
BEGIN:VEVENT
UID:18S_645002_3049666@uibk.ac.at
ORGANIZER;CN="LFU:online Universität Innsbruck":MAILTO:Uni-Innsbruck-noreply@uibk.ac.at
SUMMARY:SE mit Bachelorarbeit Mittelalter: Frauen im Mittelalter (LV 645002-0 18S)
DESCRIPTION:Lehrveranstaltung 645002 18S, Gruppe 0\nTitel: SE mit Bachelorarbeit Mittelalter: Frauen im Mittelalter\nOrt: 40718 SR\n\nhttps://lfuonline.uibk.ac.at/public/lfuonline_lv.details?sem_id_in=18S&lvnr_id_in=645002\n
CLASS:PUBLIC
DTSTART:20180426T114500Z
DTEND:20180426T131500Z
DTSTAMP:20260423T014359Z
LOCATION:40718 SR
END:VEVENT
BEGIN:VEVENT
UID:18S_645002_3049667@uibk.ac.at
ORGANIZER;CN="LFU:online Universität Innsbruck":MAILTO:Uni-Innsbruck-noreply@uibk.ac.at
SUMMARY:SE mit Bachelorarbeit Mittelalter: Frauen im Mittelalter (LV 645002-0 18S)
DESCRIPTION:Lehrveranstaltung 645002 18S, Gruppe 0\nTitel: SE mit Bachelorarbeit Mittelalter: Frauen im Mittelalter\nOrt: 40718 SR\n\nhttps://lfuonline.uibk.ac.at/public/lfuonline_lv.details?sem_id_in=18S&lvnr_id_in=645002\n
CLASS:PUBLIC
DTSTART:20180503T114500Z
DTEND:20180503T131500Z
DTSTAMP:20260423T014359Z
LOCATION:40718 SR
END:VEVENT
BEGIN:VEVENT
UID:18S_645002_3049668@uibk.ac.at
ORGANIZER;CN="LFU:online Universität Innsbruck":MAILTO:Uni-Innsbruck-noreply@uibk.ac.at
SUMMARY:SE mit Bachelorarbeit Mittelalter: Frauen im Mittelalter (LV 645002-0 18S)
DESCRIPTION:Lehrveranstaltung 645002 18S, Gruppe 0\nTitel: SE mit Bachelorarbeit Mittelalter: Frauen im Mittelalter\nOrt: 40718 SR\n\nhttps://lfuonline.uibk.ac.at/public/lfuonline_lv.details?sem_id_in=18S&lvnr_id_in=645002\n
CLASS:PUBLIC
DTSTART:20180517T114500Z
DTEND:20180517T131500Z
DTSTAMP:20260423T014359Z
LOCATION:40718 SR
END:VEVENT
BEGIN:VEVENT
UID:18S_645002_3049669@uibk.ac.at
ORGANIZER;CN="LFU:online Universität Innsbruck":MAILTO:Uni-Innsbruck-noreply@uibk.ac.at
SUMMARY:SE mit Bachelorarbeit Mittelalter: Frauen im Mittelalter (LV 645002-0 18S)
DESCRIPTION:Lehrveranstaltung 645002 18S, Gruppe 0\nTitel: SE mit Bachelorarbeit Mittelalter: Frauen im Mittelalter\nOrt: 40718 SR\n\nhttps://lfuonline.uibk.ac.at/public/lfuonline_lv.details?sem_id_in=18S&lvnr_id_in=645002\n
CLASS:PUBLIC
DTSTART:20180524T114500Z
DTEND:20180524T131500Z
DTSTAMP:20260423T014359Z
LOCATION:40718 SR
END:VEVENT
BEGIN:VEVENT
UID:18S_645002_3049670@uibk.ac.at
ORGANIZER;CN="LFU:online Universität Innsbruck":MAILTO:Uni-Innsbruck-noreply@uibk.ac.at
SUMMARY:SE mit Bachelorarbeit Mittelalter: Frauen im Mittelalter (LV 645002-0 18S)
DESCRIPTION:Lehrveranstaltung 645002 18S, Gruppe 0\nTitel: SE mit Bachelorarbeit Mittelalter: Frauen im Mittelalter\nOrt: 40718 SR\n\nhttps://lfuonline.uibk.ac.at/public/lfuonline_lv.details?sem_id_in=18S&lvnr_id_in=645002\n
CLASS:PUBLIC
DTSTART:20180607T114500Z
DTEND:20180607T131500Z
DTSTAMP:20260423T014359Z
LOCATION:40718 SR
END:VEVENT
BEGIN:VEVENT
UID:18S_645002_3049671@uibk.ac.at
ORGANIZER;CN="LFU:online Universität Innsbruck":MAILTO:Uni-Innsbruck-noreply@uibk.ac.at
SUMMARY:SE mit Bachelorarbeit Mittelalter: Frauen im Mittelalter (LV 645002-0 18S)
DESCRIPTION:Lehrveranstaltung 645002 18S, Gruppe 0\nTitel: SE mit Bachelorarbeit Mittelalter: Frauen im Mittelalter\nOrt: 40718 SR\n\nhttps://lfuonline.uibk.ac.at/public/lfuonline_lv.details?sem_id_in=18S&lvnr_id_in=645002\n
CLASS:PUBLIC
DTSTART:20180614T114500Z
DTEND:20180614T131500Z
DTSTAMP:20260423T014359Z
LOCATION:40718 SR
END:VEVENT
BEGIN:VEVENT
UID:18S_645002_3049672@uibk.ac.at
ORGANIZER;CN="LFU:online Universität Innsbruck":MAILTO:Uni-Innsbruck-noreply@uibk.ac.at
SUMMARY:SE mit Bachelorarbeit Mittelalter: Frauen im Mittelalter (LV 645002-0 18S)
DESCRIPTION:Lehrveranstaltung 645002 18S, Gruppe 0\nTitel: SE mit Bachelorarbeit Mittelalter: Frauen im Mittelalter\nOrt: 40718 SR\n\nhttps://lfuonline.uibk.ac.at/public/lfuonline_lv.details?sem_id_in=18S&lvnr_id_in=645002\n
CLASS:PUBLIC
DTSTART:20180621T114500Z
DTEND:20180621T131500Z
DTSTAMP:20260423T014359Z
LOCATION:40718 SR
END:VEVENT
BEGIN:VEVENT
UID:18S_645002_3049673@uibk.ac.at
ORGANIZER;CN="LFU:online Universität Innsbruck":MAILTO:Uni-Innsbruck-noreply@uibk.ac.at
SUMMARY:SE mit Bachelorarbeit Mittelalter: Frauen im Mittelalter (LV 645002-0 18S)
DESCRIPTION:Lehrveranstaltung 645002 18S, Gruppe 0\nTitel: SE mit Bachelorarbeit Mittelalter: Frauen im Mittelalter\nOrt: 40718 SR\n\nhttps://lfuonline.uibk.ac.at/public/lfuonline_lv.details?sem_id_in=18S&lvnr_id_in=645002\n
CLASS:PUBLIC
DTSTART:20180628T114500Z
DTEND:20180628T131500Z
DTSTAMP:20260423T014359Z
LOCATION:40718 SR
END:VEVENT
END:VCALENDAR