BEGIN:VCALENDAR
VERSION:2.0
PRODID:-//Universität Innsbruck//LFU:online//DE
METHOD:PUBLISH
BEGIN:VEVENT
UID:18S_645009_3047987@uibk.ac.at
ORGANIZER;CN="LFU:online Universität Innsbruck":MAILTO:Uni-Innsbruck-noreply@uibk.ac.at
SUMMARY:Quellen und Darstellungen des Mittelalters: Digitale Diplomatik (LV 645009-0 18S)
DESCRIPTION:Lehrveranstaltung 645009 18S, Gruppe 0\nTitel: Quellen und Darstellungen des Mittelalters: Digitale Diplomatik\nOrt: 40718 SR\n\nhttps://lfuonline.uibk.ac.at/public/lfuonline_lv.details?sem_id_in=18S&lvnr_id_in=645009\n
CLASS:PUBLIC
DTSTART:20180305T143000Z
DTEND:20180305T160000Z
DTSTAMP:20260420T061151Z
LOCATION:40718 SR
END:VEVENT
BEGIN:VEVENT
UID:18S_645009_3047939@uibk.ac.at
ORGANIZER;CN="LFU:online Universität Innsbruck":MAILTO:Uni-Innsbruck-noreply@uibk.ac.at
SUMMARY:Quellen und Darstellungen des Mittelalters: Digitale Diplomatik (LV 645009-0 18S)
DESCRIPTION:Lehrveranstaltung 645009 18S, Gruppe 0\nTitel: Quellen und Darstellungen des Mittelalters: Digitale Diplomatik\nOrt: 40718 SR\n\nhttps://lfuonline.uibk.ac.at/public/lfuonline_lv.details?sem_id_in=18S&lvnr_id_in=645009\n
CLASS:PUBLIC
DTSTART:20180312T143000Z
DTEND:20180312T160000Z
DTSTAMP:20260420T061151Z
LOCATION:40718 SR
END:VEVENT
BEGIN:VEVENT
UID:18S_645009_3047940@uibk.ac.at
ORGANIZER;CN="LFU:online Universität Innsbruck":MAILTO:Uni-Innsbruck-noreply@uibk.ac.at
SUMMARY:Quellen und Darstellungen des Mittelalters: Digitale Diplomatik (LV 645009-0 18S)
DESCRIPTION:Lehrveranstaltung 645009 18S, Gruppe 0\nTitel: Quellen und Darstellungen des Mittelalters: Digitale Diplomatik\nOrt: 40718 SR\n\nhttps://lfuonline.uibk.ac.at/public/lfuonline_lv.details?sem_id_in=18S&lvnr_id_in=645009\n
CLASS:PUBLIC
DTSTART:20180409T133000Z
DTEND:20180409T150000Z
DTSTAMP:20260420T061151Z
LOCATION:40718 SR
END:VEVENT
BEGIN:VEVENT
UID:18S_645009_3047941@uibk.ac.at
ORGANIZER;CN="LFU:online Universität Innsbruck":MAILTO:Uni-Innsbruck-noreply@uibk.ac.at
SUMMARY:Quellen und Darstellungen des Mittelalters: Digitale Diplomatik (LV 645009-0 18S)
DESCRIPTION:Lehrveranstaltung 645009 18S, Gruppe 0\nTitel: Quellen und Darstellungen des Mittelalters: Digitale Diplomatik\nOrt: 40718 SR\n\nhttps://lfuonline.uibk.ac.at/public/lfuonline_lv.details?sem_id_in=18S&lvnr_id_in=645009\n
CLASS:PUBLIC
DTSTART:20180423T133000Z
DTEND:20180423T150000Z
DTSTAMP:20260420T061151Z
LOCATION:40718 SR
END:VEVENT
BEGIN:VEVENT
UID:18S_645009_3047942@uibk.ac.at
ORGANIZER;CN="LFU:online Universität Innsbruck":MAILTO:Uni-Innsbruck-noreply@uibk.ac.at
SUMMARY:Quellen und Darstellungen des Mittelalters: Digitale Diplomatik (LV 645009-0 18S)
DESCRIPTION:Lehrveranstaltung 645009 18S, Gruppe 0\nTitel: Quellen und Darstellungen des Mittelalters: Digitale Diplomatik\nOrt: 40718 SR\n\nhttps://lfuonline.uibk.ac.at/public/lfuonline_lv.details?sem_id_in=18S&lvnr_id_in=645009\n
CLASS:PUBLIC
DTSTART:20180507T133000Z
DTEND:20180507T150000Z
DTSTAMP:20260420T061151Z
LOCATION:40718 SR
END:VEVENT
BEGIN:VEVENT
UID:18S_645009_3047943@uibk.ac.at
ORGANIZER;CN="LFU:online Universität Innsbruck":MAILTO:Uni-Innsbruck-noreply@uibk.ac.at
SUMMARY:Quellen und Darstellungen des Mittelalters: Digitale Diplomatik (LV 645009-0 18S)
DESCRIPTION:Lehrveranstaltung 645009 18S, Gruppe 0\nTitel: Quellen und Darstellungen des Mittelalters: Digitale Diplomatik\nOrt: 40718 SR\n\nhttps://lfuonline.uibk.ac.at/public/lfuonline_lv.details?sem_id_in=18S&lvnr_id_in=645009\n
CLASS:PUBLIC
DTSTART:20180604T133000Z
DTEND:20180604T150000Z
DTSTAMP:20260420T061151Z
LOCATION:40718 SR
END:VEVENT
BEGIN:VEVENT
UID:18S_645009_3047944@uibk.ac.at
ORGANIZER;CN="LFU:online Universität Innsbruck":MAILTO:Uni-Innsbruck-noreply@uibk.ac.at
SUMMARY:Quellen und Darstellungen des Mittelalters: Digitale Diplomatik (LV 645009-0 18S)
DESCRIPTION:Lehrveranstaltung 645009 18S, Gruppe 0\nTitel: Quellen und Darstellungen des Mittelalters: Digitale Diplomatik\nOrt: 40718 SR\n\nhttps://lfuonline.uibk.ac.at/public/lfuonline_lv.details?sem_id_in=18S&lvnr_id_in=645009\n
CLASS:PUBLIC
DTSTART:20180618T133000Z
DTEND:20180618T150000Z
DTSTAMP:20260420T061151Z
LOCATION:40718 SR
END:VEVENT
END:VCALENDAR