BEGIN:VCALENDAR
VERSION:2.0
PRODID:-//Universität Innsbruck//LFU:online//DE
METHOD:PUBLISH
BEGIN:VEVENT
UID:22S_645012_4009158@uibk.ac.at
ORGANIZER;CN="LFU:online Universität Innsbruck":MAILTO:Uni-Innsbruck-noreply@uibk.ac.at
SUMMARY:SE Mittelalter: Friedrich Barbarossa und Italien (LV 645012-0 22S)
DESCRIPTION:Lehrveranstaltung 645012 22S, Gruppe 0\nTitel: SE Mittelalter: Friedrich Barbarossa und Italien\nOrt: 40601 UR\n\nhttps://lfuonline.uibk.ac.at/public/lfuonline_lv.details?sem_id_in=22S&lvnr_id_in=645012\n
CLASS:PUBLIC
DTSTART:20220308T091500Z
DTEND:20220308T104500Z
DTSTAMP:20260425T210643Z
LOCATION:40601 UR
END:VEVENT
BEGIN:VEVENT
UID:22S_645012_4009159@uibk.ac.at
ORGANIZER;CN="LFU:online Universität Innsbruck":MAILTO:Uni-Innsbruck-noreply@uibk.ac.at
SUMMARY:SE Mittelalter: Friedrich Barbarossa und Italien (LV 645012-0 22S)
DESCRIPTION:Lehrveranstaltung 645012 22S, Gruppe 0\nTitel: SE Mittelalter: Friedrich Barbarossa und Italien\nOrt: 40601 UR\n\nhttps://lfuonline.uibk.ac.at/public/lfuonline_lv.details?sem_id_in=22S&lvnr_id_in=645012\n
CLASS:PUBLIC
DTSTART:20220315T091500Z
DTEND:20220315T104500Z
DTSTAMP:20260425T210643Z
LOCATION:40601 UR
END:VEVENT
BEGIN:VEVENT
UID:22S_645012_4009160@uibk.ac.at
ORGANIZER;CN="LFU:online Universität Innsbruck":MAILTO:Uni-Innsbruck-noreply@uibk.ac.at
SUMMARY:SE Mittelalter: Friedrich Barbarossa und Italien (LV 645012-0 22S)
DESCRIPTION:Lehrveranstaltung 645012 22S, Gruppe 0\nTitel: SE Mittelalter: Friedrich Barbarossa und Italien\nOrt: 40601 UR\n\nhttps://lfuonline.uibk.ac.at/public/lfuonline_lv.details?sem_id_in=22S&lvnr_id_in=645012\n
CLASS:PUBLIC
DTSTART:20220322T091500Z
DTEND:20220322T104500Z
DTSTAMP:20260425T210643Z
LOCATION:40601 UR
END:VEVENT
BEGIN:VEVENT
UID:22S_645012_4009161@uibk.ac.at
ORGANIZER;CN="LFU:online Universität Innsbruck":MAILTO:Uni-Innsbruck-noreply@uibk.ac.at
SUMMARY:SE Mittelalter: Friedrich Barbarossa und Italien (LV 645012-0 22S)
DESCRIPTION:Lehrveranstaltung 645012 22S, Gruppe 0\nTitel: SE Mittelalter: Friedrich Barbarossa und Italien\nOrt: 40601 UR\n\nhttps://lfuonline.uibk.ac.at/public/lfuonline_lv.details?sem_id_in=22S&lvnr_id_in=645012\n
CLASS:PUBLIC
DTSTART:20220329T081500Z
DTEND:20220329T094500Z
DTSTAMP:20260425T210643Z
LOCATION:40601 UR
END:VEVENT
BEGIN:VEVENT
UID:22S_645012_4009162@uibk.ac.at
ORGANIZER;CN="LFU:online Universität Innsbruck":MAILTO:Uni-Innsbruck-noreply@uibk.ac.at
SUMMARY:SE Mittelalter: Friedrich Barbarossa und Italien (LV 645012-0 22S)
DESCRIPTION:Lehrveranstaltung 645012 22S, Gruppe 0\nTitel: SE Mittelalter: Friedrich Barbarossa und Italien\nOrt: 40601 UR\n\nhttps://lfuonline.uibk.ac.at/public/lfuonline_lv.details?sem_id_in=22S&lvnr_id_in=645012\n
CLASS:PUBLIC
DTSTART:20220405T081500Z
DTEND:20220405T094500Z
DTSTAMP:20260425T210643Z
LOCATION:40601 UR
END:VEVENT
BEGIN:VEVENT
UID:22S_645012_4009163@uibk.ac.at
ORGANIZER;CN="LFU:online Universität Innsbruck":MAILTO:Uni-Innsbruck-noreply@uibk.ac.at
SUMMARY:SE Mittelalter: Friedrich Barbarossa und Italien (LV 645012-0 22S)
DESCRIPTION:Lehrveranstaltung 645012 22S, Gruppe 0\nTitel: SE Mittelalter: Friedrich Barbarossa und Italien\nOrt: 40601 UR\n\nhttps://lfuonline.uibk.ac.at/public/lfuonline_lv.details?sem_id_in=22S&lvnr_id_in=645012\n
CLASS:PUBLIC
DTSTART:20220426T081500Z
DTEND:20220426T094500Z
DTSTAMP:20260425T210643Z
LOCATION:40601 UR
END:VEVENT
BEGIN:VEVENT
UID:22S_645012_4009164@uibk.ac.at
ORGANIZER;CN="LFU:online Universität Innsbruck":MAILTO:Uni-Innsbruck-noreply@uibk.ac.at
SUMMARY:SE Mittelalter: Friedrich Barbarossa und Italien (LV 645012-0 22S)
DESCRIPTION:Lehrveranstaltung 645012 22S, Gruppe 0\nTitel: SE Mittelalter: Friedrich Barbarossa und Italien\nOrt: 40601 UR\n\nhttps://lfuonline.uibk.ac.at/public/lfuonline_lv.details?sem_id_in=22S&lvnr_id_in=645012\n
CLASS:PUBLIC
DTSTART:20220503T081500Z
DTEND:20220503T094500Z
DTSTAMP:20260425T210643Z
LOCATION:40601 UR
END:VEVENT
BEGIN:VEVENT
UID:22S_645012_4009165@uibk.ac.at
ORGANIZER;CN="LFU:online Universität Innsbruck":MAILTO:Uni-Innsbruck-noreply@uibk.ac.at
SUMMARY:SE Mittelalter: Friedrich Barbarossa und Italien (LV 645012-0 22S)
DESCRIPTION:Lehrveranstaltung 645012 22S, Gruppe 0\nTitel: SE Mittelalter: Friedrich Barbarossa und Italien\nOrt: 40601 UR\n\nhttps://lfuonline.uibk.ac.at/public/lfuonline_lv.details?sem_id_in=22S&lvnr_id_in=645012\n
CLASS:PUBLIC
DTSTART:20220510T081500Z
DTEND:20220510T094500Z
DTSTAMP:20260425T210643Z
LOCATION:40601 UR
END:VEVENT
BEGIN:VEVENT
UID:22S_645012_4009166@uibk.ac.at
ORGANIZER;CN="LFU:online Universität Innsbruck":MAILTO:Uni-Innsbruck-noreply@uibk.ac.at
SUMMARY:SE Mittelalter: Friedrich Barbarossa und Italien (LV 645012-0 22S)
DESCRIPTION:Lehrveranstaltung 645012 22S, Gruppe 0\nTitel: SE Mittelalter: Friedrich Barbarossa und Italien\nOrt: 40601 UR\n\nhttps://lfuonline.uibk.ac.at/public/lfuonline_lv.details?sem_id_in=22S&lvnr_id_in=645012\n
CLASS:PUBLIC
DTSTART:20220517T081500Z
DTEND:20220517T094500Z
DTSTAMP:20260425T210643Z
LOCATION:40601 UR
END:VEVENT
BEGIN:VEVENT
UID:22S_645012_4009167@uibk.ac.at
ORGANIZER;CN="LFU:online Universität Innsbruck":MAILTO:Uni-Innsbruck-noreply@uibk.ac.at
SUMMARY:SE Mittelalter: Friedrich Barbarossa und Italien (LV 645012-0 22S)
DESCRIPTION:Lehrveranstaltung 645012 22S, Gruppe 0\nTitel: SE Mittelalter: Friedrich Barbarossa und Italien\nOrt: 40601 UR\n\nhttps://lfuonline.uibk.ac.at/public/lfuonline_lv.details?sem_id_in=22S&lvnr_id_in=645012\n
CLASS:PUBLIC
DTSTART:20220524T081500Z
DTEND:20220524T094500Z
DTSTAMP:20260425T210643Z
LOCATION:40601 UR
END:VEVENT
BEGIN:VEVENT
UID:22S_645012_4009168@uibk.ac.at
ORGANIZER;CN="LFU:online Universität Innsbruck":MAILTO:Uni-Innsbruck-noreply@uibk.ac.at
SUMMARY:SE Mittelalter: Friedrich Barbarossa und Italien (LV 645012-0 22S)
DESCRIPTION:Lehrveranstaltung 645012 22S, Gruppe 0\nTitel: SE Mittelalter: Friedrich Barbarossa und Italien\nOrt: 40601 UR\n\nhttps://lfuonline.uibk.ac.at/public/lfuonline_lv.details?sem_id_in=22S&lvnr_id_in=645012\n
CLASS:PUBLIC
DTSTART:20220531T081500Z
DTEND:20220531T094500Z
DTSTAMP:20260425T210643Z
LOCATION:40601 UR
END:VEVENT
BEGIN:VEVENT
UID:22S_645012_4009169@uibk.ac.at
ORGANIZER;CN="LFU:online Universität Innsbruck":MAILTO:Uni-Innsbruck-noreply@uibk.ac.at
SUMMARY:SE Mittelalter: Friedrich Barbarossa und Italien (LV 645012-0 22S)
DESCRIPTION:Lehrveranstaltung 645012 22S, Gruppe 0\nTitel: SE Mittelalter: Friedrich Barbarossa und Italien\nOrt: 40601 UR\n\nhttps://lfuonline.uibk.ac.at/public/lfuonline_lv.details?sem_id_in=22S&lvnr_id_in=645012\n
CLASS:PUBLIC
DTSTART:20220607T081500Z
DTEND:20220607T094500Z
DTSTAMP:20260425T210643Z
LOCATION:40601 UR
END:VEVENT
BEGIN:VEVENT
UID:22S_645012_4009170@uibk.ac.at
ORGANIZER;CN="LFU:online Universität Innsbruck":MAILTO:Uni-Innsbruck-noreply@uibk.ac.at
SUMMARY:SE Mittelalter: Friedrich Barbarossa und Italien (LV 645012-0 22S)
DESCRIPTION:Lehrveranstaltung 645012 22S, Gruppe 0\nTitel: SE Mittelalter: Friedrich Barbarossa und Italien\nOrt: 40601 UR\n\nhttps://lfuonline.uibk.ac.at/public/lfuonline_lv.details?sem_id_in=22S&lvnr_id_in=645012\n
CLASS:PUBLIC
DTSTART:20220614T081500Z
DTEND:20220614T094500Z
DTSTAMP:20260425T210643Z
LOCATION:40601 UR
END:VEVENT
BEGIN:VEVENT
UID:22S_645012_4009171@uibk.ac.at
ORGANIZER;CN="LFU:online Universität Innsbruck":MAILTO:Uni-Innsbruck-noreply@uibk.ac.at
SUMMARY:SE Mittelalter: Friedrich Barbarossa und Italien (LV 645012-0 22S)
DESCRIPTION:Lehrveranstaltung 645012 22S, Gruppe 0\nTitel: SE Mittelalter: Friedrich Barbarossa und Italien\nOrt: 40601 UR\n\nhttps://lfuonline.uibk.ac.at/public/lfuonline_lv.details?sem_id_in=22S&lvnr_id_in=645012\n
CLASS:PUBLIC
DTSTART:20220621T081500Z
DTEND:20220621T094500Z
DTSTAMP:20260425T210643Z
LOCATION:40601 UR
END:VEVENT
BEGIN:VEVENT
UID:22S_645012_4009172@uibk.ac.at
ORGANIZER;CN="LFU:online Universität Innsbruck":MAILTO:Uni-Innsbruck-noreply@uibk.ac.at
SUMMARY:SE Mittelalter: Friedrich Barbarossa und Italien (LV 645012-0 22S)
DESCRIPTION:Lehrveranstaltung 645012 22S, Gruppe 0\nTitel: SE Mittelalter: Friedrich Barbarossa und Italien\nOrt: 40601 UR\n\nhttps://lfuonline.uibk.ac.at/public/lfuonline_lv.details?sem_id_in=22S&lvnr_id_in=645012\n
CLASS:PUBLIC
DTSTART:20220628T081500Z
DTEND:20220628T094500Z
DTSTAMP:20260425T210643Z
LOCATION:40601 UR
END:VEVENT
END:VCALENDAR