BEGIN:VCALENDAR
VERSION:2.0
PRODID:-//Universität Innsbruck//LFU:online//DE
METHOD:PUBLISH
BEGIN:VEVENT
UID:19W_645104_3392770@uibk.ac.at
ORGANIZER;CN="LFU:online Universität Innsbruck":MAILTO:Uni-Innsbruck-noreply@uibk.ac.at
SUMMARY:UE Allgemeine wissenschaftliche Arbeitstechniken (LV 645104-0 19W)
DESCRIPTION:Lehrveranstaltung 645104 19W, Gruppe 0\nTitel: UE Allgemeine wissenschaftliche Arbeitstechniken\nOrt: 40601 UR\n\nhttps://lfuonline.uibk.ac.at/public/lfuonline_lv.details?sem_id_in=19W&lvnr_id_in=645104\n
CLASS:PUBLIC
DTSTART:20191002T064500Z
DTEND:20191002T081500Z
DTSTAMP:20260423T210836Z
LOCATION:40601 UR
END:VEVENT
BEGIN:VEVENT
UID:19W_645104_3392771@uibk.ac.at
ORGANIZER;CN="LFU:online Universität Innsbruck":MAILTO:Uni-Innsbruck-noreply@uibk.ac.at
SUMMARY:UE Allgemeine wissenschaftliche Arbeitstechniken (LV 645104-0 19W)
DESCRIPTION:Lehrveranstaltung 645104 19W, Gruppe 0\nTitel: UE Allgemeine wissenschaftliche Arbeitstechniken\nOrt: 40601 UR\n\nhttps://lfuonline.uibk.ac.at/public/lfuonline_lv.details?sem_id_in=19W&lvnr_id_in=645104\n
CLASS:PUBLIC
DTSTART:20191009T064500Z
DTEND:20191009T081500Z
DTSTAMP:20260423T210836Z
LOCATION:40601 UR
END:VEVENT
BEGIN:VEVENT
UID:19W_645104_3392772@uibk.ac.at
ORGANIZER;CN="LFU:online Universität Innsbruck":MAILTO:Uni-Innsbruck-noreply@uibk.ac.at
SUMMARY:UE Allgemeine wissenschaftliche Arbeitstechniken (LV 645104-0 19W)
DESCRIPTION:Lehrveranstaltung 645104 19W, Gruppe 0\nTitel: UE Allgemeine wissenschaftliche Arbeitstechniken\nOrt: 40601 UR\n\nhttps://lfuonline.uibk.ac.at/public/lfuonline_lv.details?sem_id_in=19W&lvnr_id_in=645104\n
CLASS:PUBLIC
DTSTART:20191016T064500Z
DTEND:20191016T081500Z
DTSTAMP:20260423T210836Z
LOCATION:40601 UR
END:VEVENT
BEGIN:VEVENT
UID:19W_645104_3392773@uibk.ac.at
ORGANIZER;CN="LFU:online Universität Innsbruck":MAILTO:Uni-Innsbruck-noreply@uibk.ac.at
SUMMARY:UE Allgemeine wissenschaftliche Arbeitstechniken (LV 645104-0 19W)
DESCRIPTION:Lehrveranstaltung 645104 19W, Gruppe 0\nTitel: UE Allgemeine wissenschaftliche Arbeitstechniken\nOrt: 40601 UR\n\nhttps://lfuonline.uibk.ac.at/public/lfuonline_lv.details?sem_id_in=19W&lvnr_id_in=645104\n
CLASS:PUBLIC
DTSTART:20191023T064500Z
DTEND:20191023T081500Z
DTSTAMP:20260423T210836Z
LOCATION:40601 UR
END:VEVENT
BEGIN:VEVENT
UID:19W_645104_3392774@uibk.ac.at
ORGANIZER;CN="LFU:online Universität Innsbruck":MAILTO:Uni-Innsbruck-noreply@uibk.ac.at
SUMMARY:UE Allgemeine wissenschaftliche Arbeitstechniken (LV 645104-0 19W)
DESCRIPTION:Lehrveranstaltung 645104 19W, Gruppe 0\nTitel: UE Allgemeine wissenschaftliche Arbeitstechniken\nOrt: 40601 UR\n\nhttps://lfuonline.uibk.ac.at/public/lfuonline_lv.details?sem_id_in=19W&lvnr_id_in=645104\n
CLASS:PUBLIC
DTSTART:20191030T074500Z
DTEND:20191030T091500Z
DTSTAMP:20260423T210836Z
LOCATION:40601 UR
END:VEVENT
BEGIN:VEVENT
UID:19W_645104_3392775@uibk.ac.at
ORGANIZER;CN="LFU:online Universität Innsbruck":MAILTO:Uni-Innsbruck-noreply@uibk.ac.at
SUMMARY:UE Allgemeine wissenschaftliche Arbeitstechniken (LV 645104-0 19W)
DESCRIPTION:Lehrveranstaltung 645104 19W, Gruppe 0\nTitel: UE Allgemeine wissenschaftliche Arbeitstechniken\nOrt: 40601 UR\n\nhttps://lfuonline.uibk.ac.at/public/lfuonline_lv.details?sem_id_in=19W&lvnr_id_in=645104\n
CLASS:PUBLIC
DTSTART:20191106T074500Z
DTEND:20191106T091500Z
DTSTAMP:20260423T210836Z
LOCATION:40601 UR
END:VEVENT
BEGIN:VEVENT
UID:19W_645104_3392776@uibk.ac.at
ORGANIZER;CN="LFU:online Universität Innsbruck":MAILTO:Uni-Innsbruck-noreply@uibk.ac.at
SUMMARY:UE Allgemeine wissenschaftliche Arbeitstechniken (LV 645104-0 19W)
DESCRIPTION:Lehrveranstaltung 645104 19W, Gruppe 0\nTitel: UE Allgemeine wissenschaftliche Arbeitstechniken\nOrt: 40601 UR\n\nhttps://lfuonline.uibk.ac.at/public/lfuonline_lv.details?sem_id_in=19W&lvnr_id_in=645104\n
CLASS:PUBLIC
DTSTART:20191113T074500Z
DTEND:20191113T091500Z
DTSTAMP:20260423T210836Z
LOCATION:40601 UR
END:VEVENT
BEGIN:VEVENT
UID:19W_645104_3392777@uibk.ac.at
ORGANIZER;CN="LFU:online Universität Innsbruck":MAILTO:Uni-Innsbruck-noreply@uibk.ac.at
SUMMARY:UE Allgemeine wissenschaftliche Arbeitstechniken (LV 645104-0 19W)
DESCRIPTION:Lehrveranstaltung 645104 19W, Gruppe 0\nTitel: UE Allgemeine wissenschaftliche Arbeitstechniken\nOrt: 40601 UR\n\nhttps://lfuonline.uibk.ac.at/public/lfuonline_lv.details?sem_id_in=19W&lvnr_id_in=645104\n
CLASS:PUBLIC
DTSTART:20191120T074500Z
DTEND:20191120T091500Z
DTSTAMP:20260423T210836Z
LOCATION:40601 UR
END:VEVENT
BEGIN:VEVENT
UID:19W_645104_3392778@uibk.ac.at
ORGANIZER;CN="LFU:online Universität Innsbruck":MAILTO:Uni-Innsbruck-noreply@uibk.ac.at
SUMMARY:UE Allgemeine wissenschaftliche Arbeitstechniken (LV 645104-0 19W)
DESCRIPTION:Lehrveranstaltung 645104 19W, Gruppe 0\nTitel: UE Allgemeine wissenschaftliche Arbeitstechniken\nOrt: 40601 UR\n\nhttps://lfuonline.uibk.ac.at/public/lfuonline_lv.details?sem_id_in=19W&lvnr_id_in=645104\n
CLASS:PUBLIC
DTSTART:20191127T074500Z
DTEND:20191127T091500Z
DTSTAMP:20260423T210836Z
LOCATION:40601 UR
END:VEVENT
BEGIN:VEVENT
UID:19W_645104_3392779@uibk.ac.at
ORGANIZER;CN="LFU:online Universität Innsbruck":MAILTO:Uni-Innsbruck-noreply@uibk.ac.at
SUMMARY:UE Allgemeine wissenschaftliche Arbeitstechniken (LV 645104-0 19W)
DESCRIPTION:Lehrveranstaltung 645104 19W, Gruppe 0\nTitel: UE Allgemeine wissenschaftliche Arbeitstechniken\nOrt: 40601 UR\n\nhttps://lfuonline.uibk.ac.at/public/lfuonline_lv.details?sem_id_in=19W&lvnr_id_in=645104\n
CLASS:PUBLIC
DTSTART:20191204T074500Z
DTEND:20191204T091500Z
DTSTAMP:20260423T210836Z
LOCATION:40601 UR
END:VEVENT
BEGIN:VEVENT
UID:19W_645104_3392780@uibk.ac.at
ORGANIZER;CN="LFU:online Universität Innsbruck":MAILTO:Uni-Innsbruck-noreply@uibk.ac.at
SUMMARY:UE Allgemeine wissenschaftliche Arbeitstechniken (LV 645104-0 19W)
DESCRIPTION:Lehrveranstaltung 645104 19W, Gruppe 0\nTitel: UE Allgemeine wissenschaftliche Arbeitstechniken\nOrt: 40601 UR\n\nhttps://lfuonline.uibk.ac.at/public/lfuonline_lv.details?sem_id_in=19W&lvnr_id_in=645104\n
CLASS:PUBLIC
DTSTART:20191211T074500Z
DTEND:20191211T091500Z
DTSTAMP:20260423T210836Z
LOCATION:40601 UR
END:VEVENT
BEGIN:VEVENT
UID:19W_645104_3392781@uibk.ac.at
ORGANIZER;CN="LFU:online Universität Innsbruck":MAILTO:Uni-Innsbruck-noreply@uibk.ac.at
SUMMARY:UE Allgemeine wissenschaftliche Arbeitstechniken (LV 645104-0 19W)
DESCRIPTION:Lehrveranstaltung 645104 19W, Gruppe 0\nTitel: UE Allgemeine wissenschaftliche Arbeitstechniken\nOrt: 40601 UR\n\nhttps://lfuonline.uibk.ac.at/public/lfuonline_lv.details?sem_id_in=19W&lvnr_id_in=645104\n
CLASS:PUBLIC
DTSTART:20200108T074500Z
DTEND:20200108T091500Z
DTSTAMP:20260423T210836Z
LOCATION:40601 UR
END:VEVENT
BEGIN:VEVENT
UID:19W_645104_3392782@uibk.ac.at
ORGANIZER;CN="LFU:online Universität Innsbruck":MAILTO:Uni-Innsbruck-noreply@uibk.ac.at
SUMMARY:UE Allgemeine wissenschaftliche Arbeitstechniken (LV 645104-0 19W)
DESCRIPTION:Lehrveranstaltung 645104 19W, Gruppe 0\nTitel: UE Allgemeine wissenschaftliche Arbeitstechniken\nOrt: 40601 UR\n\nhttps://lfuonline.uibk.ac.at/public/lfuonline_lv.details?sem_id_in=19W&lvnr_id_in=645104\n
CLASS:PUBLIC
DTSTART:20200115T074500Z
DTEND:20200115T091500Z
DTSTAMP:20260423T210836Z
LOCATION:40601 UR
END:VEVENT
BEGIN:VEVENT
UID:19W_645104_3392783@uibk.ac.at
ORGANIZER;CN="LFU:online Universität Innsbruck":MAILTO:Uni-Innsbruck-noreply@uibk.ac.at
SUMMARY:UE Allgemeine wissenschaftliche Arbeitstechniken (LV 645104-0 19W)
DESCRIPTION:Lehrveranstaltung 645104 19W, Gruppe 0\nTitel: UE Allgemeine wissenschaftliche Arbeitstechniken\nOrt: 40601 UR\n\nhttps://lfuonline.uibk.ac.at/public/lfuonline_lv.details?sem_id_in=19W&lvnr_id_in=645104\n
CLASS:PUBLIC
DTSTART:20200122T074500Z
DTEND:20200122T091500Z
DTSTAMP:20260423T210836Z
LOCATION:40601 UR
END:VEVENT
BEGIN:VEVENT
UID:19W_645104_3392784@uibk.ac.at
ORGANIZER;CN="LFU:online Universität Innsbruck":MAILTO:Uni-Innsbruck-noreply@uibk.ac.at
SUMMARY:UE Allgemeine wissenschaftliche Arbeitstechniken (LV 645104-0 19W)
DESCRIPTION:Lehrveranstaltung 645104 19W, Gruppe 0\nTitel: UE Allgemeine wissenschaftliche Arbeitstechniken\nOrt: 40601 UR\n\nhttps://lfuonline.uibk.ac.at/public/lfuonline_lv.details?sem_id_in=19W&lvnr_id_in=645104\n
CLASS:PUBLIC
DTSTART:20200129T074500Z
DTEND:20200129T091500Z
DTSTAMP:20260423T210836Z
LOCATION:40601 UR
END:VEVENT
END:VCALENDAR