BEGIN:VCALENDAR
VERSION:2.0
PRODID:-//Universität Innsbruck//LFU:online//DE
METHOD:PUBLISH
BEGIN:VEVENT
UID:14W_645111_2297677@uibk.ac.at
ORGANIZER;CN="LFU:online Universität Innsbruck":MAILTO:Uni-Innsbruck-noreply@uibk.ac.at
SUMMARY:Wissenschaftstheorie "Everything turns": Globalgeschichte der Frühen Neuzeit und des 19. Jahrhunderts: Konzepte, Themen, Synthesen (LV 645111-0 14W)
DESCRIPTION:Lehrveranstaltung 645111 14W, Gruppe 0\nTitel: Wissenschaftstheorie "Everything turns": Globalgeschichte der Frühen Neuzeit und des 19. Jahrhunderts: Konzepte, Themen, Synthesen\nOrt: 40718 SR\n\nhttps://lfuonline.uibk.ac.at/public/lfuonline_lv.details?sem_id_in=14W&lvnr_id_in=645111\n
CLASS:PUBLIC
DTSTART:20141007T081500Z
DTEND:20141007T094500Z
DTSTAMP:20260425T210642Z
LOCATION:40718 SR
END:VEVENT
BEGIN:VEVENT
UID:14W_645111_2297678@uibk.ac.at
ORGANIZER;CN="LFU:online Universität Innsbruck":MAILTO:Uni-Innsbruck-noreply@uibk.ac.at
SUMMARY:Wissenschaftstheorie "Everything turns": Globalgeschichte der Frühen Neuzeit und des 19. Jahrhunderts: Konzepte, Themen, Synthesen (LV 645111-0 14W)
DESCRIPTION:Lehrveranstaltung 645111 14W, Gruppe 0\nTitel: Wissenschaftstheorie "Everything turns": Globalgeschichte der Frühen Neuzeit und des 19. Jahrhunderts: Konzepte, Themen, Synthesen\nOrt: 40718 SR\n\nhttps://lfuonline.uibk.ac.at/public/lfuonline_lv.details?sem_id_in=14W&lvnr_id_in=645111\n
CLASS:PUBLIC
DTSTART:20141014T081500Z
DTEND:20141014T094500Z
DTSTAMP:20260425T210642Z
LOCATION:40718 SR
END:VEVENT
BEGIN:VEVENT
UID:14W_645111_2297679@uibk.ac.at
ORGANIZER;CN="LFU:online Universität Innsbruck":MAILTO:Uni-Innsbruck-noreply@uibk.ac.at
SUMMARY:Wissenschaftstheorie "Everything turns": Globalgeschichte der Frühen Neuzeit und des 19. Jahrhunderts: Konzepte, Themen, Synthesen (LV 645111-0 14W)
DESCRIPTION:Lehrveranstaltung 645111 14W, Gruppe 0\nTitel: Wissenschaftstheorie "Everything turns": Globalgeschichte der Frühen Neuzeit und des 19. Jahrhunderts: Konzepte, Themen, Synthesen\nOrt: 40718 SR\n\nhttps://lfuonline.uibk.ac.at/public/lfuonline_lv.details?sem_id_in=14W&lvnr_id_in=645111\n
CLASS:PUBLIC
DTSTART:20141021T081500Z
DTEND:20141021T094500Z
DTSTAMP:20260425T210642Z
LOCATION:40718 SR
END:VEVENT
BEGIN:VEVENT
UID:14W_645111_2297680@uibk.ac.at
ORGANIZER;CN="LFU:online Universität Innsbruck":MAILTO:Uni-Innsbruck-noreply@uibk.ac.at
SUMMARY:Wissenschaftstheorie "Everything turns": Globalgeschichte der Frühen Neuzeit und des 19. Jahrhunderts: Konzepte, Themen, Synthesen (LV 645111-0 14W)
DESCRIPTION:Lehrveranstaltung 645111 14W, Gruppe 0\nTitel: Wissenschaftstheorie "Everything turns": Globalgeschichte der Frühen Neuzeit und des 19. Jahrhunderts: Konzepte, Themen, Synthesen\nOrt: 40718 SR\n\nhttps://lfuonline.uibk.ac.at/public/lfuonline_lv.details?sem_id_in=14W&lvnr_id_in=645111\n
CLASS:PUBLIC
DTSTART:20141028T091500Z
DTEND:20141028T104500Z
DTSTAMP:20260425T210642Z
LOCATION:40718 SR
END:VEVENT
BEGIN:VEVENT
UID:14W_645111_2297681@uibk.ac.at
ORGANIZER;CN="LFU:online Universität Innsbruck":MAILTO:Uni-Innsbruck-noreply@uibk.ac.at
SUMMARY:Wissenschaftstheorie "Everything turns": Globalgeschichte der Frühen Neuzeit und des 19. Jahrhunderts: Konzepte, Themen, Synthesen (LV 645111-0 14W)
DESCRIPTION:Lehrveranstaltung 645111 14W, Gruppe 0\nTitel: Wissenschaftstheorie "Everything turns": Globalgeschichte der Frühen Neuzeit und des 19. Jahrhunderts: Konzepte, Themen, Synthesen\nOrt: 40718 SR\n\nhttps://lfuonline.uibk.ac.at/public/lfuonline_lv.details?sem_id_in=14W&lvnr_id_in=645111\n
CLASS:PUBLIC
DTSTART:20141104T091500Z
DTEND:20141104T104500Z
DTSTAMP:20260425T210642Z
LOCATION:40718 SR
END:VEVENT
BEGIN:VEVENT
UID:14W_645111_2297682@uibk.ac.at
ORGANIZER;CN="LFU:online Universität Innsbruck":MAILTO:Uni-Innsbruck-noreply@uibk.ac.at
SUMMARY:Wissenschaftstheorie "Everything turns": Globalgeschichte der Frühen Neuzeit und des 19. Jahrhunderts: Konzepte, Themen, Synthesen (LV 645111-0 14W)
DESCRIPTION:Lehrveranstaltung 645111 14W, Gruppe 0\nTitel: Wissenschaftstheorie "Everything turns": Globalgeschichte der Frühen Neuzeit und des 19. Jahrhunderts: Konzepte, Themen, Synthesen\nOrt: 40718 SR\n\nhttps://lfuonline.uibk.ac.at/public/lfuonline_lv.details?sem_id_in=14W&lvnr_id_in=645111\n
CLASS:PUBLIC
DTSTART:20141111T091500Z
DTEND:20141111T104500Z
DTSTAMP:20260425T210642Z
LOCATION:40718 SR
END:VEVENT
BEGIN:VEVENT
UID:14W_645111_2297683@uibk.ac.at
ORGANIZER;CN="LFU:online Universität Innsbruck":MAILTO:Uni-Innsbruck-noreply@uibk.ac.at
SUMMARY:Wissenschaftstheorie "Everything turns": Globalgeschichte der Frühen Neuzeit und des 19. Jahrhunderts: Konzepte, Themen, Synthesen (LV 645111-0 14W)
DESCRIPTION:Lehrveranstaltung 645111 14W, Gruppe 0\nTitel: Wissenschaftstheorie "Everything turns": Globalgeschichte der Frühen Neuzeit und des 19. Jahrhunderts: Konzepte, Themen, Synthesen\nOrt: 40718 SR\n\nhttps://lfuonline.uibk.ac.at/public/lfuonline_lv.details?sem_id_in=14W&lvnr_id_in=645111\n
CLASS:PUBLIC
DTSTART:20141118T091500Z
DTEND:20141118T104500Z
DTSTAMP:20260425T210642Z
LOCATION:40718 SR
END:VEVENT
BEGIN:VEVENT
UID:14W_645111_2297684@uibk.ac.at
ORGANIZER;CN="LFU:online Universität Innsbruck":MAILTO:Uni-Innsbruck-noreply@uibk.ac.at
SUMMARY:Wissenschaftstheorie "Everything turns": Globalgeschichte der Frühen Neuzeit und des 19. Jahrhunderts: Konzepte, Themen, Synthesen (LV 645111-0 14W)
DESCRIPTION:Lehrveranstaltung 645111 14W, Gruppe 0\nTitel: Wissenschaftstheorie "Everything turns": Globalgeschichte der Frühen Neuzeit und des 19. Jahrhunderts: Konzepte, Themen, Synthesen\nOrt: 40718 SR\n\nhttps://lfuonline.uibk.ac.at/public/lfuonline_lv.details?sem_id_in=14W&lvnr_id_in=645111\n
CLASS:PUBLIC
DTSTART:20141125T091500Z
DTEND:20141125T104500Z
DTSTAMP:20260425T210642Z
LOCATION:40718 SR
END:VEVENT
BEGIN:VEVENT
UID:14W_645111_2297685@uibk.ac.at
ORGANIZER;CN="LFU:online Universität Innsbruck":MAILTO:Uni-Innsbruck-noreply@uibk.ac.at
SUMMARY:Wissenschaftstheorie "Everything turns": Globalgeschichte der Frühen Neuzeit und des 19. Jahrhunderts: Konzepte, Themen, Synthesen (LV 645111-0 14W)
DESCRIPTION:Lehrveranstaltung 645111 14W, Gruppe 0\nTitel: Wissenschaftstheorie "Everything turns": Globalgeschichte der Frühen Neuzeit und des 19. Jahrhunderts: Konzepte, Themen, Synthesen\nOrt: 40718 SR\n\nhttps://lfuonline.uibk.ac.at/public/lfuonline_lv.details?sem_id_in=14W&lvnr_id_in=645111\n
CLASS:PUBLIC
DTSTART:20141202T091500Z
DTEND:20141202T104500Z
DTSTAMP:20260425T210642Z
LOCATION:40718 SR
END:VEVENT
BEGIN:VEVENT
UID:14W_645111_2297686@uibk.ac.at
ORGANIZER;CN="LFU:online Universität Innsbruck":MAILTO:Uni-Innsbruck-noreply@uibk.ac.at
SUMMARY:Wissenschaftstheorie "Everything turns": Globalgeschichte der Frühen Neuzeit und des 19. Jahrhunderts: Konzepte, Themen, Synthesen (LV 645111-0 14W)
DESCRIPTION:Lehrveranstaltung 645111 14W, Gruppe 0\nTitel: Wissenschaftstheorie "Everything turns": Globalgeschichte der Frühen Neuzeit und des 19. Jahrhunderts: Konzepte, Themen, Synthesen\nOrt: 40718 SR\n\nhttps://lfuonline.uibk.ac.at/public/lfuonline_lv.details?sem_id_in=14W&lvnr_id_in=645111\n
CLASS:PUBLIC
DTSTART:20141209T091500Z
DTEND:20141209T104500Z
DTSTAMP:20260425T210642Z
LOCATION:40718 SR
END:VEVENT
BEGIN:VEVENT
UID:14W_645111_2297687@uibk.ac.at
ORGANIZER;CN="LFU:online Universität Innsbruck":MAILTO:Uni-Innsbruck-noreply@uibk.ac.at
SUMMARY:Wissenschaftstheorie "Everything turns": Globalgeschichte der Frühen Neuzeit und des 19. Jahrhunderts: Konzepte, Themen, Synthesen (LV 645111-0 14W)
DESCRIPTION:Lehrveranstaltung 645111 14W, Gruppe 0\nTitel: Wissenschaftstheorie "Everything turns": Globalgeschichte der Frühen Neuzeit und des 19. Jahrhunderts: Konzepte, Themen, Synthesen\nOrt: 40718 SR\n\nhttps://lfuonline.uibk.ac.at/public/lfuonline_lv.details?sem_id_in=14W&lvnr_id_in=645111\n
CLASS:PUBLIC
DTSTART:20141216T091500Z
DTEND:20141216T104500Z
DTSTAMP:20260425T210642Z
LOCATION:40718 SR
END:VEVENT
BEGIN:VEVENT
UID:14W_645111_2297688@uibk.ac.at
ORGANIZER;CN="LFU:online Universität Innsbruck":MAILTO:Uni-Innsbruck-noreply@uibk.ac.at
SUMMARY:Wissenschaftstheorie "Everything turns": Globalgeschichte der Frühen Neuzeit und des 19. Jahrhunderts: Konzepte, Themen, Synthesen (LV 645111-0 14W)
DESCRIPTION:Lehrveranstaltung 645111 14W, Gruppe 0\nTitel: Wissenschaftstheorie "Everything turns": Globalgeschichte der Frühen Neuzeit und des 19. Jahrhunderts: Konzepte, Themen, Synthesen\nOrt: 40718 SR\n\nhttps://lfuonline.uibk.ac.at/public/lfuonline_lv.details?sem_id_in=14W&lvnr_id_in=645111\n
CLASS:PUBLIC
DTSTART:20150113T091500Z
DTEND:20150113T104500Z
DTSTAMP:20260425T210642Z
LOCATION:40718 SR
END:VEVENT
BEGIN:VEVENT
UID:14W_645111_2297689@uibk.ac.at
ORGANIZER;CN="LFU:online Universität Innsbruck":MAILTO:Uni-Innsbruck-noreply@uibk.ac.at
SUMMARY:Wissenschaftstheorie "Everything turns": Globalgeschichte der Frühen Neuzeit und des 19. Jahrhunderts: Konzepte, Themen, Synthesen (LV 645111-0 14W)
DESCRIPTION:Lehrveranstaltung 645111 14W, Gruppe 0\nTitel: Wissenschaftstheorie "Everything turns": Globalgeschichte der Frühen Neuzeit und des 19. Jahrhunderts: Konzepte, Themen, Synthesen\nOrt: 40718 SR\n\nhttps://lfuonline.uibk.ac.at/public/lfuonline_lv.details?sem_id_in=14W&lvnr_id_in=645111\n
CLASS:PUBLIC
DTSTART:20150120T091500Z
DTEND:20150120T104500Z
DTSTAMP:20260425T210642Z
LOCATION:40718 SR
END:VEVENT
BEGIN:VEVENT
UID:14W_645111_2297690@uibk.ac.at
ORGANIZER;CN="LFU:online Universität Innsbruck":MAILTO:Uni-Innsbruck-noreply@uibk.ac.at
SUMMARY:Wissenschaftstheorie "Everything turns": Globalgeschichte der Frühen Neuzeit und des 19. Jahrhunderts: Konzepte, Themen, Synthesen (LV 645111-0 14W)
DESCRIPTION:Lehrveranstaltung 645111 14W, Gruppe 0\nTitel: Wissenschaftstheorie "Everything turns": Globalgeschichte der Frühen Neuzeit und des 19. Jahrhunderts: Konzepte, Themen, Synthesen\nOrt: 40718 SR\n\nhttps://lfuonline.uibk.ac.at/public/lfuonline_lv.details?sem_id_in=14W&lvnr_id_in=645111\n
CLASS:PUBLIC
DTSTART:20150127T091500Z
DTEND:20150127T104500Z
DTSTAMP:20260425T210642Z
LOCATION:40718 SR
END:VEVENT
BEGIN:VEVENT
UID:14W_645111_2297691@uibk.ac.at
ORGANIZER;CN="LFU:online Universität Innsbruck":MAILTO:Uni-Innsbruck-noreply@uibk.ac.at
SUMMARY:Wissenschaftstheorie "Everything turns": Globalgeschichte der Frühen Neuzeit und des 19. Jahrhunderts: Konzepte, Themen, Synthesen (LV 645111-0 14W)
DESCRIPTION:Lehrveranstaltung 645111 14W, Gruppe 0\nTitel: Wissenschaftstheorie "Everything turns": Globalgeschichte der Frühen Neuzeit und des 19. Jahrhunderts: Konzepte, Themen, Synthesen\nOrt: 40718 SR\n\nhttps://lfuonline.uibk.ac.at/public/lfuonline_lv.details?sem_id_in=14W&lvnr_id_in=645111\n
CLASS:PUBLIC
DTSTART:20150203T091500Z
DTEND:20150203T104500Z
DTSTAMP:20260425T210642Z
LOCATION:40718 SR
END:VEVENT
END:VCALENDAR