BEGIN:VCALENDAR
VERSION:2.0
PRODID:-//Universität Innsbruck//LFU:online//DE
METHOD:PUBLISH
BEGIN:VEVENT
UID:22S_645113_3991689@uibk.ac.at
ORGANIZER;CN="LFU:online Universität Innsbruck":MAILTO:Uni-Innsbruck-noreply@uibk.ac.at
SUMMARY:SE Neuzeit: Das Forschungsfeld "Konsumgeschichte" (LV 645113-0 22S)
DESCRIPTION:Lehrveranstaltung 645113 22S, Gruppe 0\nTitel: SE Neuzeit: Das Forschungsfeld "Konsumgeschichte"\nOrt: 52U109 SR\n\nhttps://lfuonline.uibk.ac.at/public/lfuonline_lv.details?sem_id_in=22S&lvnr_id_in=645113\n
CLASS:PUBLIC
DTSTART:20220309T110000Z
DTEND:20220309T123000Z
DTSTAMP:20260425T210642Z
LOCATION:52U109 SR
END:VEVENT
BEGIN:VEVENT
UID:22S_645113_3991690@uibk.ac.at
ORGANIZER;CN="LFU:online Universität Innsbruck":MAILTO:Uni-Innsbruck-noreply@uibk.ac.at
SUMMARY:SE Neuzeit: Das Forschungsfeld "Konsumgeschichte" (LV 645113-0 22S)
DESCRIPTION:Lehrveranstaltung 645113 22S, Gruppe 0\nTitel: SE Neuzeit: Das Forschungsfeld "Konsumgeschichte"\nOrt: 52U109 SR\n\nhttps://lfuonline.uibk.ac.at/public/lfuonline_lv.details?sem_id_in=22S&lvnr_id_in=645113\n
CLASS:PUBLIC
DTSTART:20220316T110000Z
DTEND:20220316T123000Z
DTSTAMP:20260425T210642Z
LOCATION:52U109 SR
END:VEVENT
BEGIN:VEVENT
UID:22S_645113_3991691@uibk.ac.at
ORGANIZER;CN="LFU:online Universität Innsbruck":MAILTO:Uni-Innsbruck-noreply@uibk.ac.at
SUMMARY:SE Neuzeit: Das Forschungsfeld "Konsumgeschichte" (LV 645113-0 22S)
DESCRIPTION:Lehrveranstaltung 645113 22S, Gruppe 0\nTitel: SE Neuzeit: Das Forschungsfeld "Konsumgeschichte"\nOrt: 52U109 SR\n\nhttps://lfuonline.uibk.ac.at/public/lfuonline_lv.details?sem_id_in=22S&lvnr_id_in=645113\n
CLASS:PUBLIC
DTSTART:20220323T110000Z
DTEND:20220323T123000Z
DTSTAMP:20260425T210642Z
LOCATION:52U109 SR
END:VEVENT
BEGIN:VEVENT
UID:22S_645113_3991692@uibk.ac.at
ORGANIZER;CN="LFU:online Universität Innsbruck":MAILTO:Uni-Innsbruck-noreply@uibk.ac.at
SUMMARY:SE Neuzeit: Das Forschungsfeld "Konsumgeschichte" (LV 645113-0 22S)
DESCRIPTION:Lehrveranstaltung 645113 22S, Gruppe 0\nTitel: SE Neuzeit: Das Forschungsfeld "Konsumgeschichte"\nOrt: 52U109 SR\n\nhttps://lfuonline.uibk.ac.at/public/lfuonline_lv.details?sem_id_in=22S&lvnr_id_in=645113\n
CLASS:PUBLIC
DTSTART:20220330T100000Z
DTEND:20220330T113000Z
DTSTAMP:20260425T210642Z
LOCATION:52U109 SR
END:VEVENT
BEGIN:VEVENT
UID:22S_645113_3991693@uibk.ac.at
ORGANIZER;CN="LFU:online Universität Innsbruck":MAILTO:Uni-Innsbruck-noreply@uibk.ac.at
SUMMARY:SE Neuzeit: Das Forschungsfeld "Konsumgeschichte" (LV 645113-0 22S)
DESCRIPTION:Lehrveranstaltung 645113 22S, Gruppe 0\nTitel: SE Neuzeit: Das Forschungsfeld "Konsumgeschichte"\nOrt: 52U109 SR\n\nhttps://lfuonline.uibk.ac.at/public/lfuonline_lv.details?sem_id_in=22S&lvnr_id_in=645113\n
CLASS:PUBLIC
DTSTART:20220406T100000Z
DTEND:20220406T113000Z
DTSTAMP:20260425T210642Z
LOCATION:52U109 SR
END:VEVENT
BEGIN:VEVENT
UID:22S_645113_3991694@uibk.ac.at
ORGANIZER;CN="LFU:online Universität Innsbruck":MAILTO:Uni-Innsbruck-noreply@uibk.ac.at
SUMMARY:SE Neuzeit: Das Forschungsfeld "Konsumgeschichte" (LV 645113-0 22S)
DESCRIPTION:Lehrveranstaltung 645113 22S, Gruppe 0\nTitel: SE Neuzeit: Das Forschungsfeld "Konsumgeschichte"\nOrt: 52U109 SR\n\nhttps://lfuonline.uibk.ac.at/public/lfuonline_lv.details?sem_id_in=22S&lvnr_id_in=645113\n
CLASS:PUBLIC
DTSTART:20220427T100000Z
DTEND:20220427T113000Z
DTSTAMP:20260425T210642Z
LOCATION:52U109 SR
END:VEVENT
BEGIN:VEVENT
UID:22S_645113_3991695@uibk.ac.at
ORGANIZER;CN="LFU:online Universität Innsbruck":MAILTO:Uni-Innsbruck-noreply@uibk.ac.at
SUMMARY:SE Neuzeit: Das Forschungsfeld "Konsumgeschichte" (LV 645113-0 22S)
DESCRIPTION:Lehrveranstaltung 645113 22S, Gruppe 0\nTitel: SE Neuzeit: Das Forschungsfeld "Konsumgeschichte"\nOrt: 52U109 SR\n\nhttps://lfuonline.uibk.ac.at/public/lfuonline_lv.details?sem_id_in=22S&lvnr_id_in=645113\n
CLASS:PUBLIC
DTSTART:20220504T100000Z
DTEND:20220504T113000Z
DTSTAMP:20260425T210642Z
LOCATION:52U109 SR
END:VEVENT
BEGIN:VEVENT
UID:22S_645113_3991696@uibk.ac.at
ORGANIZER;CN="LFU:online Universität Innsbruck":MAILTO:Uni-Innsbruck-noreply@uibk.ac.at
SUMMARY:SE Neuzeit: Das Forschungsfeld "Konsumgeschichte" (LV 645113-0 22S)
DESCRIPTION:Lehrveranstaltung 645113 22S, Gruppe 0\nTitel: SE Neuzeit: Das Forschungsfeld "Konsumgeschichte"\nOrt: 52U109 SR\n\nhttps://lfuonline.uibk.ac.at/public/lfuonline_lv.details?sem_id_in=22S&lvnr_id_in=645113\n
CLASS:PUBLIC
DTSTART:20220511T100000Z
DTEND:20220511T113000Z
DTSTAMP:20260425T210642Z
LOCATION:52U109 SR
END:VEVENT
BEGIN:VEVENT
UID:22S_645113_3991697@uibk.ac.at
ORGANIZER;CN="LFU:online Universität Innsbruck":MAILTO:Uni-Innsbruck-noreply@uibk.ac.at
SUMMARY:SE Neuzeit: Das Forschungsfeld "Konsumgeschichte" (LV 645113-0 22S)
DESCRIPTION:Lehrveranstaltung 645113 22S, Gruppe 0\nTitel: SE Neuzeit: Das Forschungsfeld "Konsumgeschichte"\nOrt: 52U109 SR\n\nhttps://lfuonline.uibk.ac.at/public/lfuonline_lv.details?sem_id_in=22S&lvnr_id_in=645113\n
CLASS:PUBLIC
DTSTART:20220518T100000Z
DTEND:20220518T113000Z
DTSTAMP:20260425T210642Z
LOCATION:52U109 SR
END:VEVENT
BEGIN:VEVENT
UID:22S_645113_3991698@uibk.ac.at
ORGANIZER;CN="LFU:online Universität Innsbruck":MAILTO:Uni-Innsbruck-noreply@uibk.ac.at
SUMMARY:SE Neuzeit: Das Forschungsfeld "Konsumgeschichte" (LV 645113-0 22S)
DESCRIPTION:Lehrveranstaltung 645113 22S, Gruppe 0\nTitel: SE Neuzeit: Das Forschungsfeld "Konsumgeschichte"\nOrt: 52U109 SR\n\nhttps://lfuonline.uibk.ac.at/public/lfuonline_lv.details?sem_id_in=22S&lvnr_id_in=645113\n
CLASS:PUBLIC
DTSTART:20220525T100000Z
DTEND:20220525T113000Z
DTSTAMP:20260425T210642Z
LOCATION:52U109 SR
END:VEVENT
BEGIN:VEVENT
UID:22S_645113_3991699@uibk.ac.at
ORGANIZER;CN="LFU:online Universität Innsbruck":MAILTO:Uni-Innsbruck-noreply@uibk.ac.at
SUMMARY:SE Neuzeit: Das Forschungsfeld "Konsumgeschichte" (LV 645113-0 22S)
DESCRIPTION:Lehrveranstaltung 645113 22S, Gruppe 0\nTitel: SE Neuzeit: Das Forschungsfeld "Konsumgeschichte"\nOrt: 52U109 SR\n\nhttps://lfuonline.uibk.ac.at/public/lfuonline_lv.details?sem_id_in=22S&lvnr_id_in=645113\n
CLASS:PUBLIC
DTSTART:20220601T100000Z
DTEND:20220601T113000Z
DTSTAMP:20260425T210642Z
LOCATION:52U109 SR
END:VEVENT
BEGIN:VEVENT
UID:22S_645113_3991700@uibk.ac.at
ORGANIZER;CN="LFU:online Universität Innsbruck":MAILTO:Uni-Innsbruck-noreply@uibk.ac.at
SUMMARY:SE Neuzeit: Das Forschungsfeld "Konsumgeschichte" (LV 645113-0 22S)
DESCRIPTION:Lehrveranstaltung 645113 22S, Gruppe 0\nTitel: SE Neuzeit: Das Forschungsfeld "Konsumgeschichte"\nOrt: 52U109 SR\n\nhttps://lfuonline.uibk.ac.at/public/lfuonline_lv.details?sem_id_in=22S&lvnr_id_in=645113\n
CLASS:PUBLIC
DTSTART:20220608T100000Z
DTEND:20220608T113000Z
DTSTAMP:20260425T210642Z
LOCATION:52U109 SR
END:VEVENT
BEGIN:VEVENT
UID:22S_645113_3991701@uibk.ac.at
ORGANIZER;CN="LFU:online Universität Innsbruck":MAILTO:Uni-Innsbruck-noreply@uibk.ac.at
SUMMARY:SE Neuzeit: Das Forschungsfeld "Konsumgeschichte" (LV 645113-0 22S)
DESCRIPTION:Lehrveranstaltung 645113 22S, Gruppe 0\nTitel: SE Neuzeit: Das Forschungsfeld "Konsumgeschichte"\nOrt: 52U109 SR\n\nhttps://lfuonline.uibk.ac.at/public/lfuonline_lv.details?sem_id_in=22S&lvnr_id_in=645113\n
CLASS:PUBLIC
DTSTART:20220615T100000Z
DTEND:20220615T113000Z
DTSTAMP:20260425T210642Z
LOCATION:52U109 SR
END:VEVENT
BEGIN:VEVENT
UID:22S_645113_3991702@uibk.ac.at
ORGANIZER;CN="LFU:online Universität Innsbruck":MAILTO:Uni-Innsbruck-noreply@uibk.ac.at
SUMMARY:SE Neuzeit: Das Forschungsfeld "Konsumgeschichte" (LV 645113-0 22S)
DESCRIPTION:Lehrveranstaltung 645113 22S, Gruppe 0\nTitel: SE Neuzeit: Das Forschungsfeld "Konsumgeschichte"\nOrt: 52U109 SR\n\nhttps://lfuonline.uibk.ac.at/public/lfuonline_lv.details?sem_id_in=22S&lvnr_id_in=645113\n
CLASS:PUBLIC
DTSTART:20220622T100000Z
DTEND:20220622T113000Z
DTSTAMP:20260425T210642Z
LOCATION:52U109 SR
END:VEVENT
BEGIN:VEVENT
UID:22S_645113_3991703@uibk.ac.at
ORGANIZER;CN="LFU:online Universität Innsbruck":MAILTO:Uni-Innsbruck-noreply@uibk.ac.at
SUMMARY:SE Neuzeit: Das Forschungsfeld "Konsumgeschichte" (LV 645113-0 22S)
DESCRIPTION:Lehrveranstaltung 645113 22S, Gruppe 0\nTitel: SE Neuzeit: Das Forschungsfeld "Konsumgeschichte"\nOrt: 52U109 SR\n\nhttps://lfuonline.uibk.ac.at/public/lfuonline_lv.details?sem_id_in=22S&lvnr_id_in=645113\n
CLASS:PUBLIC
DTSTART:20220629T100000Z
DTEND:20220629T113000Z
DTSTAMP:20260425T210642Z
LOCATION:52U109 SR
END:VEVENT
END:VCALENDAR