BEGIN:VCALENDAR
VERSION:2.0
PRODID:-//Universität Innsbruck//LFU:online//DE
METHOD:PUBLISH
BEGIN:VEVENT
UID:26S_645205_4984512@uibk.ac.at
ORGANIZER;CN="LFU:online Universität Innsbruck":MAILTO:Uni-Innsbruck-noreply@uibk.ac.at
SUMMARY:UE Quellen und Darstellungen der Österreichischen Geschichte: Reisefaszination und Kulturaustausch: Schreiben über Japan in Reiseberichten und Tagebüchern um 1900  (LV 645205-0 26S)
DESCRIPTION:Lehrveranstaltung 645205 26S, Gruppe 0\nTitel: UE Quellen und Darstellungen der Österreichischen Geschichte: Reisefaszination und Kulturaustausch: Schreiben über Japan in Reiseberichten und Tagebüchern um 1900 \nOrt: 40601 UR\n\nhttps://lfuonline.uibk.ac.at/public/lfuonline_lv.details?sem_id_in=26S&lvnr_id_in=645205\n
CLASS:PUBLIC
DTSTART:20260310T124500Z
DTEND:20260310T141500Z
DTSTAMP:20260421T065342Z
LOCATION:40601 UR
END:VEVENT
BEGIN:VEVENT
UID:26S_645205_4984514@uibk.ac.at
ORGANIZER;CN="LFU:online Universität Innsbruck":MAILTO:Uni-Innsbruck-noreply@uibk.ac.at
SUMMARY:UE Quellen und Darstellungen der Österreichischen Geschichte: Reisefaszination und Kulturaustausch: Schreiben über Japan in Reiseberichten und Tagebüchern um 1900  (LV 645205-0 26S)
DESCRIPTION:Lehrveranstaltung 645205 26S, Gruppe 0\nTitel: UE Quellen und Darstellungen der Österreichischen Geschichte: Reisefaszination und Kulturaustausch: Schreiben über Japan in Reiseberichten und Tagebüchern um 1900 \nOrt: 40601 UR\n\nhttps://lfuonline.uibk.ac.at/public/lfuonline_lv.details?sem_id_in=26S&lvnr_id_in=645205\n
CLASS:PUBLIC
DTSTART:20260324T124500Z
DTEND:20260324T141500Z
DTSTAMP:20260421T065342Z
LOCATION:40601 UR
END:VEVENT
BEGIN:VEVENT
UID:26S_645205_4984515@uibk.ac.at
ORGANIZER;CN="LFU:online Universität Innsbruck":MAILTO:Uni-Innsbruck-noreply@uibk.ac.at
SUMMARY:UE Quellen und Darstellungen der Österreichischen Geschichte: Reisefaszination und Kulturaustausch: Schreiben über Japan in Reiseberichten und Tagebüchern um 1900  (LV 645205-0 26S)
DESCRIPTION:Lehrveranstaltung 645205 26S, Gruppe 0\nTitel: UE Quellen und Darstellungen der Österreichischen Geschichte: Reisefaszination und Kulturaustausch: Schreiben über Japan in Reiseberichten und Tagebüchern um 1900 \nOrt: 40601 UR\n\nhttps://lfuonline.uibk.ac.at/public/lfuonline_lv.details?sem_id_in=26S&lvnr_id_in=645205\n
CLASS:PUBLIC
DTSTART:20260414T114500Z
DTEND:20260414T131500Z
DTSTAMP:20260421T065342Z
LOCATION:40601 UR
END:VEVENT
BEGIN:VEVENT
UID:26S_645205_4984518@uibk.ac.at
ORGANIZER;CN="LFU:online Universität Innsbruck":MAILTO:Uni-Innsbruck-noreply@uibk.ac.at
SUMMARY:UE Quellen und Darstellungen der Österreichischen Geschichte: Reisefaszination und Kulturaustausch: Schreiben über Japan in Reiseberichten und Tagebüchern um 1900  (LV 645205-0 26S)
DESCRIPTION:Lehrveranstaltung 645205 26S, Gruppe 0\nTitel: UE Quellen und Darstellungen der Österreichischen Geschichte: Reisefaszination und Kulturaustausch: Schreiben über Japan in Reiseberichten und Tagebüchern um 1900 \nOrt: 40601 UR\n\nhttps://lfuonline.uibk.ac.at/public/lfuonline_lv.details?sem_id_in=26S&lvnr_id_in=645205\n
CLASS:PUBLIC
DTSTART:20260505T114500Z
DTEND:20260505T131500Z
DTSTAMP:20260421T065342Z
LOCATION:40601 UR
END:VEVENT
BEGIN:VEVENT
UID:26S_645205_5054701@uibk.ac.at
ORGANIZER;CN="LFU:online Universität Innsbruck":MAILTO:Uni-Innsbruck-noreply@uibk.ac.at
SUMMARY:UE Quellen und Darstellungen der Österreichischen Geschichte: Reisefaszination und Kulturaustausch: Schreiben über Japan in Reiseberichten und Tagebüchern um 1900  (LV 645205-0 26S)
DESCRIPTION:Lehrveranstaltung 645205 26S, Gruppe 0\nTitel: UE Quellen und Darstellungen der Österreichischen Geschichte: Reisefaszination und Kulturaustausch: Schreiben über Japan in Reiseberichten und Tagebüchern um 1900 \nOrt: 40601 UR\n\nhttps://lfuonline.uibk.ac.at/public/lfuonline_lv.details?sem_id_in=26S&lvnr_id_in=645205\n
CLASS:PUBLIC
DTSTART:20260512T114500Z
DTEND:20260512T131500Z
DTSTAMP:20260421T065342Z
LOCATION:40601 UR
END:VEVENT
BEGIN:VEVENT
UID:26S_645205_4984517@uibk.ac.at
ORGANIZER;CN="LFU:online Universität Innsbruck":MAILTO:Uni-Innsbruck-noreply@uibk.ac.at
SUMMARY:UE Quellen und Darstellungen der Österreichischen Geschichte: Reisefaszination und Kulturaustausch: Schreiben über Japan in Reiseberichten und Tagebüchern um 1900  (LV 645205-0 26S)
DESCRIPTION:Lehrveranstaltung 645205 26S, Gruppe 0\nTitel: UE Quellen und Darstellungen der Österreichischen Geschichte: Reisefaszination und Kulturaustausch: Schreiben über Japan in Reiseberichten und Tagebüchern um 1900 \nOrt: 40601 UR\n\nhttps://lfuonline.uibk.ac.at/public/lfuonline_lv.details?sem_id_in=26S&lvnr_id_in=645205\n
CLASS:PUBLIC
DTSTART:20260526T114500Z
DTEND:20260526T131500Z
DTSTAMP:20260421T065342Z
LOCATION:40601 UR
END:VEVENT
BEGIN:VEVENT
UID:26S_645205_4984513@uibk.ac.at
ORGANIZER;CN="LFU:online Universität Innsbruck":MAILTO:Uni-Innsbruck-noreply@uibk.ac.at
SUMMARY:UE Quellen und Darstellungen der Österreichischen Geschichte: Reisefaszination und Kulturaustausch: Schreiben über Japan in Reiseberichten und Tagebüchern um 1900  (LV 645205-0 26S)
DESCRIPTION:Lehrveranstaltung 645205 26S, Gruppe 0\nTitel: UE Quellen und Darstellungen der Österreichischen Geschichte: Reisefaszination und Kulturaustausch: Schreiben über Japan in Reiseberichten und Tagebüchern um 1900 \nOrt: 40601 UR\n\nhttps://lfuonline.uibk.ac.at/public/lfuonline_lv.details?sem_id_in=26S&lvnr_id_in=645205\n
CLASS:PUBLIC
DTSTART:20260602T114500Z
DTEND:20260602T131500Z
DTSTAMP:20260421T065342Z
LOCATION:40601 UR
END:VEVENT
BEGIN:VEVENT
UID:26S_645205_4984516@uibk.ac.at
ORGANIZER;CN="LFU:online Universität Innsbruck":MAILTO:Uni-Innsbruck-noreply@uibk.ac.at
SUMMARY:UE Quellen und Darstellungen der Österreichischen Geschichte: Reisefaszination und Kulturaustausch: Schreiben über Japan in Reiseberichten und Tagebüchern um 1900  (LV 645205-0 26S)
DESCRIPTION:Lehrveranstaltung 645205 26S, Gruppe 0\nTitel: UE Quellen und Darstellungen der Österreichischen Geschichte: Reisefaszination und Kulturaustausch: Schreiben über Japan in Reiseberichten und Tagebüchern um 1900 \nOrt: 40601 UR\n\nhttps://lfuonline.uibk.ac.at/public/lfuonline_lv.details?sem_id_in=26S&lvnr_id_in=645205\n
CLASS:PUBLIC
DTSTART:20260616T114500Z
DTEND:20260616T131500Z
DTSTAMP:20260421T065342Z
LOCATION:40601 UR
END:VEVENT
END:VCALENDAR