BEGIN:VCALENDAR
VERSION:2.0
PRODID:-//Universität Innsbruck//LFU:online//DE
METHOD:PUBLISH
BEGIN:VEVENT
UID:26S_645211_4999964@uibk.ac.at
ORGANIZER;CN="LFU:online Universität Innsbruck":MAILTO:Uni-Innsbruck-noreply@uibk.ac.at
SUMMARY:ABGESAGT: SE Seminar mit Bachelorarbeit: Migration, Auswanderung, Exil (LV 645211-0 26S)
DESCRIPTION:Lehrveranstaltung 645211 26S, Gruppe 0\nTitel: SE Seminar mit Bachelorarbeit: Migration, Auswanderung, Exil\nOrt: 60408 SR\n\nhttps://lfuonline.uibk.ac.at/public/lfuonline_lv.details?sem_id_in=26S&lvnr_id_in=645211\n
CLASS:PUBLIC
DTSTART:20260303T110000Z
DTEND:20260303T123000Z
DTSTAMP:20260421T070602Z
LOCATION:60408 SR
END:VEVENT
BEGIN:VEVENT
UID:26S_645211_4999965@uibk.ac.at
ORGANIZER;CN="LFU:online Universität Innsbruck":MAILTO:Uni-Innsbruck-noreply@uibk.ac.at
SUMMARY:SE Seminar mit Bachelorarbeit: Migration, Auswanderung, Exil (LV 645211-0 26S)
DESCRIPTION:Lehrveranstaltung 645211 26S, Gruppe 0\nTitel: SE Seminar mit Bachelorarbeit: Migration, Auswanderung, Exil\nOrt: 60408 SR\n\nhttps://lfuonline.uibk.ac.at/public/lfuonline_lv.details?sem_id_in=26S&lvnr_id_in=645211\n
CLASS:PUBLIC
DTSTART:20260310T110000Z
DTEND:20260310T123000Z
DTSTAMP:20260421T070602Z
LOCATION:60408 SR
END:VEVENT
BEGIN:VEVENT
UID:26S_645211_4999966@uibk.ac.at
ORGANIZER;CN="LFU:online Universität Innsbruck":MAILTO:Uni-Innsbruck-noreply@uibk.ac.at
SUMMARY:SE Seminar mit Bachelorarbeit: Migration, Auswanderung, Exil (LV 645211-0 26S)
DESCRIPTION:Lehrveranstaltung 645211 26S, Gruppe 0\nTitel: SE Seminar mit Bachelorarbeit: Migration, Auswanderung, Exil\nOrt: 60408 SR\n\nhttps://lfuonline.uibk.ac.at/public/lfuonline_lv.details?sem_id_in=26S&lvnr_id_in=645211\n
CLASS:PUBLIC
DTSTART:20260317T110000Z
DTEND:20260317T123000Z
DTSTAMP:20260421T070602Z
LOCATION:60408 SR
END:VEVENT
BEGIN:VEVENT
UID:26S_645211_4999967@uibk.ac.at
ORGANIZER;CN="LFU:online Universität Innsbruck":MAILTO:Uni-Innsbruck-noreply@uibk.ac.at
SUMMARY:SE Seminar mit Bachelorarbeit: Migration, Auswanderung, Exil (LV 645211-0 26S)
DESCRIPTION:Lehrveranstaltung 645211 26S, Gruppe 0\nTitel: SE Seminar mit Bachelorarbeit: Migration, Auswanderung, Exil\nOrt: 60408 SR\n\nhttps://lfuonline.uibk.ac.at/public/lfuonline_lv.details?sem_id_in=26S&lvnr_id_in=645211\n
CLASS:PUBLIC
DTSTART:20260324T110000Z
DTEND:20260324T123000Z
DTSTAMP:20260421T070602Z
LOCATION:60408 SR
END:VEVENT
BEGIN:VEVENT
UID:26S_645211_4999968@uibk.ac.at
ORGANIZER;CN="LFU:online Universität Innsbruck":MAILTO:Uni-Innsbruck-noreply@uibk.ac.at
SUMMARY:SE Seminar mit Bachelorarbeit: Migration, Auswanderung, Exil (LV 645211-0 26S)
DESCRIPTION:Lehrveranstaltung 645211 26S, Gruppe 0\nTitel: SE Seminar mit Bachelorarbeit: Migration, Auswanderung, Exil\nOrt: 60408 SR\n\nhttps://lfuonline.uibk.ac.at/public/lfuonline_lv.details?sem_id_in=26S&lvnr_id_in=645211\n
CLASS:PUBLIC
DTSTART:20260414T100000Z
DTEND:20260414T113000Z
DTSTAMP:20260421T070602Z
LOCATION:60408 SR
END:VEVENT
BEGIN:VEVENT
UID:26S_645211_4999969@uibk.ac.at
ORGANIZER;CN="LFU:online Universität Innsbruck":MAILTO:Uni-Innsbruck-noreply@uibk.ac.at
SUMMARY:SE Seminar mit Bachelorarbeit: Migration, Auswanderung, Exil (LV 645211-0 26S)
DESCRIPTION:Lehrveranstaltung 645211 26S, Gruppe 0\nTitel: SE Seminar mit Bachelorarbeit: Migration, Auswanderung, Exil\nOrt: 60408 SR\n\nhttps://lfuonline.uibk.ac.at/public/lfuonline_lv.details?sem_id_in=26S&lvnr_id_in=645211\n
CLASS:PUBLIC
DTSTART:20260421T100000Z
DTEND:20260421T113000Z
DTSTAMP:20260421T070602Z
LOCATION:60408 SR
END:VEVENT
BEGIN:VEVENT
UID:26S_645211_4999970@uibk.ac.at
ORGANIZER;CN="LFU:online Universität Innsbruck":MAILTO:Uni-Innsbruck-noreply@uibk.ac.at
SUMMARY:SE Seminar mit Bachelorarbeit: Migration, Auswanderung, Exil (LV 645211-0 26S)
DESCRIPTION:Lehrveranstaltung 645211 26S, Gruppe 0\nTitel: SE Seminar mit Bachelorarbeit: Migration, Auswanderung, Exil\nOrt: 60408 SR\n\nhttps://lfuonline.uibk.ac.at/public/lfuonline_lv.details?sem_id_in=26S&lvnr_id_in=645211\n
CLASS:PUBLIC
DTSTART:20260428T100000Z
DTEND:20260428T113000Z
DTSTAMP:20260421T070602Z
LOCATION:60408 SR
END:VEVENT
BEGIN:VEVENT
UID:26S_645211_4999971@uibk.ac.at
ORGANIZER;CN="LFU:online Universität Innsbruck":MAILTO:Uni-Innsbruck-noreply@uibk.ac.at
SUMMARY:SE Seminar mit Bachelorarbeit: Migration, Auswanderung, Exil (LV 645211-0 26S)
DESCRIPTION:Lehrveranstaltung 645211 26S, Gruppe 0\nTitel: SE Seminar mit Bachelorarbeit: Migration, Auswanderung, Exil\nOrt: 60408 SR\n\nhttps://lfuonline.uibk.ac.at/public/lfuonline_lv.details?sem_id_in=26S&lvnr_id_in=645211\n
CLASS:PUBLIC
DTSTART:20260505T100000Z
DTEND:20260505T113000Z
DTSTAMP:20260421T070602Z
LOCATION:60408 SR
END:VEVENT
BEGIN:VEVENT
UID:26S_645211_4999972@uibk.ac.at
ORGANIZER;CN="LFU:online Universität Innsbruck":MAILTO:Uni-Innsbruck-noreply@uibk.ac.at
SUMMARY:SE Seminar mit Bachelorarbeit: Migration, Auswanderung, Exil (LV 645211-0 26S)
DESCRIPTION:Lehrveranstaltung 645211 26S, Gruppe 0\nTitel: SE Seminar mit Bachelorarbeit: Migration, Auswanderung, Exil\nOrt: 60408 SR\n\nhttps://lfuonline.uibk.ac.at/public/lfuonline_lv.details?sem_id_in=26S&lvnr_id_in=645211\n
CLASS:PUBLIC
DTSTART:20260512T100000Z
DTEND:20260512T113000Z
DTSTAMP:20260421T070602Z
LOCATION:60408 SR
END:VEVENT
BEGIN:VEVENT
UID:26S_645211_4999973@uibk.ac.at
ORGANIZER;CN="LFU:online Universität Innsbruck":MAILTO:Uni-Innsbruck-noreply@uibk.ac.at
SUMMARY:SE Seminar mit Bachelorarbeit: Migration, Auswanderung, Exil (LV 645211-0 26S)
DESCRIPTION:Lehrveranstaltung 645211 26S, Gruppe 0\nTitel: SE Seminar mit Bachelorarbeit: Migration, Auswanderung, Exil\nOrt: 60408 SR\n\nhttps://lfuonline.uibk.ac.at/public/lfuonline_lv.details?sem_id_in=26S&lvnr_id_in=645211\n
CLASS:PUBLIC
DTSTART:20260519T100000Z
DTEND:20260519T113000Z
DTSTAMP:20260421T070602Z
LOCATION:60408 SR
END:VEVENT
BEGIN:VEVENT
UID:26S_645211_4999974@uibk.ac.at
ORGANIZER;CN="LFU:online Universität Innsbruck":MAILTO:Uni-Innsbruck-noreply@uibk.ac.at
SUMMARY:SE Seminar mit Bachelorarbeit: Migration, Auswanderung, Exil (LV 645211-0 26S)
DESCRIPTION:Lehrveranstaltung 645211 26S, Gruppe 0\nTitel: SE Seminar mit Bachelorarbeit: Migration, Auswanderung, Exil\nOrt: 60408 SR\n\nhttps://lfuonline.uibk.ac.at/public/lfuonline_lv.details?sem_id_in=26S&lvnr_id_in=645211\n
CLASS:PUBLIC
DTSTART:20260526T100000Z
DTEND:20260526T113000Z
DTSTAMP:20260421T070602Z
LOCATION:60408 SR
END:VEVENT
BEGIN:VEVENT
UID:26S_645211_4999975@uibk.ac.at
ORGANIZER;CN="LFU:online Universität Innsbruck":MAILTO:Uni-Innsbruck-noreply@uibk.ac.at
SUMMARY:SE Seminar mit Bachelorarbeit: Migration, Auswanderung, Exil (LV 645211-0 26S)
DESCRIPTION:Lehrveranstaltung 645211 26S, Gruppe 0\nTitel: SE Seminar mit Bachelorarbeit: Migration, Auswanderung, Exil\nOrt: 60408 SR\n\nhttps://lfuonline.uibk.ac.at/public/lfuonline_lv.details?sem_id_in=26S&lvnr_id_in=645211\n
CLASS:PUBLIC
DTSTART:20260602T100000Z
DTEND:20260602T113000Z
DTSTAMP:20260421T070602Z
LOCATION:60408 SR
END:VEVENT
BEGIN:VEVENT
UID:26S_645211_4999976@uibk.ac.at
ORGANIZER;CN="LFU:online Universität Innsbruck":MAILTO:Uni-Innsbruck-noreply@uibk.ac.at
SUMMARY:SE Seminar mit Bachelorarbeit: Migration, Auswanderung, Exil (LV 645211-0 26S)
DESCRIPTION:Lehrveranstaltung 645211 26S, Gruppe 0\nTitel: SE Seminar mit Bachelorarbeit: Migration, Auswanderung, Exil\nOrt: 60408 SR\n\nhttps://lfuonline.uibk.ac.at/public/lfuonline_lv.details?sem_id_in=26S&lvnr_id_in=645211\n
CLASS:PUBLIC
DTSTART:20260609T100000Z
DTEND:20260609T113000Z
DTSTAMP:20260421T070602Z
LOCATION:60408 SR
END:VEVENT
BEGIN:VEVENT
UID:26S_645211_4999977@uibk.ac.at
ORGANIZER;CN="LFU:online Universität Innsbruck":MAILTO:Uni-Innsbruck-noreply@uibk.ac.at
SUMMARY:SE Seminar mit Bachelorarbeit: Migration, Auswanderung, Exil (LV 645211-0 26S)
DESCRIPTION:Lehrveranstaltung 645211 26S, Gruppe 0\nTitel: SE Seminar mit Bachelorarbeit: Migration, Auswanderung, Exil\nOrt: 60408 SR\n\nhttps://lfuonline.uibk.ac.at/public/lfuonline_lv.details?sem_id_in=26S&lvnr_id_in=645211\n
CLASS:PUBLIC
DTSTART:20260616T100000Z
DTEND:20260616T113000Z
DTSTAMP:20260421T070602Z
LOCATION:60408 SR
END:VEVENT
BEGIN:VEVENT
UID:26S_645211_4999978@uibk.ac.at
ORGANIZER;CN="LFU:online Universität Innsbruck":MAILTO:Uni-Innsbruck-noreply@uibk.ac.at
SUMMARY:SE Seminar mit Bachelorarbeit: Migration, Auswanderung, Exil (LV 645211-0 26S)
DESCRIPTION:Lehrveranstaltung 645211 26S, Gruppe 0\nTitel: SE Seminar mit Bachelorarbeit: Migration, Auswanderung, Exil\nOrt: 60408 SR\n\nhttps://lfuonline.uibk.ac.at/public/lfuonline_lv.details?sem_id_in=26S&lvnr_id_in=645211\n
CLASS:PUBLIC
DTSTART:20260623T100000Z
DTEND:20260623T113000Z
DTSTAMP:20260421T070602Z
LOCATION:60408 SR
END:VEVENT
END:VCALENDAR