BEGIN:VCALENDAR
VERSION:2.0
PRODID:-//Universität Innsbruck//LFU:online//DE
METHOD:PUBLISH
BEGIN:VEVENT
UID:22S_645213_4009267@uibk.ac.at
ORGANIZER;CN="LFU:online Universität Innsbruck":MAILTO:Uni-Innsbruck-noreply@uibk.ac.at
SUMMARY:SE Österreichische Geschichte: Grenz-Räume. Landvermessung, Karten, Statistik, Aushandlungsprozesse von Joseph II. bis Karl Renner (LV 645213-0 22S)
DESCRIPTION:Lehrveranstaltung 645213 22S, Gruppe 0\nTitel: SE Österreichische Geschichte: Grenz-Räume. Landvermessung, Karten, Statistik, Aushandlungsprozesse von Joseph II. bis Karl Renner\nOrt: 50101/1 SR\n\nhttps://lfuonline.uibk.ac.at/public/lfuonline_lv.details?sem_id_in=22S&lvnr_id_in=645213\n
CLASS:PUBLIC
DTSTART:20220308T161500Z
DTEND:20220308T174500Z
DTSTAMP:20260425T193001Z
LOCATION:50101/1 SR
END:VEVENT
BEGIN:VEVENT
UID:22S_645213_4009268@uibk.ac.at
ORGANIZER;CN="LFU:online Universität Innsbruck":MAILTO:Uni-Innsbruck-noreply@uibk.ac.at
SUMMARY:SE Österreichische Geschichte: Grenz-Räume. Landvermessung, Karten, Statistik, Aushandlungsprozesse von Joseph II. bis Karl Renner (LV 645213-0 22S)
DESCRIPTION:Lehrveranstaltung 645213 22S, Gruppe 0\nTitel: SE Österreichische Geschichte: Grenz-Räume. Landvermessung, Karten, Statistik, Aushandlungsprozesse von Joseph II. bis Karl Renner\nOrt: 50101/1 SR\n\nhttps://lfuonline.uibk.ac.at/public/lfuonline_lv.details?sem_id_in=22S&lvnr_id_in=645213\n
CLASS:PUBLIC
DTSTART:20220315T161500Z
DTEND:20220315T174500Z
DTSTAMP:20260425T193001Z
LOCATION:50101/1 SR
END:VEVENT
BEGIN:VEVENT
UID:22S_645213_4009269@uibk.ac.at
ORGANIZER;CN="LFU:online Universität Innsbruck":MAILTO:Uni-Innsbruck-noreply@uibk.ac.at
SUMMARY:SE Österreichische Geschichte: Grenz-Räume. Landvermessung, Karten, Statistik, Aushandlungsprozesse von Joseph II. bis Karl Renner (LV 645213-0 22S)
DESCRIPTION:Lehrveranstaltung 645213 22S, Gruppe 0\nTitel: SE Österreichische Geschichte: Grenz-Räume. Landvermessung, Karten, Statistik, Aushandlungsprozesse von Joseph II. bis Karl Renner\nOrt: 50101/1 SR\n\nhttps://lfuonline.uibk.ac.at/public/lfuonline_lv.details?sem_id_in=22S&lvnr_id_in=645213\n
CLASS:PUBLIC
DTSTART:20220322T161500Z
DTEND:20220322T174500Z
DTSTAMP:20260425T193001Z
LOCATION:50101/1 SR
END:VEVENT
BEGIN:VEVENT
UID:22S_645213_4009270@uibk.ac.at
ORGANIZER;CN="LFU:online Universität Innsbruck":MAILTO:Uni-Innsbruck-noreply@uibk.ac.at
SUMMARY:SE Österreichische Geschichte: Grenz-Räume. Landvermessung, Karten, Statistik, Aushandlungsprozesse von Joseph II. bis Karl Renner (LV 645213-0 22S)
DESCRIPTION:Lehrveranstaltung 645213 22S, Gruppe 0\nTitel: SE Österreichische Geschichte: Grenz-Räume. Landvermessung, Karten, Statistik, Aushandlungsprozesse von Joseph II. bis Karl Renner\nOrt: 50101/1 SR\n\nhttps://lfuonline.uibk.ac.at/public/lfuonline_lv.details?sem_id_in=22S&lvnr_id_in=645213\n
CLASS:PUBLIC
DTSTART:20220329T151500Z
DTEND:20220329T164500Z
DTSTAMP:20260425T193001Z
LOCATION:50101/1 SR
END:VEVENT
BEGIN:VEVENT
UID:22S_645213_4009271@uibk.ac.at
ORGANIZER;CN="LFU:online Universität Innsbruck":MAILTO:Uni-Innsbruck-noreply@uibk.ac.at
SUMMARY:SE Österreichische Geschichte: Grenz-Räume. Landvermessung, Karten, Statistik, Aushandlungsprozesse von Joseph II. bis Karl Renner (LV 645213-0 22S)
DESCRIPTION:Lehrveranstaltung 645213 22S, Gruppe 0\nTitel: SE Österreichische Geschichte: Grenz-Räume. Landvermessung, Karten, Statistik, Aushandlungsprozesse von Joseph II. bis Karl Renner\nOrt: 50101/1 SR\n\nhttps://lfuonline.uibk.ac.at/public/lfuonline_lv.details?sem_id_in=22S&lvnr_id_in=645213\n
CLASS:PUBLIC
DTSTART:20220405T151500Z
DTEND:20220405T164500Z
DTSTAMP:20260425T193001Z
LOCATION:50101/1 SR
END:VEVENT
BEGIN:VEVENT
UID:22S_645213_4009272@uibk.ac.at
ORGANIZER;CN="LFU:online Universität Innsbruck":MAILTO:Uni-Innsbruck-noreply@uibk.ac.at
SUMMARY:SE Österreichische Geschichte: Grenz-Räume. Landvermessung, Karten, Statistik, Aushandlungsprozesse von Joseph II. bis Karl Renner (LV 645213-0 22S)
DESCRIPTION:Lehrveranstaltung 645213 22S, Gruppe 0\nTitel: SE Österreichische Geschichte: Grenz-Räume. Landvermessung, Karten, Statistik, Aushandlungsprozesse von Joseph II. bis Karl Renner\nOrt: 50101/1 SR\n\nhttps://lfuonline.uibk.ac.at/public/lfuonline_lv.details?sem_id_in=22S&lvnr_id_in=645213\n
CLASS:PUBLIC
DTSTART:20220426T151500Z
DTEND:20220426T164500Z
DTSTAMP:20260425T193001Z
LOCATION:50101/1 SR
END:VEVENT
BEGIN:VEVENT
UID:22S_645213_4009273@uibk.ac.at
ORGANIZER;CN="LFU:online Universität Innsbruck":MAILTO:Uni-Innsbruck-noreply@uibk.ac.at
SUMMARY:SE Österreichische Geschichte: Grenz-Räume. Landvermessung, Karten, Statistik, Aushandlungsprozesse von Joseph II. bis Karl Renner (LV 645213-0 22S)
DESCRIPTION:Lehrveranstaltung 645213 22S, Gruppe 0\nTitel: SE Österreichische Geschichte: Grenz-Räume. Landvermessung, Karten, Statistik, Aushandlungsprozesse von Joseph II. bis Karl Renner\nOrt: 50101/1 SR\n\nhttps://lfuonline.uibk.ac.at/public/lfuonline_lv.details?sem_id_in=22S&lvnr_id_in=645213\n
CLASS:PUBLIC
DTSTART:20220503T151500Z
DTEND:20220503T164500Z
DTSTAMP:20260425T193001Z
LOCATION:50101/1 SR
END:VEVENT
BEGIN:VEVENT
UID:22S_645213_4009274@uibk.ac.at
ORGANIZER;CN="LFU:online Universität Innsbruck":MAILTO:Uni-Innsbruck-noreply@uibk.ac.at
SUMMARY:SE Österreichische Geschichte: Grenz-Räume. Landvermessung, Karten, Statistik, Aushandlungsprozesse von Joseph II. bis Karl Renner (LV 645213-0 22S)
DESCRIPTION:Lehrveranstaltung 645213 22S, Gruppe 0\nTitel: SE Österreichische Geschichte: Grenz-Räume. Landvermessung, Karten, Statistik, Aushandlungsprozesse von Joseph II. bis Karl Renner\nOrt: 50101/1 SR\n\nhttps://lfuonline.uibk.ac.at/public/lfuonline_lv.details?sem_id_in=22S&lvnr_id_in=645213\n
CLASS:PUBLIC
DTSTART:20220510T151500Z
DTEND:20220510T164500Z
DTSTAMP:20260425T193001Z
LOCATION:50101/1 SR
END:VEVENT
BEGIN:VEVENT
UID:22S_645213_4009275@uibk.ac.at
ORGANIZER;CN="LFU:online Universität Innsbruck":MAILTO:Uni-Innsbruck-noreply@uibk.ac.at
SUMMARY:SE Österreichische Geschichte: Grenz-Räume. Landvermessung, Karten, Statistik, Aushandlungsprozesse von Joseph II. bis Karl Renner (LV 645213-0 22S)
DESCRIPTION:Lehrveranstaltung 645213 22S, Gruppe 0\nTitel: SE Österreichische Geschichte: Grenz-Räume. Landvermessung, Karten, Statistik, Aushandlungsprozesse von Joseph II. bis Karl Renner\nOrt: 50101/1 SR\n\nhttps://lfuonline.uibk.ac.at/public/lfuonline_lv.details?sem_id_in=22S&lvnr_id_in=645213\n
CLASS:PUBLIC
DTSTART:20220517T151500Z
DTEND:20220517T164500Z
DTSTAMP:20260425T193001Z
LOCATION:50101/1 SR
END:VEVENT
BEGIN:VEVENT
UID:22S_645213_4009276@uibk.ac.at
ORGANIZER;CN="LFU:online Universität Innsbruck":MAILTO:Uni-Innsbruck-noreply@uibk.ac.at
SUMMARY:SE Österreichische Geschichte: Grenz-Räume. Landvermessung, Karten, Statistik, Aushandlungsprozesse von Joseph II. bis Karl Renner (LV 645213-0 22S)
DESCRIPTION:Lehrveranstaltung 645213 22S, Gruppe 0\nTitel: SE Österreichische Geschichte: Grenz-Räume. Landvermessung, Karten, Statistik, Aushandlungsprozesse von Joseph II. bis Karl Renner\nOrt: 50101/1 SR\n\nhttps://lfuonline.uibk.ac.at/public/lfuonline_lv.details?sem_id_in=22S&lvnr_id_in=645213\n
CLASS:PUBLIC
DTSTART:20220524T151500Z
DTEND:20220524T164500Z
DTSTAMP:20260425T193001Z
LOCATION:50101/1 SR
END:VEVENT
BEGIN:VEVENT
UID:22S_645213_4009277@uibk.ac.at
ORGANIZER;CN="LFU:online Universität Innsbruck":MAILTO:Uni-Innsbruck-noreply@uibk.ac.at
SUMMARY:SE Österreichische Geschichte: Grenz-Räume. Landvermessung, Karten, Statistik, Aushandlungsprozesse von Joseph II. bis Karl Renner (LV 645213-0 22S)
DESCRIPTION:Lehrveranstaltung 645213 22S, Gruppe 0\nTitel: SE Österreichische Geschichte: Grenz-Räume. Landvermessung, Karten, Statistik, Aushandlungsprozesse von Joseph II. bis Karl Renner\nOrt: 50101/1 SR\n\nhttps://lfuonline.uibk.ac.at/public/lfuonline_lv.details?sem_id_in=22S&lvnr_id_in=645213\n
CLASS:PUBLIC
DTSTART:20220531T151500Z
DTEND:20220531T164500Z
DTSTAMP:20260425T193001Z
LOCATION:50101/1 SR
END:VEVENT
BEGIN:VEVENT
UID:22S_645213_4009278@uibk.ac.at
ORGANIZER;CN="LFU:online Universität Innsbruck":MAILTO:Uni-Innsbruck-noreply@uibk.ac.at
SUMMARY:SE Österreichische Geschichte: Grenz-Räume. Landvermessung, Karten, Statistik, Aushandlungsprozesse von Joseph II. bis Karl Renner (LV 645213-0 22S)
DESCRIPTION:Lehrveranstaltung 645213 22S, Gruppe 0\nTitel: SE Österreichische Geschichte: Grenz-Räume. Landvermessung, Karten, Statistik, Aushandlungsprozesse von Joseph II. bis Karl Renner\nOrt: 50101/1 SR\n\nhttps://lfuonline.uibk.ac.at/public/lfuonline_lv.details?sem_id_in=22S&lvnr_id_in=645213\n
CLASS:PUBLIC
DTSTART:20220607T151500Z
DTEND:20220607T164500Z
DTSTAMP:20260425T193001Z
LOCATION:50101/1 SR
END:VEVENT
BEGIN:VEVENT
UID:22S_645213_4009279@uibk.ac.at
ORGANIZER;CN="LFU:online Universität Innsbruck":MAILTO:Uni-Innsbruck-noreply@uibk.ac.at
SUMMARY:SE Österreichische Geschichte: Grenz-Räume. Landvermessung, Karten, Statistik, Aushandlungsprozesse von Joseph II. bis Karl Renner (LV 645213-0 22S)
DESCRIPTION:Lehrveranstaltung 645213 22S, Gruppe 0\nTitel: SE Österreichische Geschichte: Grenz-Räume. Landvermessung, Karten, Statistik, Aushandlungsprozesse von Joseph II. bis Karl Renner\nOrt: 50101/1 SR\n\nhttps://lfuonline.uibk.ac.at/public/lfuonline_lv.details?sem_id_in=22S&lvnr_id_in=645213\n
CLASS:PUBLIC
DTSTART:20220614T151500Z
DTEND:20220614T164500Z
DTSTAMP:20260425T193001Z
LOCATION:50101/1 SR
END:VEVENT
BEGIN:VEVENT
UID:22S_645213_4009280@uibk.ac.at
ORGANIZER;CN="LFU:online Universität Innsbruck":MAILTO:Uni-Innsbruck-noreply@uibk.ac.at
SUMMARY:SE Österreichische Geschichte: Grenz-Räume. Landvermessung, Karten, Statistik, Aushandlungsprozesse von Joseph II. bis Karl Renner (LV 645213-0 22S)
DESCRIPTION:Lehrveranstaltung 645213 22S, Gruppe 0\nTitel: SE Österreichische Geschichte: Grenz-Räume. Landvermessung, Karten, Statistik, Aushandlungsprozesse von Joseph II. bis Karl Renner\nOrt: 50101/1 SR\n\nhttps://lfuonline.uibk.ac.at/public/lfuonline_lv.details?sem_id_in=22S&lvnr_id_in=645213\n
CLASS:PUBLIC
DTSTART:20220621T151500Z
DTEND:20220621T164500Z
DTSTAMP:20260425T193001Z
LOCATION:50101/1 SR
END:VEVENT
BEGIN:VEVENT
UID:22S_645213_4009281@uibk.ac.at
ORGANIZER;CN="LFU:online Universität Innsbruck":MAILTO:Uni-Innsbruck-noreply@uibk.ac.at
SUMMARY:SE Österreichische Geschichte: Grenz-Räume. Landvermessung, Karten, Statistik, Aushandlungsprozesse von Joseph II. bis Karl Renner (LV 645213-0 22S)
DESCRIPTION:Lehrveranstaltung 645213 22S, Gruppe 0\nTitel: SE Österreichische Geschichte: Grenz-Räume. Landvermessung, Karten, Statistik, Aushandlungsprozesse von Joseph II. bis Karl Renner\nOrt: 50101/1 SR\n\nhttps://lfuonline.uibk.ac.at/public/lfuonline_lv.details?sem_id_in=22S&lvnr_id_in=645213\n
CLASS:PUBLIC
DTSTART:20220628T151500Z
DTEND:20220628T164500Z
DTSTAMP:20260425T193001Z
LOCATION:50101/1 SR
END:VEVENT
END:VCALENDAR