BEGIN:VCALENDAR
VERSION:2.0
PRODID:-//Universität Innsbruck//LFU:online//DE
METHOD:PUBLISH
BEGIN:VEVENT
UID:17S_645314_2839723@uibk.ac.at
ORGANIZER;CN="LFU:online Universität Innsbruck":MAILTO:Uni-Innsbruck-noreply@uibk.ac.at
SUMMARY:Angewandte Methoden und Theorien (LV 645314-0 17S)
DESCRIPTION:Lehrveranstaltung 645314 17S, Gruppe 0\nTitel: Angewandte Methoden und Theorien\nOrt: 40601 UR\n\nhttps://lfuonline.uibk.ac.at/public/lfuonline_lv.details?sem_id_in=17S&lvnr_id_in=645314\n
CLASS:PUBLIC
DTSTART:20170308T110000Z
DTEND:20170308T123000Z
DTSTAMP:20260421T154522Z
LOCATION:40601 UR
END:VEVENT
BEGIN:VEVENT
UID:17S_645314_2839724@uibk.ac.at
ORGANIZER;CN="LFU:online Universität Innsbruck":MAILTO:Uni-Innsbruck-noreply@uibk.ac.at
SUMMARY:Angewandte Methoden und Theorien (LV 645314-0 17S)
DESCRIPTION:Lehrveranstaltung 645314 17S, Gruppe 0\nTitel: Angewandte Methoden und Theorien\nOrt: 40601 UR\n\nhttps://lfuonline.uibk.ac.at/public/lfuonline_lv.details?sem_id_in=17S&lvnr_id_in=645314\n
CLASS:PUBLIC
DTSTART:20170315T110000Z
DTEND:20170315T123000Z
DTSTAMP:20260421T154522Z
LOCATION:40601 UR
END:VEVENT
BEGIN:VEVENT
UID:17S_645314_2839725@uibk.ac.at
ORGANIZER;CN="LFU:online Universität Innsbruck":MAILTO:Uni-Innsbruck-noreply@uibk.ac.at
SUMMARY:Angewandte Methoden und Theorien (LV 645314-0 17S)
DESCRIPTION:Lehrveranstaltung 645314 17S, Gruppe 0\nTitel: Angewandte Methoden und Theorien\nOrt: 40601 UR\n\nhttps://lfuonline.uibk.ac.at/public/lfuonline_lv.details?sem_id_in=17S&lvnr_id_in=645314\n
CLASS:PUBLIC
DTSTART:20170322T110000Z
DTEND:20170322T123000Z
DTSTAMP:20260421T154522Z
LOCATION:40601 UR
END:VEVENT
BEGIN:VEVENT
UID:17S_645314_2839726@uibk.ac.at
ORGANIZER;CN="LFU:online Universität Innsbruck":MAILTO:Uni-Innsbruck-noreply@uibk.ac.at
SUMMARY:Angewandte Methoden und Theorien (LV 645314-0 17S)
DESCRIPTION:Lehrveranstaltung 645314 17S, Gruppe 0\nTitel: Angewandte Methoden und Theorien\nOrt: 40601 UR\n\nhttps://lfuonline.uibk.ac.at/public/lfuonline_lv.details?sem_id_in=17S&lvnr_id_in=645314\n
CLASS:PUBLIC
DTSTART:20170329T100000Z
DTEND:20170329T113000Z
DTSTAMP:20260421T154522Z
LOCATION:40601 UR
END:VEVENT
BEGIN:VEVENT
UID:17S_645314_2839727@uibk.ac.at
ORGANIZER;CN="LFU:online Universität Innsbruck":MAILTO:Uni-Innsbruck-noreply@uibk.ac.at
SUMMARY:Angewandte Methoden und Theorien (LV 645314-0 17S)
DESCRIPTION:Lehrveranstaltung 645314 17S, Gruppe 0\nTitel: Angewandte Methoden und Theorien\nOrt: 40601 UR\n\nhttps://lfuonline.uibk.ac.at/public/lfuonline_lv.details?sem_id_in=17S&lvnr_id_in=645314\n
CLASS:PUBLIC
DTSTART:20170405T100000Z
DTEND:20170405T113000Z
DTSTAMP:20260421T154522Z
LOCATION:40601 UR
END:VEVENT
BEGIN:VEVENT
UID:17S_645314_2839728@uibk.ac.at
ORGANIZER;CN="LFU:online Universität Innsbruck":MAILTO:Uni-Innsbruck-noreply@uibk.ac.at
SUMMARY:Angewandte Methoden und Theorien (LV 645314-0 17S)
DESCRIPTION:Lehrveranstaltung 645314 17S, Gruppe 0\nTitel: Angewandte Methoden und Theorien\nOrt: 40601 UR\n\nhttps://lfuonline.uibk.ac.at/public/lfuonline_lv.details?sem_id_in=17S&lvnr_id_in=645314\n
CLASS:PUBLIC
DTSTART:20170426T100000Z
DTEND:20170426T113000Z
DTSTAMP:20260421T154522Z
LOCATION:40601 UR
END:VEVENT
BEGIN:VEVENT
UID:17S_645314_2839729@uibk.ac.at
ORGANIZER;CN="LFU:online Universität Innsbruck":MAILTO:Uni-Innsbruck-noreply@uibk.ac.at
SUMMARY:Angewandte Methoden und Theorien (LV 645314-0 17S)
DESCRIPTION:Lehrveranstaltung 645314 17S, Gruppe 0\nTitel: Angewandte Methoden und Theorien\nOrt: 40601 UR\n\nhttps://lfuonline.uibk.ac.at/public/lfuonline_lv.details?sem_id_in=17S&lvnr_id_in=645314\n
CLASS:PUBLIC
DTSTART:20170503T100000Z
DTEND:20170503T113000Z
DTSTAMP:20260421T154522Z
LOCATION:40601 UR
END:VEVENT
BEGIN:VEVENT
UID:17S_645314_2839730@uibk.ac.at
ORGANIZER;CN="LFU:online Universität Innsbruck":MAILTO:Uni-Innsbruck-noreply@uibk.ac.at
SUMMARY:Angewandte Methoden und Theorien (LV 645314-0 17S)
DESCRIPTION:Lehrveranstaltung 645314 17S, Gruppe 0\nTitel: Angewandte Methoden und Theorien\nOrt: 40601 UR\n\nhttps://lfuonline.uibk.ac.at/public/lfuonline_lv.details?sem_id_in=17S&lvnr_id_in=645314\n
CLASS:PUBLIC
DTSTART:20170510T100000Z
DTEND:20170510T113000Z
DTSTAMP:20260421T154522Z
LOCATION:40601 UR
END:VEVENT
BEGIN:VEVENT
UID:17S_645314_2839731@uibk.ac.at
ORGANIZER;CN="LFU:online Universität Innsbruck":MAILTO:Uni-Innsbruck-noreply@uibk.ac.at
SUMMARY:Angewandte Methoden und Theorien (LV 645314-0 17S)
DESCRIPTION:Lehrveranstaltung 645314 17S, Gruppe 0\nTitel: Angewandte Methoden und Theorien\nOrt: 40601 UR\n\nhttps://lfuonline.uibk.ac.at/public/lfuonline_lv.details?sem_id_in=17S&lvnr_id_in=645314\n
CLASS:PUBLIC
DTSTART:20170517T100000Z
DTEND:20170517T113000Z
DTSTAMP:20260421T154522Z
LOCATION:40601 UR
END:VEVENT
BEGIN:VEVENT
UID:17S_645314_2839732@uibk.ac.at
ORGANIZER;CN="LFU:online Universität Innsbruck":MAILTO:Uni-Innsbruck-noreply@uibk.ac.at
SUMMARY:Angewandte Methoden und Theorien (LV 645314-0 17S)
DESCRIPTION:Lehrveranstaltung 645314 17S, Gruppe 0\nTitel: Angewandte Methoden und Theorien\nOrt: 40601 UR\n\nhttps://lfuonline.uibk.ac.at/public/lfuonline_lv.details?sem_id_in=17S&lvnr_id_in=645314\n
CLASS:PUBLIC
DTSTART:20170524T100000Z
DTEND:20170524T113000Z
DTSTAMP:20260421T154522Z
LOCATION:40601 UR
END:VEVENT
BEGIN:VEVENT
UID:17S_645314_2839733@uibk.ac.at
ORGANIZER;CN="LFU:online Universität Innsbruck":MAILTO:Uni-Innsbruck-noreply@uibk.ac.at
SUMMARY:Angewandte Methoden und Theorien (LV 645314-0 17S)
DESCRIPTION:Lehrveranstaltung 645314 17S, Gruppe 0\nTitel: Angewandte Methoden und Theorien\nOrt: 40601 UR\n\nhttps://lfuonline.uibk.ac.at/public/lfuonline_lv.details?sem_id_in=17S&lvnr_id_in=645314\n
CLASS:PUBLIC
DTSTART:20170531T100000Z
DTEND:20170531T113000Z
DTSTAMP:20260421T154522Z
LOCATION:40601 UR
END:VEVENT
BEGIN:VEVENT
UID:17S_645314_2839734@uibk.ac.at
ORGANIZER;CN="LFU:online Universität Innsbruck":MAILTO:Uni-Innsbruck-noreply@uibk.ac.at
SUMMARY:Angewandte Methoden und Theorien (LV 645314-0 17S)
DESCRIPTION:Lehrveranstaltung 645314 17S, Gruppe 0\nTitel: Angewandte Methoden und Theorien\nOrt: 40601 UR\n\nhttps://lfuonline.uibk.ac.at/public/lfuonline_lv.details?sem_id_in=17S&lvnr_id_in=645314\n
CLASS:PUBLIC
DTSTART:20170607T100000Z
DTEND:20170607T113000Z
DTSTAMP:20260421T154522Z
LOCATION:40601 UR
END:VEVENT
BEGIN:VEVENT
UID:17S_645314_2839735@uibk.ac.at
ORGANIZER;CN="LFU:online Universität Innsbruck":MAILTO:Uni-Innsbruck-noreply@uibk.ac.at
SUMMARY:Angewandte Methoden und Theorien (LV 645314-0 17S)
DESCRIPTION:Lehrveranstaltung 645314 17S, Gruppe 0\nTitel: Angewandte Methoden und Theorien\nOrt: 40601 UR\n\nhttps://lfuonline.uibk.ac.at/public/lfuonline_lv.details?sem_id_in=17S&lvnr_id_in=645314\n
CLASS:PUBLIC
DTSTART:20170614T100000Z
DTEND:20170614T113000Z
DTSTAMP:20260421T154522Z
LOCATION:40601 UR
END:VEVENT
BEGIN:VEVENT
UID:17S_645314_2839736@uibk.ac.at
ORGANIZER;CN="LFU:online Universität Innsbruck":MAILTO:Uni-Innsbruck-noreply@uibk.ac.at
SUMMARY:Angewandte Methoden und Theorien (LV 645314-0 17S)
DESCRIPTION:Lehrveranstaltung 645314 17S, Gruppe 0\nTitel: Angewandte Methoden und Theorien\nOrt: 40601 UR\n\nhttps://lfuonline.uibk.ac.at/public/lfuonline_lv.details?sem_id_in=17S&lvnr_id_in=645314\n
CLASS:PUBLIC
DTSTART:20170621T100000Z
DTEND:20170621T113000Z
DTSTAMP:20260421T154522Z
LOCATION:40601 UR
END:VEVENT
BEGIN:VEVENT
UID:17S_645314_3004675@uibk.ac.at
ORGANIZER;CN="LFU:online Universität Innsbruck":MAILTO:Uni-Innsbruck-noreply@uibk.ac.at
SUMMARY:Angewandte Methoden und Theorien (LV 645314-0 17S)
DESCRIPTION:Lehrveranstaltung 645314 17S, Gruppe 0\nTitel: Angewandte Methoden und Theorien\nOrt: 40601 UR\n\nhttps://lfuonline.uibk.ac.at/public/lfuonline_lv.details?sem_id_in=17S&lvnr_id_in=645314\n
CLASS:PUBLIC
DTSTART:20170621T113000Z
DTEND:20170621T123000Z
DTSTAMP:20260421T154522Z
LOCATION:40601 UR
END:VEVENT
BEGIN:VEVENT
UID:17S_645314_2839737@uibk.ac.at
ORGANIZER;CN="LFU:online Universität Innsbruck":MAILTO:Uni-Innsbruck-noreply@uibk.ac.at
SUMMARY:Angewandte Methoden und Theorien (LV 645314-0 17S)
DESCRIPTION:Lehrveranstaltung 645314 17S, Gruppe 0\nTitel: Angewandte Methoden und Theorien\nOrt: 40601 UR\n\nhttps://lfuonline.uibk.ac.at/public/lfuonline_lv.details?sem_id_in=17S&lvnr_id_in=645314\n
CLASS:PUBLIC
DTSTART:20170628T100000Z
DTEND:20170628T113000Z
DTSTAMP:20260421T154522Z
LOCATION:40601 UR
END:VEVENT
END:VCALENDAR