BEGIN:VCALENDAR
VERSION:2.0
PRODID:-//Universität Innsbruck//LFU:online//DE
METHOD:PUBLISH
BEGIN:VEVENT
UID:19S_645602_3262352@uibk.ac.at
ORGANIZER;CN="LFU:online Universität Innsbruck":MAILTO:Uni-Innsbruck-noreply@uibk.ac.at
SUMMARY:Gender: Körperinszenierungen (LV 645602-0 19S)
DESCRIPTION:Lehrveranstaltung 645602 19S, Gruppe 0\nTitel: Gender: Körperinszenierungen\nOrt: 52U109 SR\n\nhttps://lfuonline.uibk.ac.at/public/lfuonline_lv.details?sem_id_in=19S&lvnr_id_in=645602\n
CLASS:PUBLIC
DTSTART:20190305T091500Z
DTEND:20190305T104500Z
DTSTAMP:20260423T012932Z
LOCATION:52U109 SR
END:VEVENT
BEGIN:VEVENT
UID:19S_645602_3262353@uibk.ac.at
ORGANIZER;CN="LFU:online Universität Innsbruck":MAILTO:Uni-Innsbruck-noreply@uibk.ac.at
SUMMARY:Gender: Körperinszenierungen (LV 645602-0 19S)
DESCRIPTION:Lehrveranstaltung 645602 19S, Gruppe 0\nTitel: Gender: Körperinszenierungen\nOrt: 52U109 SR\n\nhttps://lfuonline.uibk.ac.at/public/lfuonline_lv.details?sem_id_in=19S&lvnr_id_in=645602\n
CLASS:PUBLIC
DTSTART:20190312T091500Z
DTEND:20190312T104500Z
DTSTAMP:20260423T012932Z
LOCATION:52U109 SR
END:VEVENT
BEGIN:VEVENT
UID:19S_645602_3262354@uibk.ac.at
ORGANIZER;CN="LFU:online Universität Innsbruck":MAILTO:Uni-Innsbruck-noreply@uibk.ac.at
SUMMARY:Gender: Körperinszenierungen (LV 645602-0 19S)
DESCRIPTION:Lehrveranstaltung 645602 19S, Gruppe 0\nTitel: Gender: Körperinszenierungen\nOrt: 52U109 SR\n\nhttps://lfuonline.uibk.ac.at/public/lfuonline_lv.details?sem_id_in=19S&lvnr_id_in=645602\n
CLASS:PUBLIC
DTSTART:20190319T091500Z
DTEND:20190319T104500Z
DTSTAMP:20260423T012932Z
LOCATION:52U109 SR
END:VEVENT
BEGIN:VEVENT
UID:19S_645602_3262355@uibk.ac.at
ORGANIZER;CN="LFU:online Universität Innsbruck":MAILTO:Uni-Innsbruck-noreply@uibk.ac.at
SUMMARY:Gender: Körperinszenierungen (LV 645602-0 19S)
DESCRIPTION:Lehrveranstaltung 645602 19S, Gruppe 0\nTitel: Gender: Körperinszenierungen\nOrt: 52U109 SR\n\nhttps://lfuonline.uibk.ac.at/public/lfuonline_lv.details?sem_id_in=19S&lvnr_id_in=645602\n
CLASS:PUBLIC
DTSTART:20190326T091500Z
DTEND:20190326T104500Z
DTSTAMP:20260423T012932Z
LOCATION:52U109 SR
END:VEVENT
BEGIN:VEVENT
UID:19S_645602_3262356@uibk.ac.at
ORGANIZER;CN="LFU:online Universität Innsbruck":MAILTO:Uni-Innsbruck-noreply@uibk.ac.at
SUMMARY:Gender: Körperinszenierungen (LV 645602-0 19S)
DESCRIPTION:Lehrveranstaltung 645602 19S, Gruppe 0\nTitel: Gender: Körperinszenierungen\nOrt: 52U109 SR\n\nhttps://lfuonline.uibk.ac.at/public/lfuonline_lv.details?sem_id_in=19S&lvnr_id_in=645602\n
CLASS:PUBLIC
DTSTART:20190402T081500Z
DTEND:20190402T094500Z
DTSTAMP:20260423T012932Z
LOCATION:52U109 SR
END:VEVENT
BEGIN:VEVENT
UID:19S_645602_3262357@uibk.ac.at
ORGANIZER;CN="LFU:online Universität Innsbruck":MAILTO:Uni-Innsbruck-noreply@uibk.ac.at
SUMMARY:Gender: Körperinszenierungen (LV 645602-0 19S)
DESCRIPTION:Lehrveranstaltung 645602 19S, Gruppe 0\nTitel: Gender: Körperinszenierungen\nOrt: 52U109 SR\n\nhttps://lfuonline.uibk.ac.at/public/lfuonline_lv.details?sem_id_in=19S&lvnr_id_in=645602\n
CLASS:PUBLIC
DTSTART:20190409T081500Z
DTEND:20190409T094500Z
DTSTAMP:20260423T012932Z
LOCATION:52U109 SR
END:VEVENT
BEGIN:VEVENT
UID:19S_645602_3262358@uibk.ac.at
ORGANIZER;CN="LFU:online Universität Innsbruck":MAILTO:Uni-Innsbruck-noreply@uibk.ac.at
SUMMARY:Gender: Körperinszenierungen (LV 645602-0 19S)
DESCRIPTION:Lehrveranstaltung 645602 19S, Gruppe 0\nTitel: Gender: Körperinszenierungen\nOrt: 52U109 SR\n\nhttps://lfuonline.uibk.ac.at/public/lfuonline_lv.details?sem_id_in=19S&lvnr_id_in=645602\n
CLASS:PUBLIC
DTSTART:20190430T081500Z
DTEND:20190430T094500Z
DTSTAMP:20260423T012932Z
LOCATION:52U109 SR
END:VEVENT
BEGIN:VEVENT
UID:19S_645602_3262359@uibk.ac.at
ORGANIZER;CN="LFU:online Universität Innsbruck":MAILTO:Uni-Innsbruck-noreply@uibk.ac.at
SUMMARY:Gender: Körperinszenierungen (LV 645602-0 19S)
DESCRIPTION:Lehrveranstaltung 645602 19S, Gruppe 0\nTitel: Gender: Körperinszenierungen\nOrt: 52U109 SR\n\nhttps://lfuonline.uibk.ac.at/public/lfuonline_lv.details?sem_id_in=19S&lvnr_id_in=645602\n
CLASS:PUBLIC
DTSTART:20190507T081500Z
DTEND:20190507T094500Z
DTSTAMP:20260423T012932Z
LOCATION:52U109 SR
END:VEVENT
BEGIN:VEVENT
UID:19S_645602_3262360@uibk.ac.at
ORGANIZER;CN="LFU:online Universität Innsbruck":MAILTO:Uni-Innsbruck-noreply@uibk.ac.at
SUMMARY:Gender: Körperinszenierungen (LV 645602-0 19S)
DESCRIPTION:Lehrveranstaltung 645602 19S, Gruppe 0\nTitel: Gender: Körperinszenierungen\nOrt: 52U109 SR\n\nhttps://lfuonline.uibk.ac.at/public/lfuonline_lv.details?sem_id_in=19S&lvnr_id_in=645602\n
CLASS:PUBLIC
DTSTART:20190514T081500Z
DTEND:20190514T094500Z
DTSTAMP:20260423T012932Z
LOCATION:52U109 SR
END:VEVENT
BEGIN:VEVENT
UID:19S_645602_3262361@uibk.ac.at
ORGANIZER;CN="LFU:online Universität Innsbruck":MAILTO:Uni-Innsbruck-noreply@uibk.ac.at
SUMMARY:Gender: Körperinszenierungen (LV 645602-0 19S)
DESCRIPTION:Lehrveranstaltung 645602 19S, Gruppe 0\nTitel: Gender: Körperinszenierungen\nOrt: 52U109 SR\n\nhttps://lfuonline.uibk.ac.at/public/lfuonline_lv.details?sem_id_in=19S&lvnr_id_in=645602\n
CLASS:PUBLIC
DTSTART:20190521T081500Z
DTEND:20190521T094500Z
DTSTAMP:20260423T012932Z
LOCATION:52U109 SR
END:VEVENT
BEGIN:VEVENT
UID:19S_645602_3262362@uibk.ac.at
ORGANIZER;CN="LFU:online Universität Innsbruck":MAILTO:Uni-Innsbruck-noreply@uibk.ac.at
SUMMARY:Gender: Körperinszenierungen (LV 645602-0 19S)
DESCRIPTION:Lehrveranstaltung 645602 19S, Gruppe 0\nTitel: Gender: Körperinszenierungen\nOrt: 52U109 SR\n\nhttps://lfuonline.uibk.ac.at/public/lfuonline_lv.details?sem_id_in=19S&lvnr_id_in=645602\n
CLASS:PUBLIC
DTSTART:20190528T081500Z
DTEND:20190528T094500Z
DTSTAMP:20260423T012932Z
LOCATION:52U109 SR
END:VEVENT
BEGIN:VEVENT
UID:19S_645602_3262363@uibk.ac.at
ORGANIZER;CN="LFU:online Universität Innsbruck":MAILTO:Uni-Innsbruck-noreply@uibk.ac.at
SUMMARY:Gender: Körperinszenierungen (LV 645602-0 19S)
DESCRIPTION:Lehrveranstaltung 645602 19S, Gruppe 0\nTitel: Gender: Körperinszenierungen\nOrt: 52U109 SR\n\nhttps://lfuonline.uibk.ac.at/public/lfuonline_lv.details?sem_id_in=19S&lvnr_id_in=645602\n
CLASS:PUBLIC
DTSTART:20190604T081500Z
DTEND:20190604T094500Z
DTSTAMP:20260423T012932Z
LOCATION:52U109 SR
END:VEVENT
BEGIN:VEVENT
UID:19S_645602_3262364@uibk.ac.at
ORGANIZER;CN="LFU:online Universität Innsbruck":MAILTO:Uni-Innsbruck-noreply@uibk.ac.at
SUMMARY:Gender: Körperinszenierungen (LV 645602-0 19S)
DESCRIPTION:Lehrveranstaltung 645602 19S, Gruppe 0\nTitel: Gender: Körperinszenierungen\nOrt: 52U109 SR\n\nhttps://lfuonline.uibk.ac.at/public/lfuonline_lv.details?sem_id_in=19S&lvnr_id_in=645602\n
CLASS:PUBLIC
DTSTART:20190611T081500Z
DTEND:20190611T094500Z
DTSTAMP:20260423T012932Z
LOCATION:52U109 SR
END:VEVENT
BEGIN:VEVENT
UID:19S_645602_3262365@uibk.ac.at
ORGANIZER;CN="LFU:online Universität Innsbruck":MAILTO:Uni-Innsbruck-noreply@uibk.ac.at
SUMMARY:Gender: Körperinszenierungen (LV 645602-0 19S)
DESCRIPTION:Lehrveranstaltung 645602 19S, Gruppe 0\nTitel: Gender: Körperinszenierungen\nOrt: 52U109 SR\n\nhttps://lfuonline.uibk.ac.at/public/lfuonline_lv.details?sem_id_in=19S&lvnr_id_in=645602\n
CLASS:PUBLIC
DTSTART:20190618T081500Z
DTEND:20190618T094500Z
DTSTAMP:20260423T012932Z
LOCATION:52U109 SR
END:VEVENT
BEGIN:VEVENT
UID:19S_645602_3262366@uibk.ac.at
ORGANIZER;CN="LFU:online Universität Innsbruck":MAILTO:Uni-Innsbruck-noreply@uibk.ac.at
SUMMARY:Gender: Körperinszenierungen (LV 645602-0 19S)
DESCRIPTION:Lehrveranstaltung 645602 19S, Gruppe 0\nTitel: Gender: Körperinszenierungen\nOrt: 52U109 SR\n\nhttps://lfuonline.uibk.ac.at/public/lfuonline_lv.details?sem_id_in=19S&lvnr_id_in=645602\n
CLASS:PUBLIC
DTSTART:20190625T081500Z
DTEND:20190625T094500Z
DTSTAMP:20260423T012932Z
LOCATION:52U109 SR
END:VEVENT
END:VCALENDAR