BEGIN:VCALENDAR
VERSION:2.0
PRODID:-//Universität Innsbruck//LFU:online//DE
METHOD:PUBLISH
BEGIN:VEVENT
UID:18S_645605_3055184@uibk.ac.at
ORGANIZER;CN="LFU:online Universität Innsbruck":MAILTO:Uni-Innsbruck-noreply@uibk.ac.at
SUMMARY:Gender: Körper, Geschlecht, Identität: Einführung in die kulturwissenschaftliche Kleidungsforschung (LV 645605-0 18S)
DESCRIPTION:Lehrveranstaltung 645605 18S, Gruppe 0\nTitel: Gender: Körper, Geschlecht, Identität: Einführung in die kulturwissenschaftliche Kleidungsforschung\nOrt: 52U109 SR\n\nhttps://lfuonline.uibk.ac.at/public/lfuonline_lv.details?sem_id_in=18S&lvnr_id_in=645605\n
CLASS:PUBLIC
DTSTART:20180315T143000Z
DTEND:20180315T160000Z
DTSTAMP:20260423T013525Z
LOCATION:52U109 SR
END:VEVENT
BEGIN:VEVENT
UID:18S_645605_3121020@uibk.ac.at
ORGANIZER;CN="LFU:online Universität Innsbruck":MAILTO:Uni-Innsbruck-noreply@uibk.ac.at
SUMMARY:Gender: Körper, Geschlecht, Identität: Einführung in die kulturwissenschaftliche Kleidungsforschung (LV 645605-0 18S)
DESCRIPTION:Lehrveranstaltung 645605 18S, Gruppe 0\nTitel: Gender: Körper, Geschlecht, Identität: Einführung in die kulturwissenschaftliche Kleidungsforschung\nOrt: 40832 SR\n\nhttps://lfuonline.uibk.ac.at/public/lfuonline_lv.details?sem_id_in=18S&lvnr_id_in=645605\n
CLASS:PUBLIC
DTSTART:20180322T151500Z
DTEND:20180322T164500Z
DTSTAMP:20260423T013525Z
LOCATION:40832 SR
END:VEVENT
BEGIN:VEVENT
UID:18S_645605_3055186@uibk.ac.at
ORGANIZER;CN="LFU:online Universität Innsbruck":MAILTO:Uni-Innsbruck-noreply@uibk.ac.at
SUMMARY:Gender: Körper, Geschlecht, Identität: Einführung in die kulturwissenschaftliche Kleidungsforschung (LV 645605-0 18S)
DESCRIPTION:Lehrveranstaltung 645605 18S, Gruppe 0\nTitel: Gender: Körper, Geschlecht, Identität: Einführung in die kulturwissenschaftliche Kleidungsforschung\nOrt: 52U109 SR\n\nhttps://lfuonline.uibk.ac.at/public/lfuonline_lv.details?sem_id_in=18S&lvnr_id_in=645605\n
CLASS:PUBLIC
DTSTART:20180412T133000Z
DTEND:20180412T150000Z
DTSTAMP:20260423T013525Z
LOCATION:52U109 SR
END:VEVENT
BEGIN:VEVENT
UID:18S_645605_3055188@uibk.ac.at
ORGANIZER;CN="LFU:online Universität Innsbruck":MAILTO:Uni-Innsbruck-noreply@uibk.ac.at
SUMMARY:Gender: Körper, Geschlecht, Identität: Einführung in die kulturwissenschaftliche Kleidungsforschung (LV 645605-0 18S)
DESCRIPTION:Lehrveranstaltung 645605 18S, Gruppe 0\nTitel: Gender: Körper, Geschlecht, Identität: Einführung in die kulturwissenschaftliche Kleidungsforschung\nOrt: 52U109 SR\n\nhttps://lfuonline.uibk.ac.at/public/lfuonline_lv.details?sem_id_in=18S&lvnr_id_in=645605\n
CLASS:PUBLIC
DTSTART:20180426T133000Z
DTEND:20180426T150000Z
DTSTAMP:20260423T013525Z
LOCATION:52U109 SR
END:VEVENT
BEGIN:VEVENT
UID:18S_645605_3055191@uibk.ac.at
ORGANIZER;CN="LFU:online Universität Innsbruck":MAILTO:Uni-Innsbruck-noreply@uibk.ac.at
SUMMARY:Gender: Körper, Geschlecht, Identität: Einführung in die kulturwissenschaftliche Kleidungsforschung (LV 645605-0 18S)
DESCRIPTION:Lehrveranstaltung 645605 18S, Gruppe 0\nTitel: Gender: Körper, Geschlecht, Identität: Einführung in die kulturwissenschaftliche Kleidungsforschung\nOrt: 52U109 SR\n\nhttps://lfuonline.uibk.ac.at/public/lfuonline_lv.details?sem_id_in=18S&lvnr_id_in=645605\n
CLASS:PUBLIC
DTSTART:20180517T133000Z
DTEND:20180517T150000Z
DTSTAMP:20260423T013525Z
LOCATION:52U109 SR
END:VEVENT
BEGIN:VEVENT
UID:18S_645605_3055192@uibk.ac.at
ORGANIZER;CN="LFU:online Universität Innsbruck":MAILTO:Uni-Innsbruck-noreply@uibk.ac.at
SUMMARY:Gender: Körper, Geschlecht, Identität: Einführung in die kulturwissenschaftliche Kleidungsforschung (LV 645605-0 18S)
DESCRIPTION:Lehrveranstaltung 645605 18S, Gruppe 0\nTitel: Gender: Körper, Geschlecht, Identität: Einführung in die kulturwissenschaftliche Kleidungsforschung\nOrt: 52U109 SR\n\nhttps://lfuonline.uibk.ac.at/public/lfuonline_lv.details?sem_id_in=18S&lvnr_id_in=645605\n
CLASS:PUBLIC
DTSTART:20180524T133000Z
DTEND:20180524T150000Z
DTSTAMP:20260423T013525Z
LOCATION:52U109 SR
END:VEVENT
BEGIN:VEVENT
UID:18S_645605_3121028@uibk.ac.at
ORGANIZER;CN="LFU:online Universität Innsbruck":MAILTO:Uni-Innsbruck-noreply@uibk.ac.at
SUMMARY:Gender: Körper, Geschlecht, Identität: Einführung in die kulturwissenschaftliche Kleidungsforschung (LV 645605-0 18S)
DESCRIPTION:Lehrveranstaltung 645605 18S, Gruppe 0\nTitel: Gender: Körper, Geschlecht, Identität: Einführung in die kulturwissenschaftliche Kleidungsforschung\nOrt: 50113 SR\n\nhttps://lfuonline.uibk.ac.at/public/lfuonline_lv.details?sem_id_in=18S&lvnr_id_in=645605\n
CLASS:PUBLIC
DTSTART:20180614T141500Z
DTEND:20180614T154500Z
DTSTAMP:20260423T013525Z
LOCATION:50113 SR
END:VEVENT
BEGIN:VEVENT
UID:18S_645605_3055195@uibk.ac.at
ORGANIZER;CN="LFU:online Universität Innsbruck":MAILTO:Uni-Innsbruck-noreply@uibk.ac.at
SUMMARY:Gender: Körper, Geschlecht, Identität: Einführung in die kulturwissenschaftliche Kleidungsforschung (LV 645605-0 18S)
DESCRIPTION:Lehrveranstaltung 645605 18S, Gruppe 0\nTitel: Gender: Körper, Geschlecht, Identität: Einführung in die kulturwissenschaftliche Kleidungsforschung\nOrt: 52U109 SR\n\nhttps://lfuonline.uibk.ac.at/public/lfuonline_lv.details?sem_id_in=18S&lvnr_id_in=645605\n
CLASS:PUBLIC
DTSTART:20180621T133000Z
DTEND:20180621T150000Z
DTSTAMP:20260423T013525Z
LOCATION:52U109 SR
END:VEVENT
BEGIN:VEVENT
UID:18S_645605_3114846@uibk.ac.at
ORGANIZER;CN="LFU:online Universität Innsbruck":MAILTO:Uni-Innsbruck-noreply@uibk.ac.at
SUMMARY:Gender: Körper, Geschlecht, Identität: Einführung in die kulturwissenschaftliche Kleidungsforschung (LV 645605-0 18S)
DESCRIPTION:Lehrveranstaltung 645605 18S, Gruppe 0\nTitel: Gender: Körper, Geschlecht, Identität: Einführung in die kulturwissenschaftliche Kleidungsforschung\nOrt: 52U109 SR\n\nhttps://lfuonline.uibk.ac.at/public/lfuonline_lv.details?sem_id_in=18S&lvnr_id_in=645605\n
CLASS:PUBLIC
DTSTART:20180622T070000Z
DTEND:20180622T150000Z
DTSTAMP:20260423T013525Z
LOCATION:52U109 SR
END:VEVENT
BEGIN:VEVENT
UID:18S_645605_3055196@uibk.ac.at
ORGANIZER;CN="LFU:online Universität Innsbruck":MAILTO:Uni-Innsbruck-noreply@uibk.ac.at
SUMMARY:Gender: Körper, Geschlecht, Identität: Einführung in die kulturwissenschaftliche Kleidungsforschung (LV 645605-0 18S)
DESCRIPTION:Lehrveranstaltung 645605 18S, Gruppe 0\nTitel: Gender: Körper, Geschlecht, Identität: Einführung in die kulturwissenschaftliche Kleidungsforschung\nOrt: 52U109 SR\n\nhttps://lfuonline.uibk.ac.at/public/lfuonline_lv.details?sem_id_in=18S&lvnr_id_in=645605\n
CLASS:PUBLIC
DTSTART:20180628T133000Z
DTEND:20180628T150000Z
DTSTAMP:20260423T013525Z
LOCATION:52U109 SR
END:VEVENT
END:VCALENDAR