BEGIN:VCALENDAR
VERSION:2.0
PRODID:-//Universität Innsbruck//LFU:online//DE
METHOD:PUBLISH
BEGIN:VEVENT
UID:18W_645613_3156706@uibk.ac.at
ORGANIZER;CN="LFU:online Universität Innsbruck":MAILTO:Uni-Innsbruck-noreply@uibk.ac.at
SUMMARY:Lektürekurs: Gender - Macht - Differenz (LV 645613-0 18W)
DESCRIPTION:Lehrveranstaltung 645613 18W, Gruppe 0\nTitel: Lektürekurs: Gender - Macht - Differenz\nOrt: 40628 UR\n\nhttps://lfuonline.uibk.ac.at/public/lfuonline_lv.details?sem_id_in=18W&lvnr_id_in=645613\n
CLASS:PUBLIC
DTSTART:20181004T151500Z
DTEND:20181004T164500Z
DTSTAMP:20260423T013450Z
LOCATION:40628 UR
END:VEVENT
BEGIN:VEVENT
UID:18W_645613_3156707@uibk.ac.at
ORGANIZER;CN="LFU:online Universität Innsbruck":MAILTO:Uni-Innsbruck-noreply@uibk.ac.at
SUMMARY:Lektürekurs: Gender - Macht - Differenz (LV 645613-0 18W)
DESCRIPTION:Lehrveranstaltung 645613 18W, Gruppe 0\nTitel: Lektürekurs: Gender - Macht - Differenz\nOrt: 40628 UR\n\nhttps://lfuonline.uibk.ac.at/public/lfuonline_lv.details?sem_id_in=18W&lvnr_id_in=645613\n
CLASS:PUBLIC
DTSTART:20181011T151500Z
DTEND:20181011T164500Z
DTSTAMP:20260423T013450Z
LOCATION:40628 UR
END:VEVENT
BEGIN:VEVENT
UID:18W_645613_3156708@uibk.ac.at
ORGANIZER;CN="LFU:online Universität Innsbruck":MAILTO:Uni-Innsbruck-noreply@uibk.ac.at
SUMMARY:Lektürekurs: Gender - Macht - Differenz (LV 645613-0 18W)
DESCRIPTION:Lehrveranstaltung 645613 18W, Gruppe 0\nTitel: Lektürekurs: Gender - Macht - Differenz\nOrt: 40628 UR\n\nhttps://lfuonline.uibk.ac.at/public/lfuonline_lv.details?sem_id_in=18W&lvnr_id_in=645613\n
CLASS:PUBLIC
DTSTART:20181018T151500Z
DTEND:20181018T164500Z
DTSTAMP:20260423T013450Z
LOCATION:40628 UR
END:VEVENT
BEGIN:VEVENT
UID:18W_645613_3156709@uibk.ac.at
ORGANIZER;CN="LFU:online Universität Innsbruck":MAILTO:Uni-Innsbruck-noreply@uibk.ac.at
SUMMARY:Lektürekurs: Gender - Macht - Differenz (LV 645613-0 18W)
DESCRIPTION:Lehrveranstaltung 645613 18W, Gruppe 0\nTitel: Lektürekurs: Gender - Macht - Differenz\nOrt: 40628 UR\n\nhttps://lfuonline.uibk.ac.at/public/lfuonline_lv.details?sem_id_in=18W&lvnr_id_in=645613\n
CLASS:PUBLIC
DTSTART:20181025T151500Z
DTEND:20181025T164500Z
DTSTAMP:20260423T013450Z
LOCATION:40628 UR
END:VEVENT
BEGIN:VEVENT
UID:18W_645613_3156710@uibk.ac.at
ORGANIZER;CN="LFU:online Universität Innsbruck":MAILTO:Uni-Innsbruck-noreply@uibk.ac.at
SUMMARY:Lektürekurs: Gender - Macht - Differenz (LV 645613-0 18W)
DESCRIPTION:Lehrveranstaltung 645613 18W, Gruppe 0\nTitel: Lektürekurs: Gender - Macht - Differenz\nOrt: 40628 UR\n\nhttps://lfuonline.uibk.ac.at/public/lfuonline_lv.details?sem_id_in=18W&lvnr_id_in=645613\n
CLASS:PUBLIC
DTSTART:20181108T161500Z
DTEND:20181108T174500Z
DTSTAMP:20260423T013450Z
LOCATION:40628 UR
END:VEVENT
BEGIN:VEVENT
UID:18W_645613_3156711@uibk.ac.at
ORGANIZER;CN="LFU:online Universität Innsbruck":MAILTO:Uni-Innsbruck-noreply@uibk.ac.at
SUMMARY:Lektürekurs: Gender - Macht - Differenz (LV 645613-0 18W)
DESCRIPTION:Lehrveranstaltung 645613 18W, Gruppe 0\nTitel: Lektürekurs: Gender - Macht - Differenz\nOrt: 40628 UR\n\nhttps://lfuonline.uibk.ac.at/public/lfuonline_lv.details?sem_id_in=18W&lvnr_id_in=645613\n
CLASS:PUBLIC
DTSTART:20181115T161500Z
DTEND:20181115T174500Z
DTSTAMP:20260423T013450Z
LOCATION:40628 UR
END:VEVENT
BEGIN:VEVENT
UID:18W_645613_3156712@uibk.ac.at
ORGANIZER;CN="LFU:online Universität Innsbruck":MAILTO:Uni-Innsbruck-noreply@uibk.ac.at
SUMMARY:Lektürekurs: Gender - Macht - Differenz (LV 645613-0 18W)
DESCRIPTION:Lehrveranstaltung 645613 18W, Gruppe 0\nTitel: Lektürekurs: Gender - Macht - Differenz\nOrt: 40628 UR\n\nhttps://lfuonline.uibk.ac.at/public/lfuonline_lv.details?sem_id_in=18W&lvnr_id_in=645613\n
CLASS:PUBLIC
DTSTART:20181122T161500Z
DTEND:20181122T174500Z
DTSTAMP:20260423T013450Z
LOCATION:40628 UR
END:VEVENT
BEGIN:VEVENT
UID:18W_645613_3156713@uibk.ac.at
ORGANIZER;CN="LFU:online Universität Innsbruck":MAILTO:Uni-Innsbruck-noreply@uibk.ac.at
SUMMARY:Lektürekurs: Gender - Macht - Differenz (LV 645613-0 18W)
DESCRIPTION:Lehrveranstaltung 645613 18W, Gruppe 0\nTitel: Lektürekurs: Gender - Macht - Differenz\nOrt: 40628 UR\n\nhttps://lfuonline.uibk.ac.at/public/lfuonline_lv.details?sem_id_in=18W&lvnr_id_in=645613\n
CLASS:PUBLIC
DTSTART:20181129T161500Z
DTEND:20181129T174500Z
DTSTAMP:20260423T013450Z
LOCATION:40628 UR
END:VEVENT
BEGIN:VEVENT
UID:18W_645613_3156714@uibk.ac.at
ORGANIZER;CN="LFU:online Universität Innsbruck":MAILTO:Uni-Innsbruck-noreply@uibk.ac.at
SUMMARY:Lektürekurs: Gender - Macht - Differenz (LV 645613-0 18W)
DESCRIPTION:Lehrveranstaltung 645613 18W, Gruppe 0\nTitel: Lektürekurs: Gender - Macht - Differenz\nOrt: 40628 UR\n\nhttps://lfuonline.uibk.ac.at/public/lfuonline_lv.details?sem_id_in=18W&lvnr_id_in=645613\n
CLASS:PUBLIC
DTSTART:20181206T161500Z
DTEND:20181206T174500Z
DTSTAMP:20260423T013450Z
LOCATION:40628 UR
END:VEVENT
BEGIN:VEVENT
UID:18W_645613_3156715@uibk.ac.at
ORGANIZER;CN="LFU:online Universität Innsbruck":MAILTO:Uni-Innsbruck-noreply@uibk.ac.at
SUMMARY:Lektürekurs: Gender - Macht - Differenz (LV 645613-0 18W)
DESCRIPTION:Lehrveranstaltung 645613 18W, Gruppe 0\nTitel: Lektürekurs: Gender - Macht - Differenz\nOrt: 40628 UR\n\nhttps://lfuonline.uibk.ac.at/public/lfuonline_lv.details?sem_id_in=18W&lvnr_id_in=645613\n
CLASS:PUBLIC
DTSTART:20181213T161500Z
DTEND:20181213T174500Z
DTSTAMP:20260423T013450Z
LOCATION:40628 UR
END:VEVENT
BEGIN:VEVENT
UID:18W_645613_3156716@uibk.ac.at
ORGANIZER;CN="LFU:online Universität Innsbruck":MAILTO:Uni-Innsbruck-noreply@uibk.ac.at
SUMMARY:Lektürekurs: Gender - Macht - Differenz (LV 645613-0 18W)
DESCRIPTION:Lehrveranstaltung 645613 18W, Gruppe 0\nTitel: Lektürekurs: Gender - Macht - Differenz\nOrt: 40628 UR\n\nhttps://lfuonline.uibk.ac.at/public/lfuonline_lv.details?sem_id_in=18W&lvnr_id_in=645613\n
CLASS:PUBLIC
DTSTART:20190110T161500Z
DTEND:20190110T174500Z
DTSTAMP:20260423T013450Z
LOCATION:40628 UR
END:VEVENT
BEGIN:VEVENT
UID:18W_645613_3156717@uibk.ac.at
ORGANIZER;CN="LFU:online Universität Innsbruck":MAILTO:Uni-Innsbruck-noreply@uibk.ac.at
SUMMARY:Lektürekurs: Gender - Macht - Differenz (LV 645613-0 18W)
DESCRIPTION:Lehrveranstaltung 645613 18W, Gruppe 0\nTitel: Lektürekurs: Gender - Macht - Differenz\nOrt: 40628 UR\n\nhttps://lfuonline.uibk.ac.at/public/lfuonline_lv.details?sem_id_in=18W&lvnr_id_in=645613\n
CLASS:PUBLIC
DTSTART:20190117T161500Z
DTEND:20190117T174500Z
DTSTAMP:20260423T013450Z
LOCATION:40628 UR
END:VEVENT
BEGIN:VEVENT
UID:18W_645613_3156718@uibk.ac.at
ORGANIZER;CN="LFU:online Universität Innsbruck":MAILTO:Uni-Innsbruck-noreply@uibk.ac.at
SUMMARY:Lektürekurs: Gender - Macht - Differenz (LV 645613-0 18W)
DESCRIPTION:Lehrveranstaltung 645613 18W, Gruppe 0\nTitel: Lektürekurs: Gender - Macht - Differenz\nOrt: 40628 UR\n\nhttps://lfuonline.uibk.ac.at/public/lfuonline_lv.details?sem_id_in=18W&lvnr_id_in=645613\n
CLASS:PUBLIC
DTSTART:20190124T161500Z
DTEND:20190124T174500Z
DTSTAMP:20260423T013450Z
LOCATION:40628 UR
END:VEVENT
BEGIN:VEVENT
UID:18W_645613_3156719@uibk.ac.at
ORGANIZER;CN="LFU:online Universität Innsbruck":MAILTO:Uni-Innsbruck-noreply@uibk.ac.at
SUMMARY:Lektürekurs: Gender - Macht - Differenz (LV 645613-0 18W)
DESCRIPTION:Lehrveranstaltung 645613 18W, Gruppe 0\nTitel: Lektürekurs: Gender - Macht - Differenz\nOrt: 40628 UR\n\nhttps://lfuonline.uibk.ac.at/public/lfuonline_lv.details?sem_id_in=18W&lvnr_id_in=645613\n
CLASS:PUBLIC
DTSTART:20190131T161500Z
DTEND:20190131T174500Z
DTSTAMP:20260423T013450Z
LOCATION:40628 UR
END:VEVENT
END:VCALENDAR