BEGIN:VCALENDAR
VERSION:2.0
PRODID:-//Universität Innsbruck//LFU:online//DE
METHOD:PUBLISH
BEGIN:VEVENT
UID:25W_703000_4930367@uibk.ac.at
ORGANIZER;CN="LFU:online Universität Innsbruck":MAILTO:Uni-Innsbruck-noreply@uibk.ac.at
SUMMARY:EiS - Einführung ins Studium der Informatik (LV 703000-0 25W)
DESCRIPTION:Lehrveranstaltung 703000 25W, Gruppe 0\nTitel: EiS - Einführung ins Studium der Informatik\nOrt: HS A (Technik)\n\nhttps://lfuonline.uibk.ac.at/public/lfuonline_lv.details?sem_id_in=25W&lvnr_id_in=703000\n
CLASS:PUBLIC
DTSTART:20250929T060000Z
DTEND:20250929T100000Z
DTSTAMP:20260419T134108Z
LOCATION:HS A (Technik)
COMMENT:Gilt für alle Gruppen
END:VEVENT
END:VCALENDAR