BEGIN:VCALENDAR
VERSION:2.0
PRODID:-//Universität Innsbruck//LFU:online//DE
METHOD:PUBLISH
BEGIN:VEVENT
UID:12W_703007_1844355@uibk.ac.at
ORGANIZER;CN="LFU:online Universität Innsbruck":MAILTO:Uni-Innsbruck-noreply@uibk.ac.at
SUMMARY:Einführung in die Theoretische Informatik (LV 703007-0 12W)
DESCRIPTION:Lehrveranstaltung 703007 12W, Gruppe 0\nTitel: Einführung in die Theoretische Informatik\nOrt: HSB  2\n\nhttps://lfuonline.uibk.ac.at/public/lfuonline_lv.details?sem_id_in=12W&lvnr_id_in=703007\n
CLASS:PUBLIC
DTSTART:20121005T061500Z
DTEND:20121005T080000Z
DTSTAMP:20260420T032547Z
LOCATION:HSB  2
END:VEVENT
BEGIN:VEVENT
UID:12W_703007_1952905@uibk.ac.at
ORGANIZER;CN="LFU:online Universität Innsbruck":MAILTO:Uni-Innsbruck-noreply@uibk.ac.at
SUMMARY:Einführung in die Theoretische Informatik (LV 703007-0 12W)
DESCRIPTION:Lehrveranstaltung 703007 12W, Gruppe 0\nTitel: Einführung in die Theoretische Informatik\nOrt: HS 11\n\nhttps://lfuonline.uibk.ac.at/public/lfuonline_lv.details?sem_id_in=12W&lvnr_id_in=703007\n
CLASS:PUBLIC
DTSTART:20121009T150000Z
DTEND:20121009T160000Z
DTSTAMP:20260420T032547Z
LOCATION:HS 11
COMMENT:TUTORIUM
END:VEVENT
BEGIN:VEVENT
UID:12W_703007_1844356@uibk.ac.at
ORGANIZER;CN="LFU:online Universität Innsbruck":MAILTO:Uni-Innsbruck-noreply@uibk.ac.at
SUMMARY:Einführung in die Theoretische Informatik (LV 703007-0 12W)
DESCRIPTION:Lehrveranstaltung 703007 12W, Gruppe 0\nTitel: Einführung in die Theoretische Informatik\nOrt: HSB  2\n\nhttps://lfuonline.uibk.ac.at/public/lfuonline_lv.details?sem_id_in=12W&lvnr_id_in=703007\n
CLASS:PUBLIC
DTSTART:20121012T061500Z
DTEND:20121012T080000Z
DTSTAMP:20260420T032547Z
LOCATION:HSB  2
END:VEVENT
BEGIN:VEVENT
UID:12W_703007_1952906@uibk.ac.at
ORGANIZER;CN="LFU:online Universität Innsbruck":MAILTO:Uni-Innsbruck-noreply@uibk.ac.at
SUMMARY:Einführung in die Theoretische Informatik (LV 703007-0 12W)
DESCRIPTION:Lehrveranstaltung 703007 12W, Gruppe 0\nTitel: Einführung in die Theoretische Informatik\nOrt: HS 11\n\nhttps://lfuonline.uibk.ac.at/public/lfuonline_lv.details?sem_id_in=12W&lvnr_id_in=703007\n
CLASS:PUBLIC
DTSTART:20121016T150000Z
DTEND:20121016T160000Z
DTSTAMP:20260420T032547Z
LOCATION:HS 11
COMMENT:TUTORIUM
END:VEVENT
BEGIN:VEVENT
UID:12W_703007_1844357@uibk.ac.at
ORGANIZER;CN="LFU:online Universität Innsbruck":MAILTO:Uni-Innsbruck-noreply@uibk.ac.at
SUMMARY:Einführung in die Theoretische Informatik (LV 703007-0 12W)
DESCRIPTION:Lehrveranstaltung 703007 12W, Gruppe 0\nTitel: Einführung in die Theoretische Informatik\nOrt: HSB  2\n\nhttps://lfuonline.uibk.ac.at/public/lfuonline_lv.details?sem_id_in=12W&lvnr_id_in=703007\n
CLASS:PUBLIC
DTSTART:20121019T061500Z
DTEND:20121019T080000Z
DTSTAMP:20260420T032547Z
LOCATION:HSB  2
END:VEVENT
BEGIN:VEVENT
UID:12W_703007_1952907@uibk.ac.at
ORGANIZER;CN="LFU:online Universität Innsbruck":MAILTO:Uni-Innsbruck-noreply@uibk.ac.at
SUMMARY:Einführung in die Theoretische Informatik (LV 703007-0 12W)
DESCRIPTION:Lehrveranstaltung 703007 12W, Gruppe 0\nTitel: Einführung in die Theoretische Informatik\nOrt: HS 11\n\nhttps://lfuonline.uibk.ac.at/public/lfuonline_lv.details?sem_id_in=12W&lvnr_id_in=703007\n
CLASS:PUBLIC
DTSTART:20121023T150000Z
DTEND:20121023T160000Z
DTSTAMP:20260420T032547Z
LOCATION:HS 11
COMMENT:TUTORIUM
END:VEVENT
BEGIN:VEVENT
UID:12W_703007_1952908@uibk.ac.at
ORGANIZER;CN="LFU:online Universität Innsbruck":MAILTO:Uni-Innsbruck-noreply@uibk.ac.at
SUMMARY:Einführung in die Theoretische Informatik (LV 703007-0 12W)
DESCRIPTION:Lehrveranstaltung 703007 12W, Gruppe 0\nTitel: Einführung in die Theoretische Informatik\nOrt: HS 11\n\nhttps://lfuonline.uibk.ac.at/public/lfuonline_lv.details?sem_id_in=12W&lvnr_id_in=703007\n
CLASS:PUBLIC
DTSTART:20121030T160000Z
DTEND:20121030T170000Z
DTSTAMP:20260420T032547Z
LOCATION:HS 11
COMMENT:TUTORIUM
END:VEVENT
BEGIN:VEVENT
UID:12W_703007_1952909@uibk.ac.at
ORGANIZER;CN="LFU:online Universität Innsbruck":MAILTO:Uni-Innsbruck-noreply@uibk.ac.at
SUMMARY:Einführung in die Theoretische Informatik (LV 703007-0 12W)
DESCRIPTION:Lehrveranstaltung 703007 12W, Gruppe 0\nTitel: Einführung in die Theoretische Informatik\nOrt: HS 11\n\nhttps://lfuonline.uibk.ac.at/public/lfuonline_lv.details?sem_id_in=12W&lvnr_id_in=703007\n
CLASS:PUBLIC
DTSTART:20121106T160000Z
DTEND:20121106T170000Z
DTSTAMP:20260420T032547Z
LOCATION:HS 11
COMMENT:TUTORIUM
END:VEVENT
BEGIN:VEVENT
UID:12W_703007_1844358@uibk.ac.at
ORGANIZER;CN="LFU:online Universität Innsbruck":MAILTO:Uni-Innsbruck-noreply@uibk.ac.at
SUMMARY:Einführung in die Theoretische Informatik (LV 703007-0 12W)
DESCRIPTION:Lehrveranstaltung 703007 12W, Gruppe 0\nTitel: Einführung in die Theoretische Informatik\nOrt: Gr. HS\n\nhttps://lfuonline.uibk.ac.at/public/lfuonline_lv.details?sem_id_in=12W&lvnr_id_in=703007\n
CLASS:PUBLIC
DTSTART:20121109T071500Z
DTEND:20121109T090000Z
DTSTAMP:20260420T032547Z
LOCATION:Gr. HS
END:VEVENT
BEGIN:VEVENT
UID:12W_703007_1952910@uibk.ac.at
ORGANIZER;CN="LFU:online Universität Innsbruck":MAILTO:Uni-Innsbruck-noreply@uibk.ac.at
SUMMARY:Einführung in die Theoretische Informatik (LV 703007-0 12W)
DESCRIPTION:Lehrveranstaltung 703007 12W, Gruppe 0\nTitel: Einführung in die Theoretische Informatik\nOrt: HS 11\n\nhttps://lfuonline.uibk.ac.at/public/lfuonline_lv.details?sem_id_in=12W&lvnr_id_in=703007\n
CLASS:PUBLIC
DTSTART:20121113T160000Z
DTEND:20121113T170000Z
DTSTAMP:20260420T032547Z
LOCATION:HS 11
COMMENT:TUTORIUM
END:VEVENT
BEGIN:VEVENT
UID:12W_703007_1844359@uibk.ac.at
ORGANIZER;CN="LFU:online Universität Innsbruck":MAILTO:Uni-Innsbruck-noreply@uibk.ac.at
SUMMARY:Einführung in die Theoretische Informatik (LV 703007-0 12W)
DESCRIPTION:Lehrveranstaltung 703007 12W, Gruppe 0\nTitel: Einführung in die Theoretische Informatik\nOrt: HSB  2\n\nhttps://lfuonline.uibk.ac.at/public/lfuonline_lv.details?sem_id_in=12W&lvnr_id_in=703007\n
CLASS:PUBLIC
DTSTART:20121116T071500Z
DTEND:20121116T090000Z
DTSTAMP:20260420T032547Z
LOCATION:HSB  2
END:VEVENT
BEGIN:VEVENT
UID:12W_703007_1952911@uibk.ac.at
ORGANIZER;CN="LFU:online Universität Innsbruck":MAILTO:Uni-Innsbruck-noreply@uibk.ac.at
SUMMARY:Einführung in die Theoretische Informatik (LV 703007-0 12W)
DESCRIPTION:Lehrveranstaltung 703007 12W, Gruppe 0\nTitel: Einführung in die Theoretische Informatik\nOrt: HS 11\n\nhttps://lfuonline.uibk.ac.at/public/lfuonline_lv.details?sem_id_in=12W&lvnr_id_in=703007\n
CLASS:PUBLIC
DTSTART:20121120T160000Z
DTEND:20121120T170000Z
DTSTAMP:20260420T032547Z
LOCATION:HS 11
COMMENT:TUTORIUM
END:VEVENT
BEGIN:VEVENT
UID:12W_703007_1844360@uibk.ac.at
ORGANIZER;CN="LFU:online Universität Innsbruck":MAILTO:Uni-Innsbruck-noreply@uibk.ac.at
SUMMARY:Einführung in die Theoretische Informatik (LV 703007-0 12W)
DESCRIPTION:Lehrveranstaltung 703007 12W, Gruppe 0\nTitel: Einführung in die Theoretische Informatik\nOrt: HSB  2\n\nhttps://lfuonline.uibk.ac.at/public/lfuonline_lv.details?sem_id_in=12W&lvnr_id_in=703007\n
CLASS:PUBLIC
DTSTART:20121123T071500Z
DTEND:20121123T090000Z
DTSTAMP:20260420T032547Z
LOCATION:HSB  2
END:VEVENT
BEGIN:VEVENT
UID:12W_703007_1952912@uibk.ac.at
ORGANIZER;CN="LFU:online Universität Innsbruck":MAILTO:Uni-Innsbruck-noreply@uibk.ac.at
SUMMARY:Einführung in die Theoretische Informatik (LV 703007-0 12W)
DESCRIPTION:Lehrveranstaltung 703007 12W, Gruppe 0\nTitel: Einführung in die Theoretische Informatik\nOrt: HS 11\n\nhttps://lfuonline.uibk.ac.at/public/lfuonline_lv.details?sem_id_in=12W&lvnr_id_in=703007\n
CLASS:PUBLIC
DTSTART:20121127T160000Z
DTEND:20121127T170000Z
DTSTAMP:20260420T032547Z
LOCATION:HS 11
COMMENT:TUTORIUM
END:VEVENT
BEGIN:VEVENT
UID:12W_703007_1844361@uibk.ac.at
ORGANIZER;CN="LFU:online Universität Innsbruck":MAILTO:Uni-Innsbruck-noreply@uibk.ac.at
SUMMARY:Einführung in die Theoretische Informatik (LV 703007-0 12W)
DESCRIPTION:Lehrveranstaltung 703007 12W, Gruppe 0\nTitel: Einführung in die Theoretische Informatik\nOrt: HSB  2\n\nhttps://lfuonline.uibk.ac.at/public/lfuonline_lv.details?sem_id_in=12W&lvnr_id_in=703007\n
CLASS:PUBLIC
DTSTART:20121130T071500Z
DTEND:20121130T090000Z
DTSTAMP:20260420T032547Z
LOCATION:HSB  2
END:VEVENT
BEGIN:VEVENT
UID:12W_703007_1952913@uibk.ac.at
ORGANIZER;CN="LFU:online Universität Innsbruck":MAILTO:Uni-Innsbruck-noreply@uibk.ac.at
SUMMARY:Einführung in die Theoretische Informatik (LV 703007-0 12W)
DESCRIPTION:Lehrveranstaltung 703007 12W, Gruppe 0\nTitel: Einführung in die Theoretische Informatik\nOrt: HS 11\n\nhttps://lfuonline.uibk.ac.at/public/lfuonline_lv.details?sem_id_in=12W&lvnr_id_in=703007\n
CLASS:PUBLIC
DTSTART:20121204T160000Z
DTEND:20121204T170000Z
DTSTAMP:20260420T032547Z
LOCATION:HS 11
COMMENT:TUTORIUM
END:VEVENT
BEGIN:VEVENT
UID:12W_703007_1844362@uibk.ac.at
ORGANIZER;CN="LFU:online Universität Innsbruck":MAILTO:Uni-Innsbruck-noreply@uibk.ac.at
SUMMARY:Einführung in die Theoretische Informatik (LV 703007-0 12W)
DESCRIPTION:Lehrveranstaltung 703007 12W, Gruppe 0\nTitel: Einführung in die Theoretische Informatik\nOrt: HSB  2\n\nhttps://lfuonline.uibk.ac.at/public/lfuonline_lv.details?sem_id_in=12W&lvnr_id_in=703007\n
CLASS:PUBLIC
DTSTART:20121207T071500Z
DTEND:20121207T090000Z
DTSTAMP:20260420T032547Z
LOCATION:HSB  2
END:VEVENT
BEGIN:VEVENT
UID:12W_703007_1952914@uibk.ac.at
ORGANIZER;CN="LFU:online Universität Innsbruck":MAILTO:Uni-Innsbruck-noreply@uibk.ac.at
SUMMARY:Einführung in die Theoretische Informatik (LV 703007-0 12W)
DESCRIPTION:Lehrveranstaltung 703007 12W, Gruppe 0\nTitel: Einführung in die Theoretische Informatik\nOrt: HS 11\n\nhttps://lfuonline.uibk.ac.at/public/lfuonline_lv.details?sem_id_in=12W&lvnr_id_in=703007\n
CLASS:PUBLIC
DTSTART:20121211T160000Z
DTEND:20121211T170000Z
DTSTAMP:20260420T032547Z
LOCATION:HS 11
COMMENT:TUTORIUM
END:VEVENT
BEGIN:VEVENT
UID:12W_703007_1844363@uibk.ac.at
ORGANIZER;CN="LFU:online Universität Innsbruck":MAILTO:Uni-Innsbruck-noreply@uibk.ac.at
SUMMARY:Einführung in die Theoretische Informatik (LV 703007-0 12W)
DESCRIPTION:Lehrveranstaltung 703007 12W, Gruppe 0\nTitel: Einführung in die Theoretische Informatik\nOrt: HSB  2\n\nhttps://lfuonline.uibk.ac.at/public/lfuonline_lv.details?sem_id_in=12W&lvnr_id_in=703007\n
CLASS:PUBLIC
DTSTART:20121214T071500Z
DTEND:20121214T090000Z
DTSTAMP:20260420T032547Z
LOCATION:HSB  2
END:VEVENT
BEGIN:VEVENT
UID:12W_703007_1952915@uibk.ac.at
ORGANIZER;CN="LFU:online Universität Innsbruck":MAILTO:Uni-Innsbruck-noreply@uibk.ac.at
SUMMARY:Einführung in die Theoretische Informatik (LV 703007-0 12W)
DESCRIPTION:Lehrveranstaltung 703007 12W, Gruppe 0\nTitel: Einführung in die Theoretische Informatik\nOrt: HS 11\n\nhttps://lfuonline.uibk.ac.at/public/lfuonline_lv.details?sem_id_in=12W&lvnr_id_in=703007\n
CLASS:PUBLIC
DTSTART:20130108T160000Z
DTEND:20130108T170000Z
DTSTAMP:20260420T032547Z
LOCATION:HS 11
COMMENT:TUTORIUM
END:VEVENT
BEGIN:VEVENT
UID:12W_703007_1844364@uibk.ac.at
ORGANIZER;CN="LFU:online Universität Innsbruck":MAILTO:Uni-Innsbruck-noreply@uibk.ac.at
SUMMARY:Einführung in die Theoretische Informatik (LV 703007-0 12W)
DESCRIPTION:Lehrveranstaltung 703007 12W, Gruppe 0\nTitel: Einführung in die Theoretische Informatik\nOrt: HSB  2\n\nhttps://lfuonline.uibk.ac.at/public/lfuonline_lv.details?sem_id_in=12W&lvnr_id_in=703007\n
CLASS:PUBLIC
DTSTART:20130111T071500Z
DTEND:20130111T090000Z
DTSTAMP:20260420T032547Z
LOCATION:HSB  2
END:VEVENT
BEGIN:VEVENT
UID:12W_703007_1952916@uibk.ac.at
ORGANIZER;CN="LFU:online Universität Innsbruck":MAILTO:Uni-Innsbruck-noreply@uibk.ac.at
SUMMARY:Einführung in die Theoretische Informatik (LV 703007-0 12W)
DESCRIPTION:Lehrveranstaltung 703007 12W, Gruppe 0\nTitel: Einführung in die Theoretische Informatik\nOrt: HS 11\n\nhttps://lfuonline.uibk.ac.at/public/lfuonline_lv.details?sem_id_in=12W&lvnr_id_in=703007\n
CLASS:PUBLIC
DTSTART:20130115T160000Z
DTEND:20130115T170000Z
DTSTAMP:20260420T032547Z
LOCATION:HS 11
COMMENT:TUTORIUM
END:VEVENT
BEGIN:VEVENT
UID:12W_703007_1844365@uibk.ac.at
ORGANIZER;CN="LFU:online Universität Innsbruck":MAILTO:Uni-Innsbruck-noreply@uibk.ac.at
SUMMARY:Einführung in die Theoretische Informatik (LV 703007-0 12W)
DESCRIPTION:Lehrveranstaltung 703007 12W, Gruppe 0\nTitel: Einführung in die Theoretische Informatik\nOrt: HSB  2\n\nhttps://lfuonline.uibk.ac.at/public/lfuonline_lv.details?sem_id_in=12W&lvnr_id_in=703007\n
CLASS:PUBLIC
DTSTART:20130118T071500Z
DTEND:20130118T090000Z
DTSTAMP:20260420T032547Z
LOCATION:HSB  2
END:VEVENT
BEGIN:VEVENT
UID:12W_703007_1952917@uibk.ac.at
ORGANIZER;CN="LFU:online Universität Innsbruck":MAILTO:Uni-Innsbruck-noreply@uibk.ac.at
SUMMARY:Einführung in die Theoretische Informatik (LV 703007-0 12W)
DESCRIPTION:Lehrveranstaltung 703007 12W, Gruppe 0\nTitel: Einführung in die Theoretische Informatik\nOrt: HS 11\n\nhttps://lfuonline.uibk.ac.at/public/lfuonline_lv.details?sem_id_in=12W&lvnr_id_in=703007\n
CLASS:PUBLIC
DTSTART:20130122T160000Z
DTEND:20130122T170000Z
DTSTAMP:20260420T032547Z
LOCATION:HS 11
COMMENT:TUTORIUM
END:VEVENT
BEGIN:VEVENT
UID:12W_703007_1844366@uibk.ac.at
ORGANIZER;CN="LFU:online Universität Innsbruck":MAILTO:Uni-Innsbruck-noreply@uibk.ac.at
SUMMARY:Einführung in die Theoretische Informatik (LV 703007-0 12W)
DESCRIPTION:Lehrveranstaltung 703007 12W, Gruppe 0\nTitel: Einführung in die Theoretische Informatik\nOrt: HSB  2\n\nhttps://lfuonline.uibk.ac.at/public/lfuonline_lv.details?sem_id_in=12W&lvnr_id_in=703007\n
CLASS:PUBLIC
DTSTART:20130125T071500Z
DTEND:20130125T090000Z
DTSTAMP:20260420T032547Z
LOCATION:HSB  2
END:VEVENT
BEGIN:VEVENT
UID:12W_703007_1978128@uibk.ac.at
ORGANIZER;CN="LFU:online Universität Innsbruck":MAILTO:Uni-Innsbruck-noreply@uibk.ac.at
SUMMARY:Einführung in die Theoretische Informatik (LV 703007-0 12W)
DESCRIPTION:Lehrveranstaltung 703007 12W, Gruppe 0\nTitel: Einführung in die Theoretische Informatik\nOrt: HS 11\n\nhttps://lfuonline.uibk.ac.at/public/lfuonline_lv.details?sem_id_in=12W&lvnr_id_in=703007\n
CLASS:PUBLIC
DTSTART:20130129T160000Z
DTEND:20130129T170000Z
DTSTAMP:20260420T032547Z
LOCATION:HS 11
COMMENT:TUTORIUM
END:VEVENT
BEGIN:VEVENT
UID:12W_703007_1974433@uibk.ac.at
ORGANIZER;CN="LFU:online Universität Innsbruck":MAILTO:Uni-Innsbruck-noreply@uibk.ac.at
SUMMARY:Einführung in die Theoretische Informatik (LV 703007-0 12W)
DESCRIPTION:Lehrveranstaltung 703007 12W, Gruppe 0\nTitel: Einführung in die Theoretische Informatik\nOrt: HS F (Technik)\n\nhttps://lfuonline.uibk.ac.at/public/lfuonline_lv.details?sem_id_in=12W&lvnr_id_in=703007\n
CLASS:PUBLIC
DTSTART:20130129T170000Z
DTEND:20130129T190000Z
DTSTAMP:20260420T032547Z
LOCATION:HS F (Technik)
COMMENT:Klausurvorbereitung
END:VEVENT
BEGIN:VEVENT
UID:12W_703007_1844367@uibk.ac.at
ORGANIZER;CN="LFU:online Universität Innsbruck":MAILTO:Uni-Innsbruck-noreply@uibk.ac.at
SUMMARY:Einführung in die Theoretische Informatik (LV 703007-0 12W)
DESCRIPTION:Lehrveranstaltung 703007 12W, Gruppe 0\nTitel: Einführung in die Theoretische Informatik\nOrt: HSB  2\n\nhttps://lfuonline.uibk.ac.at/public/lfuonline_lv.details?sem_id_in=12W&lvnr_id_in=703007\n
CLASS:PUBLIC
DTSTART:20130201T071500Z
DTEND:20130201T090000Z
DTSTAMP:20260420T032547Z
LOCATION:HSB  2
END:VEVENT
END:VCALENDAR