BEGIN:VCALENDAR
VERSION:2.0
PRODID:-//Universität Innsbruck//LFU:online//DE
METHOD:PUBLISH
BEGIN:VEVENT
UID:10W_703015_1432365@uibk.ac.at
ORGANIZER;CN="LFU:online Universität Innsbruck":MAILTO:Uni-Innsbruck-noreply@uibk.ac.at
SUMMARY:Entwurf von Softwaresystemen (LV 703015-0 10W)
DESCRIPTION:Lehrveranstaltung 703015 10W, Gruppe 0\nTitel: Entwurf von Softwaresystemen\nOrt: HS E (Technik)\n\nhttps://lfuonline.uibk.ac.at/public/lfuonline_lv.details?sem_id_in=10W&lvnr_id_in=703015\n
CLASS:PUBLIC
DTSTART:20101004T061500Z
DTEND:20101004T080000Z
DTSTAMP:20260423T145526Z
LOCATION:HS E (Technik)
END:VEVENT
BEGIN:VEVENT
UID:10W_703015_1432366@uibk.ac.at
ORGANIZER;CN="LFU:online Universität Innsbruck":MAILTO:Uni-Innsbruck-noreply@uibk.ac.at
SUMMARY:Entwurf von Softwaresystemen (LV 703015-0 10W)
DESCRIPTION:Lehrveranstaltung 703015 10W, Gruppe 0\nTitel: Entwurf von Softwaresystemen\nOrt: HS E (Technik)\n\nhttps://lfuonline.uibk.ac.at/public/lfuonline_lv.details?sem_id_in=10W&lvnr_id_in=703015\n
CLASS:PUBLIC
DTSTART:20101011T061500Z
DTEND:20101011T080000Z
DTSTAMP:20260423T145526Z
LOCATION:HS E (Technik)
END:VEVENT
BEGIN:VEVENT
UID:10W_703015_1432367@uibk.ac.at
ORGANIZER;CN="LFU:online Universität Innsbruck":MAILTO:Uni-Innsbruck-noreply@uibk.ac.at
SUMMARY:Entwurf von Softwaresystemen (LV 703015-0 10W)
DESCRIPTION:Lehrveranstaltung 703015 10W, Gruppe 0\nTitel: Entwurf von Softwaresystemen\nOrt: HS E (Technik)\n\nhttps://lfuonline.uibk.ac.at/public/lfuonline_lv.details?sem_id_in=10W&lvnr_id_in=703015\n
CLASS:PUBLIC
DTSTART:20101018T061500Z
DTEND:20101018T080000Z
DTSTAMP:20260423T145526Z
LOCATION:HS E (Technik)
END:VEVENT
BEGIN:VEVENT
UID:10W_703015_1432368@uibk.ac.at
ORGANIZER;CN="LFU:online Universität Innsbruck":MAILTO:Uni-Innsbruck-noreply@uibk.ac.at
SUMMARY:Entwurf von Softwaresystemen (LV 703015-0 10W)
DESCRIPTION:Lehrveranstaltung 703015 10W, Gruppe 0\nTitel: Entwurf von Softwaresystemen\nOrt: HS E (Technik)\n\nhttps://lfuonline.uibk.ac.at/public/lfuonline_lv.details?sem_id_in=10W&lvnr_id_in=703015\n
CLASS:PUBLIC
DTSTART:20101025T061500Z
DTEND:20101025T080000Z
DTSTAMP:20260423T145526Z
LOCATION:HS E (Technik)
END:VEVENT
BEGIN:VEVENT
UID:10W_703015_1432370@uibk.ac.at
ORGANIZER;CN="LFU:online Universität Innsbruck":MAILTO:Uni-Innsbruck-noreply@uibk.ac.at
SUMMARY:Entwurf von Softwaresystemen (LV 703015-0 10W)
DESCRIPTION:Lehrveranstaltung 703015 10W, Gruppe 0\nTitel: Entwurf von Softwaresystemen\nOrt: HS E (Technik)\n\nhttps://lfuonline.uibk.ac.at/public/lfuonline_lv.details?sem_id_in=10W&lvnr_id_in=703015\n
CLASS:PUBLIC
DTSTART:20101108T071500Z
DTEND:20101108T090000Z
DTSTAMP:20260423T145526Z
LOCATION:HS E (Technik)
END:VEVENT
BEGIN:VEVENT
UID:10W_703015_1432371@uibk.ac.at
ORGANIZER;CN="LFU:online Universität Innsbruck":MAILTO:Uni-Innsbruck-noreply@uibk.ac.at
SUMMARY:Entwurf von Softwaresystemen (LV 703015-0 10W)
DESCRIPTION:Lehrveranstaltung 703015 10W, Gruppe 0\nTitel: Entwurf von Softwaresystemen\nOrt: HS E (Technik)\n\nhttps://lfuonline.uibk.ac.at/public/lfuonline_lv.details?sem_id_in=10W&lvnr_id_in=703015\n
CLASS:PUBLIC
DTSTART:20101115T071500Z
DTEND:20101115T090000Z
DTSTAMP:20260423T145526Z
LOCATION:HS E (Technik)
END:VEVENT
BEGIN:VEVENT
UID:10W_703015_1432372@uibk.ac.at
ORGANIZER;CN="LFU:online Universität Innsbruck":MAILTO:Uni-Innsbruck-noreply@uibk.ac.at
SUMMARY:Entwurf von Softwaresystemen (LV 703015-0 10W)
DESCRIPTION:Lehrveranstaltung 703015 10W, Gruppe 0\nTitel: Entwurf von Softwaresystemen\nOrt: HS E (Technik)\n\nhttps://lfuonline.uibk.ac.at/public/lfuonline_lv.details?sem_id_in=10W&lvnr_id_in=703015\n
CLASS:PUBLIC
DTSTART:20101122T071500Z
DTEND:20101122T090000Z
DTSTAMP:20260423T145526Z
LOCATION:HS E (Technik)
END:VEVENT
BEGIN:VEVENT
UID:10W_703015_1432373@uibk.ac.at
ORGANIZER;CN="LFU:online Universität Innsbruck":MAILTO:Uni-Innsbruck-noreply@uibk.ac.at
SUMMARY:Entwurf von Softwaresystemen (LV 703015-0 10W)
DESCRIPTION:Lehrveranstaltung 703015 10W, Gruppe 0\nTitel: Entwurf von Softwaresystemen\nOrt: HS E (Technik)\n\nhttps://lfuonline.uibk.ac.at/public/lfuonline_lv.details?sem_id_in=10W&lvnr_id_in=703015\n
CLASS:PUBLIC
DTSTART:20101129T071500Z
DTEND:20101129T090000Z
DTSTAMP:20260423T145526Z
LOCATION:HS E (Technik)
END:VEVENT
BEGIN:VEVENT
UID:10W_703015_1463216@uibk.ac.at
ORGANIZER;CN="LFU:online Universität Innsbruck":MAILTO:Uni-Innsbruck-noreply@uibk.ac.at
SUMMARY:Entwurf von Softwaresystemen (LV 703015-0 10W)
DESCRIPTION:Lehrveranstaltung 703015 10W, Gruppe 0\nTitel: Entwurf von Softwaresystemen\nOrt: HS E (Technik)\n\nhttps://lfuonline.uibk.ac.at/public/lfuonline_lv.details?sem_id_in=10W&lvnr_id_in=703015\n
CLASS:PUBLIC
DTSTART:20101206T071500Z
DTEND:20101206T090000Z
DTSTAMP:20260423T145526Z
LOCATION:HS E (Technik)
END:VEVENT
BEGIN:VEVENT
UID:10W_703015_1432374@uibk.ac.at
ORGANIZER;CN="LFU:online Universität Innsbruck":MAILTO:Uni-Innsbruck-noreply@uibk.ac.at
SUMMARY:Entwurf von Softwaresystemen (LV 703015-0 10W)
DESCRIPTION:Lehrveranstaltung 703015 10W, Gruppe 0\nTitel: Entwurf von Softwaresystemen\nOrt: HS E (Technik)\n\nhttps://lfuonline.uibk.ac.at/public/lfuonline_lv.details?sem_id_in=10W&lvnr_id_in=703015\n
CLASS:PUBLIC
DTSTART:20101213T071500Z
DTEND:20101213T090000Z
DTSTAMP:20260423T145526Z
LOCATION:HS E (Technik)
END:VEVENT
BEGIN:VEVENT
UID:10W_703015_1432375@uibk.ac.at
ORGANIZER;CN="LFU:online Universität Innsbruck":MAILTO:Uni-Innsbruck-noreply@uibk.ac.at
SUMMARY:Entwurf von Softwaresystemen (LV 703015-0 10W)
DESCRIPTION:Lehrveranstaltung 703015 10W, Gruppe 0\nTitel: Entwurf von Softwaresystemen\nOrt: HS E (Technik)\n\nhttps://lfuonline.uibk.ac.at/public/lfuonline_lv.details?sem_id_in=10W&lvnr_id_in=703015\n
CLASS:PUBLIC
DTSTART:20110110T071500Z
DTEND:20110110T090000Z
DTSTAMP:20260423T145526Z
LOCATION:HS E (Technik)
END:VEVENT
BEGIN:VEVENT
UID:10W_703015_1432376@uibk.ac.at
ORGANIZER;CN="LFU:online Universität Innsbruck":MAILTO:Uni-Innsbruck-noreply@uibk.ac.at
SUMMARY:Entwurf von Softwaresystemen (LV 703015-0 10W)
DESCRIPTION:Lehrveranstaltung 703015 10W, Gruppe 0\nTitel: Entwurf von Softwaresystemen\nOrt: HS E (Technik)\n\nhttps://lfuonline.uibk.ac.at/public/lfuonline_lv.details?sem_id_in=10W&lvnr_id_in=703015\n
CLASS:PUBLIC
DTSTART:20110117T071500Z
DTEND:20110117T090000Z
DTSTAMP:20260423T145526Z
LOCATION:HS E (Technik)
END:VEVENT
BEGIN:VEVENT
UID:10W_703015_1432377@uibk.ac.at
ORGANIZER;CN="LFU:online Universität Innsbruck":MAILTO:Uni-Innsbruck-noreply@uibk.ac.at
SUMMARY:Entwurf von Softwaresystemen (LV 703015-0 10W)
DESCRIPTION:Lehrveranstaltung 703015 10W, Gruppe 0\nTitel: Entwurf von Softwaresystemen\nOrt: HS E (Technik)\n\nhttps://lfuonline.uibk.ac.at/public/lfuonline_lv.details?sem_id_in=10W&lvnr_id_in=703015\n
CLASS:PUBLIC
DTSTART:20110124T071500Z
DTEND:20110124T090000Z
DTSTAMP:20260423T145526Z
LOCATION:HS E (Technik)
END:VEVENT
BEGIN:VEVENT
UID:10W_703015_1432378@uibk.ac.at
ORGANIZER;CN="LFU:online Universität Innsbruck":MAILTO:Uni-Innsbruck-noreply@uibk.ac.at
SUMMARY:Entwurf von Softwaresystemen (LV 703015-0 10W)
DESCRIPTION:Lehrveranstaltung 703015 10W, Gruppe 0\nTitel: Entwurf von Softwaresystemen\nOrt: HS E (Technik)\n\nhttps://lfuonline.uibk.ac.at/public/lfuonline_lv.details?sem_id_in=10W&lvnr_id_in=703015\n
CLASS:PUBLIC
DTSTART:20110131T071500Z
DTEND:20110131T090000Z
DTSTAMP:20260423T145526Z
LOCATION:HS E (Technik)
END:VEVENT
BEGIN:VEVENT
UID:10W_703015_1556770@uibk.ac.at
ORGANIZER;CN="LFU:online Universität Innsbruck":MAILTO:Uni-Innsbruck-noreply@uibk.ac.at
SUMMARY:Entwurf von Softwaresystemen (LV 703015-0 10W)
DESCRIPTION:Lehrveranstaltung 703015 10W, Gruppe 0\nTitel: Entwurf von Softwaresystemen\nOrt: HS E (Technik)\n\nhttps://lfuonline.uibk.ac.at/public/lfuonline_lv.details?sem_id_in=10W&lvnr_id_in=703015\n
CLASS:PUBLIC
DTSTART:20110131T150000Z
DTEND:20110131T170000Z
DTSTAMP:20260423T145526Z
LOCATION:HS E (Technik)
COMMENT:1.Klausur
END:VEVENT
BEGIN:VEVENT
UID:10W_703015_1556771@uibk.ac.at
ORGANIZER;CN="LFU:online Universität Innsbruck":MAILTO:Uni-Innsbruck-noreply@uibk.ac.at
SUMMARY:Entwurf von Softwaresystemen (LV 703015-0 10W)
DESCRIPTION:Lehrveranstaltung 703015 10W, Gruppe 0\nTitel: Entwurf von Softwaresystemen\nOrt: HS E (Technik)\n\nhttps://lfuonline.uibk.ac.at/public/lfuonline_lv.details?sem_id_in=10W&lvnr_id_in=703015\n
CLASS:PUBLIC
DTSTART:20110228T090000Z
DTEND:20110228T110000Z
DTSTAMP:20260423T145526Z
LOCATION:HS E (Technik)
COMMENT:2.Klausur
END:VEVENT
BEGIN:VEVENT
UID:10W_703015_1595386@uibk.ac.at
ORGANIZER;CN="LFU:online Universität Innsbruck":MAILTO:Uni-Innsbruck-noreply@uibk.ac.at
SUMMARY:Entwurf von Softwaresystemen (LV 703015-0 10W)
DESCRIPTION:Lehrveranstaltung 703015 10W, Gruppe 0\nTitel: Entwurf von Softwaresystemen\nOrt: HS E (Technik)\n\nhttps://lfuonline.uibk.ac.at/public/lfuonline_lv.details?sem_id_in=10W&lvnr_id_in=703015\n
CLASS:PUBLIC
DTSTART:20110328T100000Z
DTEND:20110328T120000Z
DTSTAMP:20260423T145526Z
LOCATION:HS E (Technik)
COMMENT:3.Klausur
END:VEVENT
END:VCALENDAR