BEGIN:VCALENDAR
VERSION:2.0
PRODID:-//Universität Innsbruck//LFU:online//DE
METHOD:PUBLISH
BEGIN:VEVENT
UID:18W_703020_3141592@uibk.ac.at
ORGANIZER;CN="LFU:online Universität Innsbruck":MAILTO:Uni-Innsbruck-noreply@uibk.ac.at
SUMMARY:VO Datenbanksysteme (LV 703020-0 18W)
DESCRIPTION:Lehrveranstaltung 703020 18W, Gruppe 0\nTitel: VO Datenbanksysteme\nOrt: HS F (Technik)\n\nhttps://lfuonline.uibk.ac.at/public/lfuonline_lv.details?sem_id_in=18W&lvnr_id_in=703020\n
CLASS:PUBLIC
DTSTART:20181002T081500Z
DTEND:20181002T100000Z
DTSTAMP:20260420T102537Z
LOCATION:HS F (Technik)
END:VEVENT
BEGIN:VEVENT
UID:18W_703020_3152803@uibk.ac.at
ORGANIZER;CN="LFU:online Universität Innsbruck":MAILTO:Uni-Innsbruck-noreply@uibk.ac.at
SUMMARY:VO Datenbanksysteme (LV 703020-0 18W)
DESCRIPTION:Lehrveranstaltung 703020 18W, Gruppe 0\nTitel: VO Datenbanksysteme\nOrt: HS D (Technik)\n\nhttps://lfuonline.uibk.ac.at/public/lfuonline_lv.details?sem_id_in=18W&lvnr_id_in=703020\n
CLASS:PUBLIC
DTSTART:20181003T101500Z
DTEND:20181003T110000Z
DTSTAMP:20260420T102537Z
LOCATION:HS D (Technik)
END:VEVENT
BEGIN:VEVENT
UID:18W_703020_3141593@uibk.ac.at
ORGANIZER;CN="LFU:online Universität Innsbruck":MAILTO:Uni-Innsbruck-noreply@uibk.ac.at
SUMMARY:VO Datenbanksysteme (LV 703020-0 18W)
DESCRIPTION:Lehrveranstaltung 703020 18W, Gruppe 0\nTitel: VO Datenbanksysteme\nOrt: HS F (Technik)\n\nhttps://lfuonline.uibk.ac.at/public/lfuonline_lv.details?sem_id_in=18W&lvnr_id_in=703020\n
CLASS:PUBLIC
DTSTART:20181009T081500Z
DTEND:20181009T100000Z
DTSTAMP:20260420T102537Z
LOCATION:HS F (Technik)
END:VEVENT
BEGIN:VEVENT
UID:18W_703020_3152804@uibk.ac.at
ORGANIZER;CN="LFU:online Universität Innsbruck":MAILTO:Uni-Innsbruck-noreply@uibk.ac.at
SUMMARY:VO Datenbanksysteme (LV 703020-0 18W)
DESCRIPTION:Lehrveranstaltung 703020 18W, Gruppe 0\nTitel: VO Datenbanksysteme\nOrt: HS D (Technik)\n\nhttps://lfuonline.uibk.ac.at/public/lfuonline_lv.details?sem_id_in=18W&lvnr_id_in=703020\n
CLASS:PUBLIC
DTSTART:20181010T101500Z
DTEND:20181010T110000Z
DTSTAMP:20260420T102537Z
LOCATION:HS D (Technik)
END:VEVENT
BEGIN:VEVENT
UID:18W_703020_3141594@uibk.ac.at
ORGANIZER;CN="LFU:online Universität Innsbruck":MAILTO:Uni-Innsbruck-noreply@uibk.ac.at
SUMMARY:VO Datenbanksysteme (LV 703020-0 18W)
DESCRIPTION:Lehrveranstaltung 703020 18W, Gruppe 0\nTitel: VO Datenbanksysteme\nOrt: HS F (Technik)\n\nhttps://lfuonline.uibk.ac.at/public/lfuonline_lv.details?sem_id_in=18W&lvnr_id_in=703020\n
CLASS:PUBLIC
DTSTART:20181016T081500Z
DTEND:20181016T100000Z
DTSTAMP:20260420T102537Z
LOCATION:HS F (Technik)
END:VEVENT
BEGIN:VEVENT
UID:18W_703020_3152805@uibk.ac.at
ORGANIZER;CN="LFU:online Universität Innsbruck":MAILTO:Uni-Innsbruck-noreply@uibk.ac.at
SUMMARY:VO Datenbanksysteme (LV 703020-0 18W)
DESCRIPTION:Lehrveranstaltung 703020 18W, Gruppe 0\nTitel: VO Datenbanksysteme\nOrt: HS D (Technik)\n\nhttps://lfuonline.uibk.ac.at/public/lfuonline_lv.details?sem_id_in=18W&lvnr_id_in=703020\n
CLASS:PUBLIC
DTSTART:20181017T101500Z
DTEND:20181017T110000Z
DTSTAMP:20260420T102537Z
LOCATION:HS D (Technik)
END:VEVENT
BEGIN:VEVENT
UID:18W_703020_3141595@uibk.ac.at
ORGANIZER;CN="LFU:online Universität Innsbruck":MAILTO:Uni-Innsbruck-noreply@uibk.ac.at
SUMMARY:VO Datenbanksysteme (LV 703020-0 18W)
DESCRIPTION:Lehrveranstaltung 703020 18W, Gruppe 0\nTitel: VO Datenbanksysteme\nOrt: HS F (Technik)\n\nhttps://lfuonline.uibk.ac.at/public/lfuonline_lv.details?sem_id_in=18W&lvnr_id_in=703020\n
CLASS:PUBLIC
DTSTART:20181023T081500Z
DTEND:20181023T100000Z
DTSTAMP:20260420T102537Z
LOCATION:HS F (Technik)
END:VEVENT
BEGIN:VEVENT
UID:18W_703020_3152806@uibk.ac.at
ORGANIZER;CN="LFU:online Universität Innsbruck":MAILTO:Uni-Innsbruck-noreply@uibk.ac.at
SUMMARY:VO Datenbanksysteme (LV 703020-0 18W)
DESCRIPTION:Lehrveranstaltung 703020 18W, Gruppe 0\nTitel: VO Datenbanksysteme\nOrt: HS D (Technik)\n\nhttps://lfuonline.uibk.ac.at/public/lfuonline_lv.details?sem_id_in=18W&lvnr_id_in=703020\n
CLASS:PUBLIC
DTSTART:20181024T101500Z
DTEND:20181024T110000Z
DTSTAMP:20260420T102537Z
LOCATION:HS D (Technik)
END:VEVENT
BEGIN:VEVENT
UID:18W_703020_3141596@uibk.ac.at
ORGANIZER;CN="LFU:online Universität Innsbruck":MAILTO:Uni-Innsbruck-noreply@uibk.ac.at
SUMMARY:VO Datenbanksysteme (LV 703020-0 18W)
DESCRIPTION:Lehrveranstaltung 703020 18W, Gruppe 0\nTitel: VO Datenbanksysteme\nOrt: HS F (Technik)\n\nhttps://lfuonline.uibk.ac.at/public/lfuonline_lv.details?sem_id_in=18W&lvnr_id_in=703020\n
CLASS:PUBLIC
DTSTART:20181030T091500Z
DTEND:20181030T110000Z
DTSTAMP:20260420T102537Z
LOCATION:HS F (Technik)
END:VEVENT
BEGIN:VEVENT
UID:18W_703020_3152807@uibk.ac.at
ORGANIZER;CN="LFU:online Universität Innsbruck":MAILTO:Uni-Innsbruck-noreply@uibk.ac.at
SUMMARY:VO Datenbanksysteme (LV 703020-0 18W)
DESCRIPTION:Lehrveranstaltung 703020 18W, Gruppe 0\nTitel: VO Datenbanksysteme\nOrt: HS D (Technik)\n\nhttps://lfuonline.uibk.ac.at/public/lfuonline_lv.details?sem_id_in=18W&lvnr_id_in=703020\n
CLASS:PUBLIC
DTSTART:20181031T111500Z
DTEND:20181031T120000Z
DTSTAMP:20260420T102537Z
LOCATION:HS D (Technik)
END:VEVENT
BEGIN:VEVENT
UID:18W_703020_3141597@uibk.ac.at
ORGANIZER;CN="LFU:online Universität Innsbruck":MAILTO:Uni-Innsbruck-noreply@uibk.ac.at
SUMMARY:VO Datenbanksysteme (LV 703020-0 18W)
DESCRIPTION:Lehrveranstaltung 703020 18W, Gruppe 0\nTitel: VO Datenbanksysteme\nOrt: HS F (Technik)\n\nhttps://lfuonline.uibk.ac.at/public/lfuonline_lv.details?sem_id_in=18W&lvnr_id_in=703020\n
CLASS:PUBLIC
DTSTART:20181106T091500Z
DTEND:20181106T110000Z
DTSTAMP:20260420T102537Z
LOCATION:HS F (Technik)
END:VEVENT
BEGIN:VEVENT
UID:18W_703020_3152808@uibk.ac.at
ORGANIZER;CN="LFU:online Universität Innsbruck":MAILTO:Uni-Innsbruck-noreply@uibk.ac.at
SUMMARY:VO Datenbanksysteme (LV 703020-0 18W)
DESCRIPTION:Lehrveranstaltung 703020 18W, Gruppe 0\nTitel: VO Datenbanksysteme\nOrt: HS D (Technik)\n\nhttps://lfuonline.uibk.ac.at/public/lfuonline_lv.details?sem_id_in=18W&lvnr_id_in=703020\n
CLASS:PUBLIC
DTSTART:20181107T111500Z
DTEND:20181107T120000Z
DTSTAMP:20260420T102537Z
LOCATION:HS D (Technik)
END:VEVENT
BEGIN:VEVENT
UID:18W_703020_3141598@uibk.ac.at
ORGANIZER;CN="LFU:online Universität Innsbruck":MAILTO:Uni-Innsbruck-noreply@uibk.ac.at
SUMMARY:VO Datenbanksysteme (LV 703020-0 18W)
DESCRIPTION:Lehrveranstaltung 703020 18W, Gruppe 0\nTitel: VO Datenbanksysteme\nOrt: HS F (Technik)\n\nhttps://lfuonline.uibk.ac.at/public/lfuonline_lv.details?sem_id_in=18W&lvnr_id_in=703020\n
CLASS:PUBLIC
DTSTART:20181113T091500Z
DTEND:20181113T110000Z
DTSTAMP:20260420T102537Z
LOCATION:HS F (Technik)
END:VEVENT
BEGIN:VEVENT
UID:18W_703020_3152809@uibk.ac.at
ORGANIZER;CN="LFU:online Universität Innsbruck":MAILTO:Uni-Innsbruck-noreply@uibk.ac.at
SUMMARY:VO Datenbanksysteme (LV 703020-0 18W)
DESCRIPTION:Lehrveranstaltung 703020 18W, Gruppe 0\nTitel: VO Datenbanksysteme\nOrt: HS D (Technik)\n\nhttps://lfuonline.uibk.ac.at/public/lfuonline_lv.details?sem_id_in=18W&lvnr_id_in=703020\n
CLASS:PUBLIC
DTSTART:20181114T111500Z
DTEND:20181114T120000Z
DTSTAMP:20260420T102537Z
LOCATION:HS D (Technik)
END:VEVENT
BEGIN:VEVENT
UID:18W_703020_3141599@uibk.ac.at
ORGANIZER;CN="LFU:online Universität Innsbruck":MAILTO:Uni-Innsbruck-noreply@uibk.ac.at
SUMMARY:VO Datenbanksysteme (LV 703020-0 18W)
DESCRIPTION:Lehrveranstaltung 703020 18W, Gruppe 0\nTitel: VO Datenbanksysteme\nOrt: HS F (Technik)\n\nhttps://lfuonline.uibk.ac.at/public/lfuonline_lv.details?sem_id_in=18W&lvnr_id_in=703020\n
CLASS:PUBLIC
DTSTART:20181120T091500Z
DTEND:20181120T110000Z
DTSTAMP:20260420T102537Z
LOCATION:HS F (Technik)
END:VEVENT
BEGIN:VEVENT
UID:18W_703020_3152810@uibk.ac.at
ORGANIZER;CN="LFU:online Universität Innsbruck":MAILTO:Uni-Innsbruck-noreply@uibk.ac.at
SUMMARY:VO Datenbanksysteme (LV 703020-0 18W)
DESCRIPTION:Lehrveranstaltung 703020 18W, Gruppe 0\nTitel: VO Datenbanksysteme\nOrt: HS D (Technik)\n\nhttps://lfuonline.uibk.ac.at/public/lfuonline_lv.details?sem_id_in=18W&lvnr_id_in=703020\n
CLASS:PUBLIC
DTSTART:20181121T111500Z
DTEND:20181121T120000Z
DTSTAMP:20260420T102537Z
LOCATION:HS D (Technik)
END:VEVENT
BEGIN:VEVENT
UID:18W_703020_3141600@uibk.ac.at
ORGANIZER;CN="LFU:online Universität Innsbruck":MAILTO:Uni-Innsbruck-noreply@uibk.ac.at
SUMMARY:VO Datenbanksysteme (LV 703020-0 18W)
DESCRIPTION:Lehrveranstaltung 703020 18W, Gruppe 0\nTitel: VO Datenbanksysteme\nOrt: HS F (Technik)\n\nhttps://lfuonline.uibk.ac.at/public/lfuonline_lv.details?sem_id_in=18W&lvnr_id_in=703020\n
CLASS:PUBLIC
DTSTART:20181127T091500Z
DTEND:20181127T110000Z
DTSTAMP:20260420T102537Z
LOCATION:HS F (Technik)
END:VEVENT
BEGIN:VEVENT
UID:18W_703020_3152811@uibk.ac.at
ORGANIZER;CN="LFU:online Universität Innsbruck":MAILTO:Uni-Innsbruck-noreply@uibk.ac.at
SUMMARY:VO Datenbanksysteme (LV 703020-0 18W)
DESCRIPTION:Lehrveranstaltung 703020 18W, Gruppe 0\nTitel: VO Datenbanksysteme\nOrt: HS D (Technik)\n\nhttps://lfuonline.uibk.ac.at/public/lfuonline_lv.details?sem_id_in=18W&lvnr_id_in=703020\n
CLASS:PUBLIC
DTSTART:20181128T111500Z
DTEND:20181128T120000Z
DTSTAMP:20260420T102537Z
LOCATION:HS D (Technik)
END:VEVENT
BEGIN:VEVENT
UID:18W_703020_3141601@uibk.ac.at
ORGANIZER;CN="LFU:online Universität Innsbruck":MAILTO:Uni-Innsbruck-noreply@uibk.ac.at
SUMMARY:VO Datenbanksysteme (LV 703020-0 18W)
DESCRIPTION:Lehrveranstaltung 703020 18W, Gruppe 0\nTitel: VO Datenbanksysteme\nOrt: HS F (Technik)\n\nhttps://lfuonline.uibk.ac.at/public/lfuonline_lv.details?sem_id_in=18W&lvnr_id_in=703020\n
CLASS:PUBLIC
DTSTART:20181204T091500Z
DTEND:20181204T110000Z
DTSTAMP:20260420T102537Z
LOCATION:HS F (Technik)
END:VEVENT
BEGIN:VEVENT
UID:18W_703020_3152812@uibk.ac.at
ORGANIZER;CN="LFU:online Universität Innsbruck":MAILTO:Uni-Innsbruck-noreply@uibk.ac.at
SUMMARY:VO Datenbanksysteme (LV 703020-0 18W)
DESCRIPTION:Lehrveranstaltung 703020 18W, Gruppe 0\nTitel: VO Datenbanksysteme\nOrt: HS D (Technik)\n\nhttps://lfuonline.uibk.ac.at/public/lfuonline_lv.details?sem_id_in=18W&lvnr_id_in=703020\n
CLASS:PUBLIC
DTSTART:20181205T111500Z
DTEND:20181205T120000Z
DTSTAMP:20260420T102537Z
LOCATION:HS D (Technik)
END:VEVENT
BEGIN:VEVENT
UID:18W_703020_3141602@uibk.ac.at
ORGANIZER;CN="LFU:online Universität Innsbruck":MAILTO:Uni-Innsbruck-noreply@uibk.ac.at
SUMMARY:VO Datenbanksysteme (LV 703020-0 18W)
DESCRIPTION:Lehrveranstaltung 703020 18W, Gruppe 0\nTitel: VO Datenbanksysteme\nOrt: HS F (Technik)\n\nhttps://lfuonline.uibk.ac.at/public/lfuonline_lv.details?sem_id_in=18W&lvnr_id_in=703020\n
CLASS:PUBLIC
DTSTART:20181211T091500Z
DTEND:20181211T110000Z
DTSTAMP:20260420T102537Z
LOCATION:HS F (Technik)
END:VEVENT
BEGIN:VEVENT
UID:18W_703020_3152813@uibk.ac.at
ORGANIZER;CN="LFU:online Universität Innsbruck":MAILTO:Uni-Innsbruck-noreply@uibk.ac.at
SUMMARY:VO Datenbanksysteme (LV 703020-0 18W)
DESCRIPTION:Lehrveranstaltung 703020 18W, Gruppe 0\nTitel: VO Datenbanksysteme\nOrt: HS D (Technik)\n\nhttps://lfuonline.uibk.ac.at/public/lfuonline_lv.details?sem_id_in=18W&lvnr_id_in=703020\n
CLASS:PUBLIC
DTSTART:20181212T111500Z
DTEND:20181212T120000Z
DTSTAMP:20260420T102537Z
LOCATION:HS D (Technik)
END:VEVENT
BEGIN:VEVENT
UID:18W_703020_3141603@uibk.ac.at
ORGANIZER;CN="LFU:online Universität Innsbruck":MAILTO:Uni-Innsbruck-noreply@uibk.ac.at
SUMMARY:VO Datenbanksysteme (LV 703020-0 18W)
DESCRIPTION:Lehrveranstaltung 703020 18W, Gruppe 0\nTitel: VO Datenbanksysteme\nOrt: HS F (Technik)\n\nhttps://lfuonline.uibk.ac.at/public/lfuonline_lv.details?sem_id_in=18W&lvnr_id_in=703020\n
CLASS:PUBLIC
DTSTART:20190108T091500Z
DTEND:20190108T110000Z
DTSTAMP:20260420T102537Z
LOCATION:HS F (Technik)
END:VEVENT
BEGIN:VEVENT
UID:18W_703020_3152814@uibk.ac.at
ORGANIZER;CN="LFU:online Universität Innsbruck":MAILTO:Uni-Innsbruck-noreply@uibk.ac.at
SUMMARY:VO Datenbanksysteme (LV 703020-0 18W)
DESCRIPTION:Lehrveranstaltung 703020 18W, Gruppe 0\nTitel: VO Datenbanksysteme\nOrt: HS D (Technik)\n\nhttps://lfuonline.uibk.ac.at/public/lfuonline_lv.details?sem_id_in=18W&lvnr_id_in=703020\n
CLASS:PUBLIC
DTSTART:20190109T111500Z
DTEND:20190109T120000Z
DTSTAMP:20260420T102537Z
LOCATION:HS D (Technik)
END:VEVENT
BEGIN:VEVENT
UID:18W_703020_3141604@uibk.ac.at
ORGANIZER;CN="LFU:online Universität Innsbruck":MAILTO:Uni-Innsbruck-noreply@uibk.ac.at
SUMMARY:VO Datenbanksysteme (LV 703020-0 18W)
DESCRIPTION:Lehrveranstaltung 703020 18W, Gruppe 0\nTitel: VO Datenbanksysteme\nOrt: HS F (Technik)\n\nhttps://lfuonline.uibk.ac.at/public/lfuonline_lv.details?sem_id_in=18W&lvnr_id_in=703020\n
CLASS:PUBLIC
DTSTART:20190115T091500Z
DTEND:20190115T110000Z
DTSTAMP:20260420T102537Z
LOCATION:HS F (Technik)
END:VEVENT
BEGIN:VEVENT
UID:18W_703020_3152815@uibk.ac.at
ORGANIZER;CN="LFU:online Universität Innsbruck":MAILTO:Uni-Innsbruck-noreply@uibk.ac.at
SUMMARY:VO Datenbanksysteme (LV 703020-0 18W)
DESCRIPTION:Lehrveranstaltung 703020 18W, Gruppe 0\nTitel: VO Datenbanksysteme\nOrt: HS D (Technik)\n\nhttps://lfuonline.uibk.ac.at/public/lfuonline_lv.details?sem_id_in=18W&lvnr_id_in=703020\n
CLASS:PUBLIC
DTSTART:20190116T111500Z
DTEND:20190116T120000Z
DTSTAMP:20260420T102537Z
LOCATION:HS D (Technik)
END:VEVENT
BEGIN:VEVENT
UID:18W_703020_3141605@uibk.ac.at
ORGANIZER;CN="LFU:online Universität Innsbruck":MAILTO:Uni-Innsbruck-noreply@uibk.ac.at
SUMMARY:VO Datenbanksysteme (LV 703020-0 18W)
DESCRIPTION:Lehrveranstaltung 703020 18W, Gruppe 0\nTitel: VO Datenbanksysteme\nOrt: HS F (Technik)\n\nhttps://lfuonline.uibk.ac.at/public/lfuonline_lv.details?sem_id_in=18W&lvnr_id_in=703020\n
CLASS:PUBLIC
DTSTART:20190122T091500Z
DTEND:20190122T110000Z
DTSTAMP:20260420T102537Z
LOCATION:HS F (Technik)
END:VEVENT
BEGIN:VEVENT
UID:18W_703020_3152816@uibk.ac.at
ORGANIZER;CN="LFU:online Universität Innsbruck":MAILTO:Uni-Innsbruck-noreply@uibk.ac.at
SUMMARY:VO Datenbanksysteme (LV 703020-0 18W)
DESCRIPTION:Lehrveranstaltung 703020 18W, Gruppe 0\nTitel: VO Datenbanksysteme\nOrt: HS D (Technik)\n\nhttps://lfuonline.uibk.ac.at/public/lfuonline_lv.details?sem_id_in=18W&lvnr_id_in=703020\n
CLASS:PUBLIC
DTSTART:20190123T111500Z
DTEND:20190123T120000Z
DTSTAMP:20260420T102537Z
LOCATION:HS D (Technik)
END:VEVENT
BEGIN:VEVENT
UID:18W_703020_3246746@uibk.ac.at
ORGANIZER;CN="LFU:online Universität Innsbruck":MAILTO:Uni-Innsbruck-noreply@uibk.ac.at
SUMMARY:VO Datenbanksysteme (LV 703020-0 18W)
DESCRIPTION:Lehrveranstaltung 703020 18W, Gruppe 0\nTitel: VO Datenbanksysteme\nOrt: HSB  3\n\nhttps://lfuonline.uibk.ac.at/public/lfuonline_lv.details?sem_id_in=18W&lvnr_id_in=703020\n
CLASS:PUBLIC
DTSTART:20190129T070000Z
DTEND:20190129T090000Z
DTSTAMP:20260420T102537Z
LOCATION:HSB  3
COMMENT:Klausur
END:VEVENT
END:VCALENDAR