BEGIN:VCALENDAR
VERSION:2.0
PRODID:-//Universität Innsbruck//LFU:online//DE
METHOD:PUBLISH
BEGIN:VEVENT
UID:20S_703075_3516521@uibk.ac.at
ORGANIZER;CN="LFU:online Universität Innsbruck":MAILTO:Uni-Innsbruck-noreply@uibk.ac.at
SUMMARY:VO Maschinelles Lernen (LV 703075-0 20S)
DESCRIPTION:Lehrveranstaltung 703075 20S, Gruppe 0\nTitel: VO Maschinelles Lernen\nOrt: HS F (Technik)\n\nhttps://lfuonline.uibk.ac.at/public/lfuonline_lv.details?sem_id_in=20S&lvnr_id_in=703075\n
CLASS:PUBLIC
DTSTART:20200303T081500Z
DTEND:20200303T110000Z
DTSTAMP:20260419T123858Z
LOCATION:HS F (Technik)
END:VEVENT
BEGIN:VEVENT
UID:20S_703075_3516522@uibk.ac.at
ORGANIZER;CN="LFU:online Universität Innsbruck":MAILTO:Uni-Innsbruck-noreply@uibk.ac.at
SUMMARY:VO Maschinelles Lernen (LV 703075-0 20S)
DESCRIPTION:Lehrveranstaltung 703075 20S, Gruppe 0\nTitel: VO Maschinelles Lernen\nOrt: HS F (Technik)\n\nhttps://lfuonline.uibk.ac.at/public/lfuonline_lv.details?sem_id_in=20S&lvnr_id_in=703075\n
CLASS:PUBLIC
DTSTART:20200310T081500Z
DTEND:20200310T110000Z
DTSTAMP:20260419T123858Z
LOCATION:HS F (Technik)
END:VEVENT
BEGIN:VEVENT
UID:20S_703075_3516523@uibk.ac.at
ORGANIZER;CN="LFU:online Universität Innsbruck":MAILTO:Uni-Innsbruck-noreply@uibk.ac.at
SUMMARY:VO Maschinelles Lernen (LV 703075-0 20S)
DESCRIPTION:Lehrveranstaltung 703075 20S, Gruppe 0\nTitel: VO Maschinelles Lernen\nOrt: HS F (Technik)\n\nhttps://lfuonline.uibk.ac.at/public/lfuonline_lv.details?sem_id_in=20S&lvnr_id_in=703075\n
CLASS:PUBLIC
DTSTART:20200317T081500Z
DTEND:20200317T110000Z
DTSTAMP:20260419T123858Z
LOCATION:HS F (Technik)
END:VEVENT
BEGIN:VEVENT
UID:20S_703075_3516524@uibk.ac.at
ORGANIZER;CN="LFU:online Universität Innsbruck":MAILTO:Uni-Innsbruck-noreply@uibk.ac.at
SUMMARY:VO Maschinelles Lernen (LV 703075-0 20S)
DESCRIPTION:Lehrveranstaltung 703075 20S, Gruppe 0\nTitel: VO Maschinelles Lernen\nOrt: HS F (Technik)\n\nhttps://lfuonline.uibk.ac.at/public/lfuonline_lv.details?sem_id_in=20S&lvnr_id_in=703075\n
CLASS:PUBLIC
DTSTART:20200324T081500Z
DTEND:20200324T110000Z
DTSTAMP:20260419T123858Z
LOCATION:HS F (Technik)
END:VEVENT
BEGIN:VEVENT
UID:20S_703075_3516525@uibk.ac.at
ORGANIZER;CN="LFU:online Universität Innsbruck":MAILTO:Uni-Innsbruck-noreply@uibk.ac.at
SUMMARY:VO Maschinelles Lernen (LV 703075-0 20S)
DESCRIPTION:Lehrveranstaltung 703075 20S, Gruppe 0\nTitel: VO Maschinelles Lernen\nOrt: HS F (Technik)\n\nhttps://lfuonline.uibk.ac.at/public/lfuonline_lv.details?sem_id_in=20S&lvnr_id_in=703075\n
CLASS:PUBLIC
DTSTART:20200331T071500Z
DTEND:20200331T100000Z
DTSTAMP:20260419T123858Z
LOCATION:HS F (Technik)
END:VEVENT
BEGIN:VEVENT
UID:20S_703075_3516526@uibk.ac.at
ORGANIZER;CN="LFU:online Universität Innsbruck":MAILTO:Uni-Innsbruck-noreply@uibk.ac.at
SUMMARY:VO Maschinelles Lernen (LV 703075-0 20S)
DESCRIPTION:Lehrveranstaltung 703075 20S, Gruppe 0\nTitel: VO Maschinelles Lernen\nOrt: HS F (Technik)\n\nhttps://lfuonline.uibk.ac.at/public/lfuonline_lv.details?sem_id_in=20S&lvnr_id_in=703075\n
CLASS:PUBLIC
DTSTART:20200421T071500Z
DTEND:20200421T100000Z
DTSTAMP:20260419T123858Z
LOCATION:HS F (Technik)
END:VEVENT
BEGIN:VEVENT
UID:20S_703075_3516527@uibk.ac.at
ORGANIZER;CN="LFU:online Universität Innsbruck":MAILTO:Uni-Innsbruck-noreply@uibk.ac.at
SUMMARY:VO Maschinelles Lernen (LV 703075-0 20S)
DESCRIPTION:Lehrveranstaltung 703075 20S, Gruppe 0\nTitel: VO Maschinelles Lernen\nOrt: HS F (Technik)\n\nhttps://lfuonline.uibk.ac.at/public/lfuonline_lv.details?sem_id_in=20S&lvnr_id_in=703075\n
CLASS:PUBLIC
DTSTART:20200428T071500Z
DTEND:20200428T100000Z
DTSTAMP:20260419T123858Z
LOCATION:HS F (Technik)
END:VEVENT
BEGIN:VEVENT
UID:20S_703075_3516528@uibk.ac.at
ORGANIZER;CN="LFU:online Universität Innsbruck":MAILTO:Uni-Innsbruck-noreply@uibk.ac.at
SUMMARY:VO Maschinelles Lernen (LV 703075-0 20S)
DESCRIPTION:Lehrveranstaltung 703075 20S, Gruppe 0\nTitel: VO Maschinelles Lernen\nOrt: HS F (Technik)\n\nhttps://lfuonline.uibk.ac.at/public/lfuonline_lv.details?sem_id_in=20S&lvnr_id_in=703075\n
CLASS:PUBLIC
DTSTART:20200505T071500Z
DTEND:20200505T100000Z
DTSTAMP:20260419T123858Z
LOCATION:HS F (Technik)
END:VEVENT
BEGIN:VEVENT
UID:20S_703075_3516529@uibk.ac.at
ORGANIZER;CN="LFU:online Universität Innsbruck":MAILTO:Uni-Innsbruck-noreply@uibk.ac.at
SUMMARY:VO Maschinelles Lernen (LV 703075-0 20S)
DESCRIPTION:Lehrveranstaltung 703075 20S, Gruppe 0\nTitel: VO Maschinelles Lernen\nOrt: HS F (Technik)\n\nhttps://lfuonline.uibk.ac.at/public/lfuonline_lv.details?sem_id_in=20S&lvnr_id_in=703075\n
CLASS:PUBLIC
DTSTART:20200512T071500Z
DTEND:20200512T100000Z
DTSTAMP:20260419T123858Z
LOCATION:HS F (Technik)
END:VEVENT
BEGIN:VEVENT
UID:20S_703075_3516530@uibk.ac.at
ORGANIZER;CN="LFU:online Universität Innsbruck":MAILTO:Uni-Innsbruck-noreply@uibk.ac.at
SUMMARY:VO Maschinelles Lernen (LV 703075-0 20S)
DESCRIPTION:Lehrveranstaltung 703075 20S, Gruppe 0\nTitel: VO Maschinelles Lernen\nOrt: HS F (Technik)\n\nhttps://lfuonline.uibk.ac.at/public/lfuonline_lv.details?sem_id_in=20S&lvnr_id_in=703075\n
CLASS:PUBLIC
DTSTART:20200519T071500Z
DTEND:20200519T100000Z
DTSTAMP:20260419T123858Z
LOCATION:HS F (Technik)
END:VEVENT
BEGIN:VEVENT
UID:20S_703075_3516531@uibk.ac.at
ORGANIZER;CN="LFU:online Universität Innsbruck":MAILTO:Uni-Innsbruck-noreply@uibk.ac.at
SUMMARY:VO Maschinelles Lernen (LV 703075-0 20S)
DESCRIPTION:Lehrveranstaltung 703075 20S, Gruppe 0\nTitel: VO Maschinelles Lernen\nOrt: HS F (Technik)\n\nhttps://lfuonline.uibk.ac.at/public/lfuonline_lv.details?sem_id_in=20S&lvnr_id_in=703075\n
CLASS:PUBLIC
DTSTART:20200526T071500Z
DTEND:20200526T100000Z
DTSTAMP:20260419T123858Z
LOCATION:HS F (Technik)
END:VEVENT
BEGIN:VEVENT
UID:20S_703075_3516532@uibk.ac.at
ORGANIZER;CN="LFU:online Universität Innsbruck":MAILTO:Uni-Innsbruck-noreply@uibk.ac.at
SUMMARY:VO Maschinelles Lernen (LV 703075-0 20S)
DESCRIPTION:Lehrveranstaltung 703075 20S, Gruppe 0\nTitel: VO Maschinelles Lernen\nOrt: HS F (Technik)\n\nhttps://lfuonline.uibk.ac.at/public/lfuonline_lv.details?sem_id_in=20S&lvnr_id_in=703075\n
CLASS:PUBLIC
DTSTART:20200602T071500Z
DTEND:20200602T100000Z
DTSTAMP:20260419T123858Z
LOCATION:HS F (Technik)
END:VEVENT
BEGIN:VEVENT
UID:20S_703075_3516533@uibk.ac.at
ORGANIZER;CN="LFU:online Universität Innsbruck":MAILTO:Uni-Innsbruck-noreply@uibk.ac.at
SUMMARY:VO Maschinelles Lernen (LV 703075-0 20S)
DESCRIPTION:Lehrveranstaltung 703075 20S, Gruppe 0\nTitel: VO Maschinelles Lernen\nOrt: HS F (Technik)\n\nhttps://lfuonline.uibk.ac.at/public/lfuonline_lv.details?sem_id_in=20S&lvnr_id_in=703075\n
CLASS:PUBLIC
DTSTART:20200609T071500Z
DTEND:20200609T100000Z
DTSTAMP:20260419T123858Z
LOCATION:HS F (Technik)
END:VEVENT
BEGIN:VEVENT
UID:20S_703075_3516534@uibk.ac.at
ORGANIZER;CN="LFU:online Universität Innsbruck":MAILTO:Uni-Innsbruck-noreply@uibk.ac.at
SUMMARY:VO Maschinelles Lernen (LV 703075-0 20S)
DESCRIPTION:Lehrveranstaltung 703075 20S, Gruppe 0\nTitel: VO Maschinelles Lernen\nOrt: HS F (Technik)\n\nhttps://lfuonline.uibk.ac.at/public/lfuonline_lv.details?sem_id_in=20S&lvnr_id_in=703075\n
CLASS:PUBLIC
DTSTART:20200616T071500Z
DTEND:20200616T100000Z
DTSTAMP:20260419T123858Z
LOCATION:HS F (Technik)
END:VEVENT
BEGIN:VEVENT
UID:20S_703075_3516535@uibk.ac.at
ORGANIZER;CN="LFU:online Universität Innsbruck":MAILTO:Uni-Innsbruck-noreply@uibk.ac.at
SUMMARY:VO Maschinelles Lernen (LV 703075-0 20S)
DESCRIPTION:Lehrveranstaltung 703075 20S, Gruppe 0\nTitel: VO Maschinelles Lernen\nOrt: HS F (Technik)\n\nhttps://lfuonline.uibk.ac.at/public/lfuonline_lv.details?sem_id_in=20S&lvnr_id_in=703075\n
CLASS:PUBLIC
DTSTART:20200623T071500Z
DTEND:20200623T100000Z
DTSTAMP:20260419T123858Z
LOCATION:HS F (Technik)
END:VEVENT
END:VCALENDAR