BEGIN:VCALENDAR
VERSION:2.0
PRODID:-//Universität Innsbruck//LFU:online//DE
METHOD:PUBLISH
BEGIN:VEVENT
UID:26S_703149_4990849@uibk.ac.at
ORGANIZER;CN="LFU:online Universität Innsbruck":MAILTO:Uni-Innsbruck-noreply@uibk.ac.at
SUMMARY:VU Multimedia Retrieval (LV 703149-0 26S)
DESCRIPTION:Lehrveranstaltung 703149 26S, Gruppe 0\nTitel: VU Multimedia Retrieval\nOrt: HS 10\n\nhttps://lfuonline.uibk.ac.at/public/lfuonline_lv.details?sem_id_in=26S&lvnr_id_in=703149\n
CLASS:PUBLIC
DTSTART:20260304T071500Z
DTEND:20260304T094500Z
DTSTAMP:20260423T014400Z
LOCATION:HS 10
END:VEVENT
BEGIN:VEVENT
UID:26S_703149_4990850@uibk.ac.at
ORGANIZER;CN="LFU:online Universität Innsbruck":MAILTO:Uni-Innsbruck-noreply@uibk.ac.at
SUMMARY:VU Multimedia Retrieval (LV 703149-0 26S)
DESCRIPTION:Lehrveranstaltung 703149 26S, Gruppe 0\nTitel: VU Multimedia Retrieval\nOrt: HS 10\n\nhttps://lfuonline.uibk.ac.at/public/lfuonline_lv.details?sem_id_in=26S&lvnr_id_in=703149\n
CLASS:PUBLIC
DTSTART:20260311T071500Z
DTEND:20260311T094500Z
DTSTAMP:20260423T014400Z
LOCATION:HS 10
END:VEVENT
BEGIN:VEVENT
UID:26S_703149_4990851@uibk.ac.at
ORGANIZER;CN="LFU:online Universität Innsbruck":MAILTO:Uni-Innsbruck-noreply@uibk.ac.at
SUMMARY:VU Multimedia Retrieval (LV 703149-0 26S)
DESCRIPTION:Lehrveranstaltung 703149 26S, Gruppe 0\nTitel: VU Multimedia Retrieval\nOrt: HS 10\n\nhttps://lfuonline.uibk.ac.at/public/lfuonline_lv.details?sem_id_in=26S&lvnr_id_in=703149\n
CLASS:PUBLIC
DTSTART:20260318T071500Z
DTEND:20260318T094500Z
DTSTAMP:20260423T014400Z
LOCATION:HS 10
END:VEVENT
BEGIN:VEVENT
UID:26S_703149_4990852@uibk.ac.at
ORGANIZER;CN="LFU:online Universität Innsbruck":MAILTO:Uni-Innsbruck-noreply@uibk.ac.at
SUMMARY:VU Multimedia Retrieval (LV 703149-0 26S)
DESCRIPTION:Lehrveranstaltung 703149 26S, Gruppe 0\nTitel: VU Multimedia Retrieval\nOrt: HS 10\n\nhttps://lfuonline.uibk.ac.at/public/lfuonline_lv.details?sem_id_in=26S&lvnr_id_in=703149\n
CLASS:PUBLIC
DTSTART:20260325T071500Z
DTEND:20260325T094500Z
DTSTAMP:20260423T014400Z
LOCATION:HS 10
END:VEVENT
BEGIN:VEVENT
UID:26S_703149_4990853@uibk.ac.at
ORGANIZER;CN="LFU:online Universität Innsbruck":MAILTO:Uni-Innsbruck-noreply@uibk.ac.at
SUMMARY:VU Multimedia Retrieval (LV 703149-0 26S)
DESCRIPTION:Lehrveranstaltung 703149 26S, Gruppe 0\nTitel: VU Multimedia Retrieval\nOrt: HS 10\n\nhttps://lfuonline.uibk.ac.at/public/lfuonline_lv.details?sem_id_in=26S&lvnr_id_in=703149\n
CLASS:PUBLIC
DTSTART:20260415T061500Z
DTEND:20260415T084500Z
DTSTAMP:20260423T014400Z
LOCATION:HS 10
END:VEVENT
BEGIN:VEVENT
UID:26S_703149_4990854@uibk.ac.at
ORGANIZER;CN="LFU:online Universität Innsbruck":MAILTO:Uni-Innsbruck-noreply@uibk.ac.at
SUMMARY:VU Multimedia Retrieval (LV 703149-0 26S)
DESCRIPTION:Lehrveranstaltung 703149 26S, Gruppe 0\nTitel: VU Multimedia Retrieval\nOrt: HS 10\n\nhttps://lfuonline.uibk.ac.at/public/lfuonline_lv.details?sem_id_in=26S&lvnr_id_in=703149\n
CLASS:PUBLIC
DTSTART:20260422T061500Z
DTEND:20260422T084500Z
DTSTAMP:20260423T014400Z
LOCATION:HS 10
END:VEVENT
BEGIN:VEVENT
UID:26S_703149_4990855@uibk.ac.at
ORGANIZER;CN="LFU:online Universität Innsbruck":MAILTO:Uni-Innsbruck-noreply@uibk.ac.at
SUMMARY:VU Multimedia Retrieval (LV 703149-0 26S)
DESCRIPTION:Lehrveranstaltung 703149 26S, Gruppe 0\nTitel: VU Multimedia Retrieval\nOrt: HS 10\n\nhttps://lfuonline.uibk.ac.at/public/lfuonline_lv.details?sem_id_in=26S&lvnr_id_in=703149\n
CLASS:PUBLIC
DTSTART:20260429T061500Z
DTEND:20260429T084500Z
DTSTAMP:20260423T014400Z
LOCATION:HS 10
END:VEVENT
BEGIN:VEVENT
UID:26S_703149_4990856@uibk.ac.at
ORGANIZER;CN="LFU:online Universität Innsbruck":MAILTO:Uni-Innsbruck-noreply@uibk.ac.at
SUMMARY:VU Multimedia Retrieval (LV 703149-0 26S)
DESCRIPTION:Lehrveranstaltung 703149 26S, Gruppe 0\nTitel: VU Multimedia Retrieval\nOrt: HS 10\n\nhttps://lfuonline.uibk.ac.at/public/lfuonline_lv.details?sem_id_in=26S&lvnr_id_in=703149\n
CLASS:PUBLIC
DTSTART:20260506T061500Z
DTEND:20260506T084500Z
DTSTAMP:20260423T014400Z
LOCATION:HS 10
END:VEVENT
BEGIN:VEVENT
UID:26S_703149_4990857@uibk.ac.at
ORGANIZER;CN="LFU:online Universität Innsbruck":MAILTO:Uni-Innsbruck-noreply@uibk.ac.at
SUMMARY:VU Multimedia Retrieval (LV 703149-0 26S)
DESCRIPTION:Lehrveranstaltung 703149 26S, Gruppe 0\nTitel: VU Multimedia Retrieval\nOrt: HS 10\n\nhttps://lfuonline.uibk.ac.at/public/lfuonline_lv.details?sem_id_in=26S&lvnr_id_in=703149\n
CLASS:PUBLIC
DTSTART:20260513T061500Z
DTEND:20260513T084500Z
DTSTAMP:20260423T014400Z
LOCATION:HS 10
END:VEVENT
BEGIN:VEVENT
UID:26S_703149_4990858@uibk.ac.at
ORGANIZER;CN="LFU:online Universität Innsbruck":MAILTO:Uni-Innsbruck-noreply@uibk.ac.at
SUMMARY:VU Multimedia Retrieval (LV 703149-0 26S)
DESCRIPTION:Lehrveranstaltung 703149 26S, Gruppe 0\nTitel: VU Multimedia Retrieval\nOrt: HS 10\n\nhttps://lfuonline.uibk.ac.at/public/lfuonline_lv.details?sem_id_in=26S&lvnr_id_in=703149\n
CLASS:PUBLIC
DTSTART:20260520T061500Z
DTEND:20260520T084500Z
DTSTAMP:20260423T014400Z
LOCATION:HS 10
END:VEVENT
BEGIN:VEVENT
UID:26S_703149_4990859@uibk.ac.at
ORGANIZER;CN="LFU:online Universität Innsbruck":MAILTO:Uni-Innsbruck-noreply@uibk.ac.at
SUMMARY:VU Multimedia Retrieval (LV 703149-0 26S)
DESCRIPTION:Lehrveranstaltung 703149 26S, Gruppe 0\nTitel: VU Multimedia Retrieval\nOrt: HS 10\n\nhttps://lfuonline.uibk.ac.at/public/lfuonline_lv.details?sem_id_in=26S&lvnr_id_in=703149\n
CLASS:PUBLIC
DTSTART:20260527T061500Z
DTEND:20260527T084500Z
DTSTAMP:20260423T014400Z
LOCATION:HS 10
END:VEVENT
BEGIN:VEVENT
UID:26S_703149_4990860@uibk.ac.at
ORGANIZER;CN="LFU:online Universität Innsbruck":MAILTO:Uni-Innsbruck-noreply@uibk.ac.at
SUMMARY:VU Multimedia Retrieval (LV 703149-0 26S)
DESCRIPTION:Lehrveranstaltung 703149 26S, Gruppe 0\nTitel: VU Multimedia Retrieval\nOrt: HS 10\n\nhttps://lfuonline.uibk.ac.at/public/lfuonline_lv.details?sem_id_in=26S&lvnr_id_in=703149\n
CLASS:PUBLIC
DTSTART:20260603T061500Z
DTEND:20260603T084500Z
DTSTAMP:20260423T014400Z
LOCATION:HS 10
END:VEVENT
BEGIN:VEVENT
UID:26S_703149_4990861@uibk.ac.at
ORGANIZER;CN="LFU:online Universität Innsbruck":MAILTO:Uni-Innsbruck-noreply@uibk.ac.at
SUMMARY:VU Multimedia Retrieval (LV 703149-0 26S)
DESCRIPTION:Lehrveranstaltung 703149 26S, Gruppe 0\nTitel: VU Multimedia Retrieval\nOrt: HS 10\n\nhttps://lfuonline.uibk.ac.at/public/lfuonline_lv.details?sem_id_in=26S&lvnr_id_in=703149\n
CLASS:PUBLIC
DTSTART:20260610T061500Z
DTEND:20260610T084500Z
DTSTAMP:20260423T014400Z
LOCATION:HS 10
END:VEVENT
BEGIN:VEVENT
UID:26S_703149_4990862@uibk.ac.at
ORGANIZER;CN="LFU:online Universität Innsbruck":MAILTO:Uni-Innsbruck-noreply@uibk.ac.at
SUMMARY:VU Multimedia Retrieval (LV 703149-0 26S)
DESCRIPTION:Lehrveranstaltung 703149 26S, Gruppe 0\nTitel: VU Multimedia Retrieval\nOrt: HS 10\n\nhttps://lfuonline.uibk.ac.at/public/lfuonline_lv.details?sem_id_in=26S&lvnr_id_in=703149\n
CLASS:PUBLIC
DTSTART:20260617T061500Z
DTEND:20260617T084500Z
DTSTAMP:20260423T014400Z
LOCATION:HS 10
END:VEVENT
BEGIN:VEVENT
UID:26S_703149_4990863@uibk.ac.at
ORGANIZER;CN="LFU:online Universität Innsbruck":MAILTO:Uni-Innsbruck-noreply@uibk.ac.at
SUMMARY:VU Multimedia Retrieval (LV 703149-0 26S)
DESCRIPTION:Lehrveranstaltung 703149 26S, Gruppe 0\nTitel: VU Multimedia Retrieval\nOrt: HS 10\n\nhttps://lfuonline.uibk.ac.at/public/lfuonline_lv.details?sem_id_in=26S&lvnr_id_in=703149\n
CLASS:PUBLIC
DTSTART:20260624T061500Z
DTEND:20260624T084500Z
DTSTAMP:20260423T014400Z
LOCATION:HS 10
END:VEVENT
END:VCALENDAR