BEGIN:VCALENDAR
VERSION:2.0
PRODID:-//Universität Innsbruck//LFU:online//DE
METHOD:PUBLISH
BEGIN:VEVENT
UID:26S_703327_4965647@uibk.ac.at
ORGANIZER;CN="LFU:online Universität Innsbruck":MAILTO:Uni-Innsbruck-noreply@uibk.ac.at
SUMMARY:VU Wahrnehmung, Interaktion und Robotik B: Physikbasierte Simulation (LV 703327-0 26S)
DESCRIPTION:Lehrveranstaltung 703327 26S, Gruppe 0\nTitel: VU Wahrnehmung, Interaktion und Robotik B: Physikbasierte Simulation\nOrt: 3W04\n\nhttps://lfuonline.uibk.ac.at/public/lfuonline_lv.details?sem_id_in=26S&lvnr_id_in=703327\n
CLASS:PUBLIC
DTSTART:20260302T100000Z
DTEND:20260302T113000Z
DTSTAMP:20260423T042915Z
LOCATION:3W04
END:VEVENT
BEGIN:VEVENT
UID:26S_703327_4965648@uibk.ac.at
ORGANIZER;CN="LFU:online Universität Innsbruck":MAILTO:Uni-Innsbruck-noreply@uibk.ac.at
SUMMARY:VU Wahrnehmung, Interaktion und Robotik B: Physikbasierte Simulation (LV 703327-0 26S)
DESCRIPTION:Lehrveranstaltung 703327 26S, Gruppe 0\nTitel: VU Wahrnehmung, Interaktion und Robotik B: Physikbasierte Simulation\nOrt: 3W04\n\nhttps://lfuonline.uibk.ac.at/public/lfuonline_lv.details?sem_id_in=26S&lvnr_id_in=703327\n
CLASS:PUBLIC
DTSTART:20260309T100000Z
DTEND:20260309T113000Z
DTSTAMP:20260423T042915Z
LOCATION:3W04
END:VEVENT
BEGIN:VEVENT
UID:26S_703327_4965329@uibk.ac.at
ORGANIZER;CN="LFU:online Universität Innsbruck":MAILTO:Uni-Innsbruck-noreply@uibk.ac.at
SUMMARY:VU Wahrnehmung, Interaktion und Robotik B: Physikbasierte Simulation (LV 703327-0 26S)
DESCRIPTION:Lehrveranstaltung 703327 26S, Gruppe 0\nTitel: VU Wahrnehmung, Interaktion und Robotik B: Physikbasierte Simulation\nOrt: rr 26\n\nhttps://lfuonline.uibk.ac.at/public/lfuonline_lv.details?sem_id_in=26S&lvnr_id_in=703327\n
CLASS:PUBLIC
DTSTART:20260310T124500Z
DTEND:20260310T133000Z
DTSTAMP:20260423T042915Z
LOCATION:rr 26
END:VEVENT
BEGIN:VEVENT
UID:26S_703327_4965649@uibk.ac.at
ORGANIZER;CN="LFU:online Universität Innsbruck":MAILTO:Uni-Innsbruck-noreply@uibk.ac.at
SUMMARY:VU Wahrnehmung, Interaktion und Robotik B: Physikbasierte Simulation (LV 703327-0 26S)
DESCRIPTION:Lehrveranstaltung 703327 26S, Gruppe 0\nTitel: VU Wahrnehmung, Interaktion und Robotik B: Physikbasierte Simulation\nOrt: 3W04\n\nhttps://lfuonline.uibk.ac.at/public/lfuonline_lv.details?sem_id_in=26S&lvnr_id_in=703327\n
CLASS:PUBLIC
DTSTART:20260316T100000Z
DTEND:20260316T113000Z
DTSTAMP:20260423T042915Z
LOCATION:3W04
END:VEVENT
BEGIN:VEVENT
UID:26S_703327_4965330@uibk.ac.at
ORGANIZER;CN="LFU:online Universität Innsbruck":MAILTO:Uni-Innsbruck-noreply@uibk.ac.at
SUMMARY:VU Wahrnehmung, Interaktion und Robotik B: Physikbasierte Simulation (LV 703327-0 26S)
DESCRIPTION:Lehrveranstaltung 703327 26S, Gruppe 0\nTitel: VU Wahrnehmung, Interaktion und Robotik B: Physikbasierte Simulation\nOrt: rr 26\n\nhttps://lfuonline.uibk.ac.at/public/lfuonline_lv.details?sem_id_in=26S&lvnr_id_in=703327\n
CLASS:PUBLIC
DTSTART:20260317T124500Z
DTEND:20260317T133000Z
DTSTAMP:20260423T042915Z
LOCATION:rr 26
END:VEVENT
BEGIN:VEVENT
UID:26S_703327_4965650@uibk.ac.at
ORGANIZER;CN="LFU:online Universität Innsbruck":MAILTO:Uni-Innsbruck-noreply@uibk.ac.at
SUMMARY:VU Wahrnehmung, Interaktion und Robotik B: Physikbasierte Simulation (LV 703327-0 26S)
DESCRIPTION:Lehrveranstaltung 703327 26S, Gruppe 0\nTitel: VU Wahrnehmung, Interaktion und Robotik B: Physikbasierte Simulation\nOrt: 3W04\n\nhttps://lfuonline.uibk.ac.at/public/lfuonline_lv.details?sem_id_in=26S&lvnr_id_in=703327\n
CLASS:PUBLIC
DTSTART:20260323T100000Z
DTEND:20260323T113000Z
DTSTAMP:20260423T042915Z
LOCATION:3W04
END:VEVENT
BEGIN:VEVENT
UID:26S_703327_4965331@uibk.ac.at
ORGANIZER;CN="LFU:online Universität Innsbruck":MAILTO:Uni-Innsbruck-noreply@uibk.ac.at
SUMMARY:VU Wahrnehmung, Interaktion und Robotik B: Physikbasierte Simulation (LV 703327-0 26S)
DESCRIPTION:Lehrveranstaltung 703327 26S, Gruppe 0\nTitel: VU Wahrnehmung, Interaktion und Robotik B: Physikbasierte Simulation\nOrt: rr 26\n\nhttps://lfuonline.uibk.ac.at/public/lfuonline_lv.details?sem_id_in=26S&lvnr_id_in=703327\n
CLASS:PUBLIC
DTSTART:20260324T124500Z
DTEND:20260324T133000Z
DTSTAMP:20260423T042915Z
LOCATION:rr 26
END:VEVENT
BEGIN:VEVENT
UID:26S_703327_4965651@uibk.ac.at
ORGANIZER;CN="LFU:online Universität Innsbruck":MAILTO:Uni-Innsbruck-noreply@uibk.ac.at
SUMMARY:VU Wahrnehmung, Interaktion und Robotik B: Physikbasierte Simulation (LV 703327-0 26S)
DESCRIPTION:Lehrveranstaltung 703327 26S, Gruppe 0\nTitel: VU Wahrnehmung, Interaktion und Robotik B: Physikbasierte Simulation\nOrt: 3W04\n\nhttps://lfuonline.uibk.ac.at/public/lfuonline_lv.details?sem_id_in=26S&lvnr_id_in=703327\n
CLASS:PUBLIC
DTSTART:20260413T090000Z
DTEND:20260413T103000Z
DTSTAMP:20260423T042915Z
LOCATION:3W04
END:VEVENT
BEGIN:VEVENT
UID:26S_703327_4965332@uibk.ac.at
ORGANIZER;CN="LFU:online Universität Innsbruck":MAILTO:Uni-Innsbruck-noreply@uibk.ac.at
SUMMARY:VU Wahrnehmung, Interaktion und Robotik B: Physikbasierte Simulation (LV 703327-0 26S)
DESCRIPTION:Lehrveranstaltung 703327 26S, Gruppe 0\nTitel: VU Wahrnehmung, Interaktion und Robotik B: Physikbasierte Simulation\nOrt: rr 26\n\nhttps://lfuonline.uibk.ac.at/public/lfuonline_lv.details?sem_id_in=26S&lvnr_id_in=703327\n
CLASS:PUBLIC
DTSTART:20260414T114500Z
DTEND:20260414T123000Z
DTSTAMP:20260423T042915Z
LOCATION:rr 26
END:VEVENT
BEGIN:VEVENT
UID:26S_703327_4965652@uibk.ac.at
ORGANIZER;CN="LFU:online Universität Innsbruck":MAILTO:Uni-Innsbruck-noreply@uibk.ac.at
SUMMARY:VU Wahrnehmung, Interaktion und Robotik B: Physikbasierte Simulation (LV 703327-0 26S)
DESCRIPTION:Lehrveranstaltung 703327 26S, Gruppe 0\nTitel: VU Wahrnehmung, Interaktion und Robotik B: Physikbasierte Simulation\nOrt: 3W04\n\nhttps://lfuonline.uibk.ac.at/public/lfuonline_lv.details?sem_id_in=26S&lvnr_id_in=703327\n
CLASS:PUBLIC
DTSTART:20260420T090000Z
DTEND:20260420T103000Z
DTSTAMP:20260423T042915Z
LOCATION:3W04
END:VEVENT
BEGIN:VEVENT
UID:26S_703327_4965333@uibk.ac.at
ORGANIZER;CN="LFU:online Universität Innsbruck":MAILTO:Uni-Innsbruck-noreply@uibk.ac.at
SUMMARY:VU Wahrnehmung, Interaktion und Robotik B: Physikbasierte Simulation (LV 703327-0 26S)
DESCRIPTION:Lehrveranstaltung 703327 26S, Gruppe 0\nTitel: VU Wahrnehmung, Interaktion und Robotik B: Physikbasierte Simulation\nOrt: rr 26\n\nhttps://lfuonline.uibk.ac.at/public/lfuonline_lv.details?sem_id_in=26S&lvnr_id_in=703327\n
CLASS:PUBLIC
DTSTART:20260421T114500Z
DTEND:20260421T123000Z
DTSTAMP:20260423T042915Z
LOCATION:rr 26
END:VEVENT
BEGIN:VEVENT
UID:26S_703327_4965653@uibk.ac.at
ORGANIZER;CN="LFU:online Universität Innsbruck":MAILTO:Uni-Innsbruck-noreply@uibk.ac.at
SUMMARY:VU Wahrnehmung, Interaktion und Robotik B: Physikbasierte Simulation (LV 703327-0 26S)
DESCRIPTION:Lehrveranstaltung 703327 26S, Gruppe 0\nTitel: VU Wahrnehmung, Interaktion und Robotik B: Physikbasierte Simulation\nOrt: 3W04\n\nhttps://lfuonline.uibk.ac.at/public/lfuonline_lv.details?sem_id_in=26S&lvnr_id_in=703327\n
CLASS:PUBLIC
DTSTART:20260427T090000Z
DTEND:20260427T103000Z
DTSTAMP:20260423T042915Z
LOCATION:3W04
END:VEVENT
BEGIN:VEVENT
UID:26S_703327_4965334@uibk.ac.at
ORGANIZER;CN="LFU:online Universität Innsbruck":MAILTO:Uni-Innsbruck-noreply@uibk.ac.at
SUMMARY:VU Wahrnehmung, Interaktion und Robotik B: Physikbasierte Simulation (LV 703327-0 26S)
DESCRIPTION:Lehrveranstaltung 703327 26S, Gruppe 0\nTitel: VU Wahrnehmung, Interaktion und Robotik B: Physikbasierte Simulation\nOrt: rr 26\n\nhttps://lfuonline.uibk.ac.at/public/lfuonline_lv.details?sem_id_in=26S&lvnr_id_in=703327\n
CLASS:PUBLIC
DTSTART:20260428T114500Z
DTEND:20260428T123000Z
DTSTAMP:20260423T042915Z
LOCATION:rr 26
END:VEVENT
BEGIN:VEVENT
UID:26S_703327_4965654@uibk.ac.at
ORGANIZER;CN="LFU:online Universität Innsbruck":MAILTO:Uni-Innsbruck-noreply@uibk.ac.at
SUMMARY:VU Wahrnehmung, Interaktion und Robotik B: Physikbasierte Simulation (LV 703327-0 26S)
DESCRIPTION:Lehrveranstaltung 703327 26S, Gruppe 0\nTitel: VU Wahrnehmung, Interaktion und Robotik B: Physikbasierte Simulation\nOrt: 3W04\n\nhttps://lfuonline.uibk.ac.at/public/lfuonline_lv.details?sem_id_in=26S&lvnr_id_in=703327\n
CLASS:PUBLIC
DTSTART:20260504T090000Z
DTEND:20260504T103000Z
DTSTAMP:20260423T042915Z
LOCATION:3W04
END:VEVENT
BEGIN:VEVENT
UID:26S_703327_4965335@uibk.ac.at
ORGANIZER;CN="LFU:online Universität Innsbruck":MAILTO:Uni-Innsbruck-noreply@uibk.ac.at
SUMMARY:VU Wahrnehmung, Interaktion und Robotik B: Physikbasierte Simulation (LV 703327-0 26S)
DESCRIPTION:Lehrveranstaltung 703327 26S, Gruppe 0\nTitel: VU Wahrnehmung, Interaktion und Robotik B: Physikbasierte Simulation\nOrt: rr 26\n\nhttps://lfuonline.uibk.ac.at/public/lfuonline_lv.details?sem_id_in=26S&lvnr_id_in=703327\n
CLASS:PUBLIC
DTSTART:20260505T114500Z
DTEND:20260505T123000Z
DTSTAMP:20260423T042915Z
LOCATION:rr 26
END:VEVENT
BEGIN:VEVENT
UID:26S_703327_4965655@uibk.ac.at
ORGANIZER;CN="LFU:online Universität Innsbruck":MAILTO:Uni-Innsbruck-noreply@uibk.ac.at
SUMMARY:VU Wahrnehmung, Interaktion und Robotik B: Physikbasierte Simulation (LV 703327-0 26S)
DESCRIPTION:Lehrveranstaltung 703327 26S, Gruppe 0\nTitel: VU Wahrnehmung, Interaktion und Robotik B: Physikbasierte Simulation\nOrt: 3W04\n\nhttps://lfuonline.uibk.ac.at/public/lfuonline_lv.details?sem_id_in=26S&lvnr_id_in=703327\n
CLASS:PUBLIC
DTSTART:20260511T090000Z
DTEND:20260511T103000Z
DTSTAMP:20260423T042915Z
LOCATION:3W04
END:VEVENT
BEGIN:VEVENT
UID:26S_703327_4965336@uibk.ac.at
ORGANIZER;CN="LFU:online Universität Innsbruck":MAILTO:Uni-Innsbruck-noreply@uibk.ac.at
SUMMARY:VU Wahrnehmung, Interaktion und Robotik B: Physikbasierte Simulation (LV 703327-0 26S)
DESCRIPTION:Lehrveranstaltung 703327 26S, Gruppe 0\nTitel: VU Wahrnehmung, Interaktion und Robotik B: Physikbasierte Simulation\nOrt: rr 26\n\nhttps://lfuonline.uibk.ac.at/public/lfuonline_lv.details?sem_id_in=26S&lvnr_id_in=703327\n
CLASS:PUBLIC
DTSTART:20260512T114500Z
DTEND:20260512T123000Z
DTSTAMP:20260423T042915Z
LOCATION:rr 26
END:VEVENT
BEGIN:VEVENT
UID:26S_703327_4965656@uibk.ac.at
ORGANIZER;CN="LFU:online Universität Innsbruck":MAILTO:Uni-Innsbruck-noreply@uibk.ac.at
SUMMARY:VU Wahrnehmung, Interaktion und Robotik B: Physikbasierte Simulation (LV 703327-0 26S)
DESCRIPTION:Lehrveranstaltung 703327 26S, Gruppe 0\nTitel: VU Wahrnehmung, Interaktion und Robotik B: Physikbasierte Simulation\nOrt: 3W04\n\nhttps://lfuonline.uibk.ac.at/public/lfuonline_lv.details?sem_id_in=26S&lvnr_id_in=703327\n
CLASS:PUBLIC
DTSTART:20260518T090000Z
DTEND:20260518T103000Z
DTSTAMP:20260423T042915Z
LOCATION:3W04
END:VEVENT
BEGIN:VEVENT
UID:26S_703327_4965337@uibk.ac.at
ORGANIZER;CN="LFU:online Universität Innsbruck":MAILTO:Uni-Innsbruck-noreply@uibk.ac.at
SUMMARY:VU Wahrnehmung, Interaktion und Robotik B: Physikbasierte Simulation (LV 703327-0 26S)
DESCRIPTION:Lehrveranstaltung 703327 26S, Gruppe 0\nTitel: VU Wahrnehmung, Interaktion und Robotik B: Physikbasierte Simulation\nOrt: rr 26\n\nhttps://lfuonline.uibk.ac.at/public/lfuonline_lv.details?sem_id_in=26S&lvnr_id_in=703327\n
CLASS:PUBLIC
DTSTART:20260519T114500Z
DTEND:20260519T123000Z
DTSTAMP:20260423T042915Z
LOCATION:rr 26
END:VEVENT
BEGIN:VEVENT
UID:26S_703327_4965338@uibk.ac.at
ORGANIZER;CN="LFU:online Universität Innsbruck":MAILTO:Uni-Innsbruck-noreply@uibk.ac.at
SUMMARY:VU Wahrnehmung, Interaktion und Robotik B: Physikbasierte Simulation (LV 703327-0 26S)
DESCRIPTION:Lehrveranstaltung 703327 26S, Gruppe 0\nTitel: VU Wahrnehmung, Interaktion und Robotik B: Physikbasierte Simulation\nOrt: rr 26\n\nhttps://lfuonline.uibk.ac.at/public/lfuonline_lv.details?sem_id_in=26S&lvnr_id_in=703327\n
CLASS:PUBLIC
DTSTART:20260526T114500Z
DTEND:20260526T123000Z
DTSTAMP:20260423T042915Z
LOCATION:rr 26
END:VEVENT
BEGIN:VEVENT
UID:26S_703327_4965657@uibk.ac.at
ORGANIZER;CN="LFU:online Universität Innsbruck":MAILTO:Uni-Innsbruck-noreply@uibk.ac.at
SUMMARY:VU Wahrnehmung, Interaktion und Robotik B: Physikbasierte Simulation (LV 703327-0 26S)
DESCRIPTION:Lehrveranstaltung 703327 26S, Gruppe 0\nTitel: VU Wahrnehmung, Interaktion und Robotik B: Physikbasierte Simulation\nOrt: 3W04\n\nhttps://lfuonline.uibk.ac.at/public/lfuonline_lv.details?sem_id_in=26S&lvnr_id_in=703327\n
CLASS:PUBLIC
DTSTART:20260601T090000Z
DTEND:20260601T103000Z
DTSTAMP:20260423T042915Z
LOCATION:3W04
END:VEVENT
BEGIN:VEVENT
UID:26S_703327_4965339@uibk.ac.at
ORGANIZER;CN="LFU:online Universität Innsbruck":MAILTO:Uni-Innsbruck-noreply@uibk.ac.at
SUMMARY:VU Wahrnehmung, Interaktion und Robotik B: Physikbasierte Simulation (LV 703327-0 26S)
DESCRIPTION:Lehrveranstaltung 703327 26S, Gruppe 0\nTitel: VU Wahrnehmung, Interaktion und Robotik B: Physikbasierte Simulation\nOrt: rr 26\n\nhttps://lfuonline.uibk.ac.at/public/lfuonline_lv.details?sem_id_in=26S&lvnr_id_in=703327\n
CLASS:PUBLIC
DTSTART:20260602T114500Z
DTEND:20260602T123000Z
DTSTAMP:20260423T042915Z
LOCATION:rr 26
END:VEVENT
BEGIN:VEVENT
UID:26S_703327_4965658@uibk.ac.at
ORGANIZER;CN="LFU:online Universität Innsbruck":MAILTO:Uni-Innsbruck-noreply@uibk.ac.at
SUMMARY:VU Wahrnehmung, Interaktion und Robotik B: Physikbasierte Simulation (LV 703327-0 26S)
DESCRIPTION:Lehrveranstaltung 703327 26S, Gruppe 0\nTitel: VU Wahrnehmung, Interaktion und Robotik B: Physikbasierte Simulation\nOrt: 3W04\n\nhttps://lfuonline.uibk.ac.at/public/lfuonline_lv.details?sem_id_in=26S&lvnr_id_in=703327\n
CLASS:PUBLIC
DTSTART:20260608T090000Z
DTEND:20260608T103000Z
DTSTAMP:20260423T042915Z
LOCATION:3W04
END:VEVENT
BEGIN:VEVENT
UID:26S_703327_4965340@uibk.ac.at
ORGANIZER;CN="LFU:online Universität Innsbruck":MAILTO:Uni-Innsbruck-noreply@uibk.ac.at
SUMMARY:VU Wahrnehmung, Interaktion und Robotik B: Physikbasierte Simulation (LV 703327-0 26S)
DESCRIPTION:Lehrveranstaltung 703327 26S, Gruppe 0\nTitel: VU Wahrnehmung, Interaktion und Robotik B: Physikbasierte Simulation\nOrt: rr 26\n\nhttps://lfuonline.uibk.ac.at/public/lfuonline_lv.details?sem_id_in=26S&lvnr_id_in=703327\n
CLASS:PUBLIC
DTSTART:20260609T114500Z
DTEND:20260609T123000Z
DTSTAMP:20260423T042915Z
LOCATION:rr 26
END:VEVENT
BEGIN:VEVENT
UID:26S_703327_4965659@uibk.ac.at
ORGANIZER;CN="LFU:online Universität Innsbruck":MAILTO:Uni-Innsbruck-noreply@uibk.ac.at
SUMMARY:VU Wahrnehmung, Interaktion und Robotik B: Physikbasierte Simulation (LV 703327-0 26S)
DESCRIPTION:Lehrveranstaltung 703327 26S, Gruppe 0\nTitel: VU Wahrnehmung, Interaktion und Robotik B: Physikbasierte Simulation\nOrt: 3W04\n\nhttps://lfuonline.uibk.ac.at/public/lfuonline_lv.details?sem_id_in=26S&lvnr_id_in=703327\n
CLASS:PUBLIC
DTSTART:20260615T090000Z
DTEND:20260615T103000Z
DTSTAMP:20260423T042915Z
LOCATION:3W04
END:VEVENT
BEGIN:VEVENT
UID:26S_703327_4965341@uibk.ac.at
ORGANIZER;CN="LFU:online Universität Innsbruck":MAILTO:Uni-Innsbruck-noreply@uibk.ac.at
SUMMARY:VU Wahrnehmung, Interaktion und Robotik B: Physikbasierte Simulation (LV 703327-0 26S)
DESCRIPTION:Lehrveranstaltung 703327 26S, Gruppe 0\nTitel: VU Wahrnehmung, Interaktion und Robotik B: Physikbasierte Simulation\nOrt: rr 26\n\nhttps://lfuonline.uibk.ac.at/public/lfuonline_lv.details?sem_id_in=26S&lvnr_id_in=703327\n
CLASS:PUBLIC
DTSTART:20260616T114500Z
DTEND:20260616T123000Z
DTSTAMP:20260423T042915Z
LOCATION:rr 26
END:VEVENT
BEGIN:VEVENT
UID:26S_703327_4965660@uibk.ac.at
ORGANIZER;CN="LFU:online Universität Innsbruck":MAILTO:Uni-Innsbruck-noreply@uibk.ac.at
SUMMARY:VU Wahrnehmung, Interaktion und Robotik B: Physikbasierte Simulation (LV 703327-0 26S)
DESCRIPTION:Lehrveranstaltung 703327 26S, Gruppe 0\nTitel: VU Wahrnehmung, Interaktion und Robotik B: Physikbasierte Simulation\nOrt: 3W04\n\nhttps://lfuonline.uibk.ac.at/public/lfuonline_lv.details?sem_id_in=26S&lvnr_id_in=703327\n
CLASS:PUBLIC
DTSTART:20260622T090000Z
DTEND:20260622T103000Z
DTSTAMP:20260423T042915Z
LOCATION:3W04
END:VEVENT
BEGIN:VEVENT
UID:26S_703327_4965342@uibk.ac.at
ORGANIZER;CN="LFU:online Universität Innsbruck":MAILTO:Uni-Innsbruck-noreply@uibk.ac.at
SUMMARY:VU Wahrnehmung, Interaktion und Robotik B: Physikbasierte Simulation (LV 703327-0 26S)
DESCRIPTION:Lehrveranstaltung 703327 26S, Gruppe 0\nTitel: VU Wahrnehmung, Interaktion und Robotik B: Physikbasierte Simulation\nOrt: rr 26\n\nhttps://lfuonline.uibk.ac.at/public/lfuonline_lv.details?sem_id_in=26S&lvnr_id_in=703327\n
CLASS:PUBLIC
DTSTART:20260623T114500Z
DTEND:20260623T123000Z
DTSTAMP:20260423T042915Z
LOCATION:rr 26
END:VEVENT
END:VCALENDAR