BEGIN:VCALENDAR
VERSION:2.0
PRODID:-//Universität Innsbruck//LFU:online//DE
METHOD:PUBLISH
BEGIN:VEVENT
UID:26S_703331_4965485@uibk.ac.at
ORGANIZER;CN="LFU:online Universität Innsbruck":MAILTO:Uni-Innsbruck-noreply@uibk.ac.at
SUMMARY:SE Forschungsseminar in Wahrnehmung, Interaktion und Robotik: IGS/IIS (LV 703331-0 26S)
DESCRIPTION:Lehrveranstaltung 703331 26S, Gruppe 0\nTitel: SE Forschungsseminar in Wahrnehmung, Interaktion und Robotik: IGS/IIS\nOrt: 3W04\n\nhttps://lfuonline.uibk.ac.at/public/lfuonline_lv.details?sem_id_in=26S&lvnr_id_in=703331\n
CLASS:PUBLIC
DTSTART:20260304T091500Z
DTEND:20260304T104500Z
DTSTAMP:20260423T132308Z
LOCATION:3W04
END:VEVENT
BEGIN:VEVENT
UID:26S_703331_4965487@uibk.ac.at
ORGANIZER;CN="LFU:online Universität Innsbruck":MAILTO:Uni-Innsbruck-noreply@uibk.ac.at
SUMMARY:SE Forschungsseminar in Wahrnehmung, Interaktion und Robotik: IGS/IIS (LV 703331-0 26S)
DESCRIPTION:Lehrveranstaltung 703331 26S, Gruppe 0\nTitel: SE Forschungsseminar in Wahrnehmung, Interaktion und Robotik: IGS/IIS\nOrt: 3W04\n\nhttps://lfuonline.uibk.ac.at/public/lfuonline_lv.details?sem_id_in=26S&lvnr_id_in=703331\n
CLASS:PUBLIC
DTSTART:20260318T091500Z
DTEND:20260318T104500Z
DTSTAMP:20260423T132308Z
LOCATION:3W04
END:VEVENT
BEGIN:VEVENT
UID:26S_703331_4965488@uibk.ac.at
ORGANIZER;CN="LFU:online Universität Innsbruck":MAILTO:Uni-Innsbruck-noreply@uibk.ac.at
SUMMARY:SE Forschungsseminar in Wahrnehmung, Interaktion und Robotik: IGS/IIS (LV 703331-0 26S)
DESCRIPTION:Lehrveranstaltung 703331 26S, Gruppe 0\nTitel: SE Forschungsseminar in Wahrnehmung, Interaktion und Robotik: IGS/IIS\nOrt: 3W04\n\nhttps://lfuonline.uibk.ac.at/public/lfuonline_lv.details?sem_id_in=26S&lvnr_id_in=703331\n
CLASS:PUBLIC
DTSTART:20260325T091500Z
DTEND:20260325T104500Z
DTSTAMP:20260423T132308Z
LOCATION:3W04
END:VEVENT
BEGIN:VEVENT
UID:26S_703331_4965489@uibk.ac.at
ORGANIZER;CN="LFU:online Universität Innsbruck":MAILTO:Uni-Innsbruck-noreply@uibk.ac.at
SUMMARY:SE Forschungsseminar in Wahrnehmung, Interaktion und Robotik: IGS/IIS (LV 703331-0 26S)
DESCRIPTION:Lehrveranstaltung 703331 26S, Gruppe 0\nTitel: SE Forschungsseminar in Wahrnehmung, Interaktion und Robotik: IGS/IIS\nOrt: 3W04\n\nhttps://lfuonline.uibk.ac.at/public/lfuonline_lv.details?sem_id_in=26S&lvnr_id_in=703331\n
CLASS:PUBLIC
DTSTART:20260415T081500Z
DTEND:20260415T094500Z
DTSTAMP:20260423T132308Z
LOCATION:3W04
END:VEVENT
BEGIN:VEVENT
UID:26S_703331_4965490@uibk.ac.at
ORGANIZER;CN="LFU:online Universität Innsbruck":MAILTO:Uni-Innsbruck-noreply@uibk.ac.at
SUMMARY:SE Forschungsseminar in Wahrnehmung, Interaktion und Robotik: IGS/IIS (LV 703331-0 26S)
DESCRIPTION:Lehrveranstaltung 703331 26S, Gruppe 0\nTitel: SE Forschungsseminar in Wahrnehmung, Interaktion und Robotik: IGS/IIS\nOrt: 3W04\n\nhttps://lfuonline.uibk.ac.at/public/lfuonline_lv.details?sem_id_in=26S&lvnr_id_in=703331\n
CLASS:PUBLIC
DTSTART:20260422T081500Z
DTEND:20260422T094500Z
DTSTAMP:20260423T132308Z
LOCATION:3W04
END:VEVENT
BEGIN:VEVENT
UID:26S_703331_4965491@uibk.ac.at
ORGANIZER;CN="LFU:online Universität Innsbruck":MAILTO:Uni-Innsbruck-noreply@uibk.ac.at
SUMMARY:SE Forschungsseminar in Wahrnehmung, Interaktion und Robotik: IGS/IIS (LV 703331-0 26S)
DESCRIPTION:Lehrveranstaltung 703331 26S, Gruppe 0\nTitel: SE Forschungsseminar in Wahrnehmung, Interaktion und Robotik: IGS/IIS\nOrt: 3W04\n\nhttps://lfuonline.uibk.ac.at/public/lfuonline_lv.details?sem_id_in=26S&lvnr_id_in=703331\n
CLASS:PUBLIC
DTSTART:20260429T081500Z
DTEND:20260429T094500Z
DTSTAMP:20260423T132308Z
LOCATION:3W04
END:VEVENT
BEGIN:VEVENT
UID:26S_703331_4965492@uibk.ac.at
ORGANIZER;CN="LFU:online Universität Innsbruck":MAILTO:Uni-Innsbruck-noreply@uibk.ac.at
SUMMARY:SE Forschungsseminar in Wahrnehmung, Interaktion und Robotik: IGS/IIS (LV 703331-0 26S)
DESCRIPTION:Lehrveranstaltung 703331 26S, Gruppe 0\nTitel: SE Forschungsseminar in Wahrnehmung, Interaktion und Robotik: IGS/IIS\nOrt: 3W04\n\nhttps://lfuonline.uibk.ac.at/public/lfuonline_lv.details?sem_id_in=26S&lvnr_id_in=703331\n
CLASS:PUBLIC
DTSTART:20260506T081500Z
DTEND:20260506T094500Z
DTSTAMP:20260423T132308Z
LOCATION:3W04
END:VEVENT
BEGIN:VEVENT
UID:26S_703331_4965493@uibk.ac.at
ORGANIZER;CN="LFU:online Universität Innsbruck":MAILTO:Uni-Innsbruck-noreply@uibk.ac.at
SUMMARY:SE Forschungsseminar in Wahrnehmung, Interaktion und Robotik: IGS/IIS (LV 703331-0 26S)
DESCRIPTION:Lehrveranstaltung 703331 26S, Gruppe 0\nTitel: SE Forschungsseminar in Wahrnehmung, Interaktion und Robotik: IGS/IIS\nOrt: 3W04\n\nhttps://lfuonline.uibk.ac.at/public/lfuonline_lv.details?sem_id_in=26S&lvnr_id_in=703331\n
CLASS:PUBLIC
DTSTART:20260513T081500Z
DTEND:20260513T094500Z
DTSTAMP:20260423T132308Z
LOCATION:3W04
END:VEVENT
BEGIN:VEVENT
UID:26S_703331_4965494@uibk.ac.at
ORGANIZER;CN="LFU:online Universität Innsbruck":MAILTO:Uni-Innsbruck-noreply@uibk.ac.at
SUMMARY:SE Forschungsseminar in Wahrnehmung, Interaktion und Robotik: IGS/IIS (LV 703331-0 26S)
DESCRIPTION:Lehrveranstaltung 703331 26S, Gruppe 0\nTitel: SE Forschungsseminar in Wahrnehmung, Interaktion und Robotik: IGS/IIS\nOrt: 3W04\n\nhttps://lfuonline.uibk.ac.at/public/lfuonline_lv.details?sem_id_in=26S&lvnr_id_in=703331\n
CLASS:PUBLIC
DTSTART:20260520T081500Z
DTEND:20260520T094500Z
DTSTAMP:20260423T132308Z
LOCATION:3W04
END:VEVENT
BEGIN:VEVENT
UID:26S_703331_4965497@uibk.ac.at
ORGANIZER;CN="LFU:online Universität Innsbruck":MAILTO:Uni-Innsbruck-noreply@uibk.ac.at
SUMMARY:SE Forschungsseminar in Wahrnehmung, Interaktion und Robotik: IGS/IIS (LV 703331-0 26S)
DESCRIPTION:Lehrveranstaltung 703331 26S, Gruppe 0\nTitel: SE Forschungsseminar in Wahrnehmung, Interaktion und Robotik: IGS/IIS\nOrt: 3W04\n\nhttps://lfuonline.uibk.ac.at/public/lfuonline_lv.details?sem_id_in=26S&lvnr_id_in=703331\n
CLASS:PUBLIC
DTSTART:20260610T081500Z
DTEND:20260610T094500Z
DTSTAMP:20260423T132308Z
LOCATION:3W04
END:VEVENT
BEGIN:VEVENT
UID:26S_703331_4965498@uibk.ac.at
ORGANIZER;CN="LFU:online Universität Innsbruck":MAILTO:Uni-Innsbruck-noreply@uibk.ac.at
SUMMARY:SE Forschungsseminar in Wahrnehmung, Interaktion und Robotik: IGS/IIS (LV 703331-0 26S)
DESCRIPTION:Lehrveranstaltung 703331 26S, Gruppe 0\nTitel: SE Forschungsseminar in Wahrnehmung, Interaktion und Robotik: IGS/IIS\nOrt: 3W04\n\nhttps://lfuonline.uibk.ac.at/public/lfuonline_lv.details?sem_id_in=26S&lvnr_id_in=703331\n
CLASS:PUBLIC
DTSTART:20260617T081500Z
DTEND:20260617T094500Z
DTSTAMP:20260423T132308Z
LOCATION:3W04
END:VEVENT
BEGIN:VEVENT
UID:26S_703331_4965499@uibk.ac.at
ORGANIZER;CN="LFU:online Universität Innsbruck":MAILTO:Uni-Innsbruck-noreply@uibk.ac.at
SUMMARY:SE Forschungsseminar in Wahrnehmung, Interaktion und Robotik: IGS/IIS (LV 703331-0 26S)
DESCRIPTION:Lehrveranstaltung 703331 26S, Gruppe 0\nTitel: SE Forschungsseminar in Wahrnehmung, Interaktion und Robotik: IGS/IIS\nOrt: 3W04\n\nhttps://lfuonline.uibk.ac.at/public/lfuonline_lv.details?sem_id_in=26S&lvnr_id_in=703331\n
CLASS:PUBLIC
DTSTART:20260624T081500Z
DTEND:20260624T094500Z
DTSTAMP:20260423T132308Z
LOCATION:3W04
END:VEVENT
END:VCALENDAR