BEGIN:VCALENDAR
VERSION:2.0
PRODID:-//Universität Innsbruck//LFU:online//DE
METHOD:PUBLISH
BEGIN:VEVENT
UID:26S_703334_4980499@uibk.ac.at
ORGANIZER;CN="LFU:online Universität Innsbruck":MAILTO:Uni-Innsbruck-noreply@uibk.ac.at
SUMMARY:VU Spezielle Themen 2: Recommender Systeme (LV 703334-0 26S)
DESCRIPTION:Lehrveranstaltung 703334 26S, Gruppe 0\nTitel: VU Spezielle Themen 2: Recommender Systeme\nOrt: HS 11\n\nhttps://lfuonline.uibk.ac.at/public/lfuonline_lv.details?sem_id_in=26S&lvnr_id_in=703334\n
CLASS:PUBLIC
DTSTART:20260304T110000Z
DTEND:20260304T133000Z
DTSTAMP:20260423T014359Z
LOCATION:HS 11
END:VEVENT
BEGIN:VEVENT
UID:26S_703334_4980500@uibk.ac.at
ORGANIZER;CN="LFU:online Universität Innsbruck":MAILTO:Uni-Innsbruck-noreply@uibk.ac.at
SUMMARY:VU Spezielle Themen 2: Recommender Systeme (LV 703334-0 26S)
DESCRIPTION:Lehrveranstaltung 703334 26S, Gruppe 0\nTitel: VU Spezielle Themen 2: Recommender Systeme\nOrt: HS 11\n\nhttps://lfuonline.uibk.ac.at/public/lfuonline_lv.details?sem_id_in=26S&lvnr_id_in=703334\n
CLASS:PUBLIC
DTSTART:20260311T110000Z
DTEND:20260311T133000Z
DTSTAMP:20260423T014359Z
LOCATION:HS 11
END:VEVENT
BEGIN:VEVENT
UID:26S_703334_4980501@uibk.ac.at
ORGANIZER;CN="LFU:online Universität Innsbruck":MAILTO:Uni-Innsbruck-noreply@uibk.ac.at
SUMMARY:VU Spezielle Themen 2: Recommender Systeme (LV 703334-0 26S)
DESCRIPTION:Lehrveranstaltung 703334 26S, Gruppe 0\nTitel: VU Spezielle Themen 2: Recommender Systeme\nOrt: HS 11\n\nhttps://lfuonline.uibk.ac.at/public/lfuonline_lv.details?sem_id_in=26S&lvnr_id_in=703334\n
CLASS:PUBLIC
DTSTART:20260318T110000Z
DTEND:20260318T133000Z
DTSTAMP:20260423T014359Z
LOCATION:HS 11
END:VEVENT
BEGIN:VEVENT
UID:26S_703334_4980502@uibk.ac.at
ORGANIZER;CN="LFU:online Universität Innsbruck":MAILTO:Uni-Innsbruck-noreply@uibk.ac.at
SUMMARY:VU Spezielle Themen 2: Recommender Systeme (LV 703334-0 26S)
DESCRIPTION:Lehrveranstaltung 703334 26S, Gruppe 0\nTitel: VU Spezielle Themen 2: Recommender Systeme\nOrt: HS 11\n\nhttps://lfuonline.uibk.ac.at/public/lfuonline_lv.details?sem_id_in=26S&lvnr_id_in=703334\n
CLASS:PUBLIC
DTSTART:20260325T110000Z
DTEND:20260325T133000Z
DTSTAMP:20260423T014359Z
LOCATION:HS 11
END:VEVENT
BEGIN:VEVENT
UID:26S_703334_4980503@uibk.ac.at
ORGANIZER;CN="LFU:online Universität Innsbruck":MAILTO:Uni-Innsbruck-noreply@uibk.ac.at
SUMMARY:VU Spezielle Themen 2: Recommender Systeme (LV 703334-0 26S)
DESCRIPTION:Lehrveranstaltung 703334 26S, Gruppe 0\nTitel: VU Spezielle Themen 2: Recommender Systeme\nOrt: HS 11\n\nhttps://lfuonline.uibk.ac.at/public/lfuonline_lv.details?sem_id_in=26S&lvnr_id_in=703334\n
CLASS:PUBLIC
DTSTART:20260415T100000Z
DTEND:20260415T123000Z
DTSTAMP:20260423T014359Z
LOCATION:HS 11
END:VEVENT
BEGIN:VEVENT
UID:26S_703334_4980504@uibk.ac.at
ORGANIZER;CN="LFU:online Universität Innsbruck":MAILTO:Uni-Innsbruck-noreply@uibk.ac.at
SUMMARY:VU Spezielle Themen 2: Recommender Systeme (LV 703334-0 26S)
DESCRIPTION:Lehrveranstaltung 703334 26S, Gruppe 0\nTitel: VU Spezielle Themen 2: Recommender Systeme\nOrt: HS 11\n\nhttps://lfuonline.uibk.ac.at/public/lfuonline_lv.details?sem_id_in=26S&lvnr_id_in=703334\n
CLASS:PUBLIC
DTSTART:20260422T100000Z
DTEND:20260422T123000Z
DTSTAMP:20260423T014359Z
LOCATION:HS 11
END:VEVENT
BEGIN:VEVENT
UID:26S_703334_4980505@uibk.ac.at
ORGANIZER;CN="LFU:online Universität Innsbruck":MAILTO:Uni-Innsbruck-noreply@uibk.ac.at
SUMMARY:VU Spezielle Themen 2: Recommender Systeme (LV 703334-0 26S)
DESCRIPTION:Lehrveranstaltung 703334 26S, Gruppe 0\nTitel: VU Spezielle Themen 2: Recommender Systeme\nOrt: HS 11\n\nhttps://lfuonline.uibk.ac.at/public/lfuonline_lv.details?sem_id_in=26S&lvnr_id_in=703334\n
CLASS:PUBLIC
DTSTART:20260429T100000Z
DTEND:20260429T123000Z
DTSTAMP:20260423T014359Z
LOCATION:HS 11
END:VEVENT
BEGIN:VEVENT
UID:26S_703334_4980506@uibk.ac.at
ORGANIZER;CN="LFU:online Universität Innsbruck":MAILTO:Uni-Innsbruck-noreply@uibk.ac.at
SUMMARY:VU Spezielle Themen 2: Recommender Systeme (LV 703334-0 26S)
DESCRIPTION:Lehrveranstaltung 703334 26S, Gruppe 0\nTitel: VU Spezielle Themen 2: Recommender Systeme\nOrt: HS 11\n\nhttps://lfuonline.uibk.ac.at/public/lfuonline_lv.details?sem_id_in=26S&lvnr_id_in=703334\n
CLASS:PUBLIC
DTSTART:20260506T100000Z
DTEND:20260506T123000Z
DTSTAMP:20260423T014359Z
LOCATION:HS 11
END:VEVENT
BEGIN:VEVENT
UID:26S_703334_4980507@uibk.ac.at
ORGANIZER;CN="LFU:online Universität Innsbruck":MAILTO:Uni-Innsbruck-noreply@uibk.ac.at
SUMMARY:VU Spezielle Themen 2: Recommender Systeme (LV 703334-0 26S)
DESCRIPTION:Lehrveranstaltung 703334 26S, Gruppe 0\nTitel: VU Spezielle Themen 2: Recommender Systeme\nOrt: HS 11\n\nhttps://lfuonline.uibk.ac.at/public/lfuonline_lv.details?sem_id_in=26S&lvnr_id_in=703334\n
CLASS:PUBLIC
DTSTART:20260513T100000Z
DTEND:20260513T123000Z
DTSTAMP:20260423T014359Z
LOCATION:HS 11
END:VEVENT
BEGIN:VEVENT
UID:26S_703334_4980508@uibk.ac.at
ORGANIZER;CN="LFU:online Universität Innsbruck":MAILTO:Uni-Innsbruck-noreply@uibk.ac.at
SUMMARY:VU Spezielle Themen 2: Recommender Systeme (LV 703334-0 26S)
DESCRIPTION:Lehrveranstaltung 703334 26S, Gruppe 0\nTitel: VU Spezielle Themen 2: Recommender Systeme\nOrt: HS 11\n\nhttps://lfuonline.uibk.ac.at/public/lfuonline_lv.details?sem_id_in=26S&lvnr_id_in=703334\n
CLASS:PUBLIC
DTSTART:20260520T100000Z
DTEND:20260520T123000Z
DTSTAMP:20260423T014359Z
LOCATION:HS 11
END:VEVENT
BEGIN:VEVENT
UID:26S_703334_4980509@uibk.ac.at
ORGANIZER;CN="LFU:online Universität Innsbruck":MAILTO:Uni-Innsbruck-noreply@uibk.ac.at
SUMMARY:VU Spezielle Themen 2: Recommender Systeme (LV 703334-0 26S)
DESCRIPTION:Lehrveranstaltung 703334 26S, Gruppe 0\nTitel: VU Spezielle Themen 2: Recommender Systeme\nOrt: HS 11\n\nhttps://lfuonline.uibk.ac.at/public/lfuonline_lv.details?sem_id_in=26S&lvnr_id_in=703334\n
CLASS:PUBLIC
DTSTART:20260527T100000Z
DTEND:20260527T123000Z
DTSTAMP:20260423T014359Z
LOCATION:HS 11
END:VEVENT
BEGIN:VEVENT
UID:26S_703334_4980510@uibk.ac.at
ORGANIZER;CN="LFU:online Universität Innsbruck":MAILTO:Uni-Innsbruck-noreply@uibk.ac.at
SUMMARY:VU Spezielle Themen 2: Recommender Systeme (LV 703334-0 26S)
DESCRIPTION:Lehrveranstaltung 703334 26S, Gruppe 0\nTitel: VU Spezielle Themen 2: Recommender Systeme\nOrt: HS 11\n\nhttps://lfuonline.uibk.ac.at/public/lfuonline_lv.details?sem_id_in=26S&lvnr_id_in=703334\n
CLASS:PUBLIC
DTSTART:20260603T100000Z
DTEND:20260603T123000Z
DTSTAMP:20260423T014359Z
LOCATION:HS 11
END:VEVENT
BEGIN:VEVENT
UID:26S_703334_4980511@uibk.ac.at
ORGANIZER;CN="LFU:online Universität Innsbruck":MAILTO:Uni-Innsbruck-noreply@uibk.ac.at
SUMMARY:VU Spezielle Themen 2: Recommender Systeme (LV 703334-0 26S)
DESCRIPTION:Lehrveranstaltung 703334 26S, Gruppe 0\nTitel: VU Spezielle Themen 2: Recommender Systeme\nOrt: HS 11\n\nhttps://lfuonline.uibk.ac.at/public/lfuonline_lv.details?sem_id_in=26S&lvnr_id_in=703334\n
CLASS:PUBLIC
DTSTART:20260610T100000Z
DTEND:20260610T123000Z
DTSTAMP:20260423T014359Z
LOCATION:HS 11
END:VEVENT
BEGIN:VEVENT
UID:26S_703334_4980512@uibk.ac.at
ORGANIZER;CN="LFU:online Universität Innsbruck":MAILTO:Uni-Innsbruck-noreply@uibk.ac.at
SUMMARY:VU Spezielle Themen 2: Recommender Systeme (LV 703334-0 26S)
DESCRIPTION:Lehrveranstaltung 703334 26S, Gruppe 0\nTitel: VU Spezielle Themen 2: Recommender Systeme\nOrt: HS 11\n\nhttps://lfuonline.uibk.ac.at/public/lfuonline_lv.details?sem_id_in=26S&lvnr_id_in=703334\n
CLASS:PUBLIC
DTSTART:20260617T100000Z
DTEND:20260617T123000Z
DTSTAMP:20260423T014359Z
LOCATION:HS 11
END:VEVENT
BEGIN:VEVENT
UID:26S_703334_4980513@uibk.ac.at
ORGANIZER;CN="LFU:online Universität Innsbruck":MAILTO:Uni-Innsbruck-noreply@uibk.ac.at
SUMMARY:VU Spezielle Themen 2: Recommender Systeme (LV 703334-0 26S)
DESCRIPTION:Lehrveranstaltung 703334 26S, Gruppe 0\nTitel: VU Spezielle Themen 2: Recommender Systeme\nOrt: HS 11\n\nhttps://lfuonline.uibk.ac.at/public/lfuonline_lv.details?sem_id_in=26S&lvnr_id_in=703334\n
CLASS:PUBLIC
DTSTART:20260624T100000Z
DTEND:20260624T123000Z
DTSTAMP:20260423T014359Z
LOCATION:HS 11
END:VEVENT
END:VCALENDAR