BEGIN:VCALENDAR
VERSION:2.0
PRODID:-//Universität Innsbruck//LFU:online//DE
METHOD:PUBLISH
BEGIN:VEVENT
UID:26S_703339_4980405@uibk.ac.at
ORGANIZER;CN="LFU:online Universität Innsbruck":MAILTO:Uni-Innsbruck-noreply@uibk.ac.at
SUMMARY:VU Wahrnehmung, Interaktion und Robotik A: Advanced Probabilistic Machine Learning (LV 703339-0 26S)
DESCRIPTION:Lehrveranstaltung 703339 26S, Gruppe 0\nTitel: VU Wahrnehmung, Interaktion und Robotik A: Advanced Probabilistic Machine Learning\nOrt: SR 12\n\nhttps://lfuonline.uibk.ac.at/public/lfuonline_lv.details?sem_id_in=26S&lvnr_id_in=703339\n
CLASS:PUBLIC
DTSTART:20260303T091500Z
DTEND:20260303T104500Z
DTSTAMP:20260423T132308Z
LOCATION:SR 12
END:VEVENT
BEGIN:VEVENT
UID:26S_703339_4980434@uibk.ac.at
ORGANIZER;CN="LFU:online Universität Innsbruck":MAILTO:Uni-Innsbruck-noreply@uibk.ac.at
SUMMARY:VU Wahrnehmung, Interaktion und Robotik A: Advanced Probabilistic Machine Learning (LV 703339-0 26S)
DESCRIPTION:Lehrveranstaltung 703339 26S, Gruppe 0\nTitel: VU Wahrnehmung, Interaktion und Robotik A: Advanced Probabilistic Machine Learning\nOrt: Seminarraum 1 (ICT-Gebäude)\n\nhttps://lfuonline.uibk.ac.at/public/lfuonline_lv.details?sem_id_in=26S&lvnr_id_in=703339\n
CLASS:PUBLIC
DTSTART:20260305T121500Z
DTEND:20260305T130000Z
DTSTAMP:20260423T132308Z
LOCATION:Seminarraum 1 (ICT-Gebäude)
END:VEVENT
BEGIN:VEVENT
UID:26S_703339_4980406@uibk.ac.at
ORGANIZER;CN="LFU:online Universität Innsbruck":MAILTO:Uni-Innsbruck-noreply@uibk.ac.at
SUMMARY:VU Wahrnehmung, Interaktion und Robotik A: Advanced Probabilistic Machine Learning (LV 703339-0 26S)
DESCRIPTION:Lehrveranstaltung 703339 26S, Gruppe 0\nTitel: VU Wahrnehmung, Interaktion und Robotik A: Advanced Probabilistic Machine Learning\nOrt: SR 12\n\nhttps://lfuonline.uibk.ac.at/public/lfuonline_lv.details?sem_id_in=26S&lvnr_id_in=703339\n
CLASS:PUBLIC
DTSTART:20260310T091500Z
DTEND:20260310T104500Z
DTSTAMP:20260423T132308Z
LOCATION:SR 12
END:VEVENT
BEGIN:VEVENT
UID:26S_703339_4980435@uibk.ac.at
ORGANIZER;CN="LFU:online Universität Innsbruck":MAILTO:Uni-Innsbruck-noreply@uibk.ac.at
SUMMARY:VU Wahrnehmung, Interaktion und Robotik A: Advanced Probabilistic Machine Learning (LV 703339-0 26S)
DESCRIPTION:Lehrveranstaltung 703339 26S, Gruppe 0\nTitel: VU Wahrnehmung, Interaktion und Robotik A: Advanced Probabilistic Machine Learning\nOrt: Seminarraum 1 (ICT-Gebäude)\n\nhttps://lfuonline.uibk.ac.at/public/lfuonline_lv.details?sem_id_in=26S&lvnr_id_in=703339\n
CLASS:PUBLIC
DTSTART:20260312T121500Z
DTEND:20260312T130000Z
DTSTAMP:20260423T132308Z
LOCATION:Seminarraum 1 (ICT-Gebäude)
END:VEVENT
BEGIN:VEVENT
UID:26S_703339_4980407@uibk.ac.at
ORGANIZER;CN="LFU:online Universität Innsbruck":MAILTO:Uni-Innsbruck-noreply@uibk.ac.at
SUMMARY:VU Wahrnehmung, Interaktion und Robotik A: Advanced Probabilistic Machine Learning (LV 703339-0 26S)
DESCRIPTION:Lehrveranstaltung 703339 26S, Gruppe 0\nTitel: VU Wahrnehmung, Interaktion und Robotik A: Advanced Probabilistic Machine Learning\nOrt: SR 12\n\nhttps://lfuonline.uibk.ac.at/public/lfuonline_lv.details?sem_id_in=26S&lvnr_id_in=703339\n
CLASS:PUBLIC
DTSTART:20260317T091500Z
DTEND:20260317T104500Z
DTSTAMP:20260423T132308Z
LOCATION:SR 12
END:VEVENT
BEGIN:VEVENT
UID:26S_703339_4980436@uibk.ac.at
ORGANIZER;CN="LFU:online Universität Innsbruck":MAILTO:Uni-Innsbruck-noreply@uibk.ac.at
SUMMARY:VU Wahrnehmung, Interaktion und Robotik A: Advanced Probabilistic Machine Learning (LV 703339-0 26S)
DESCRIPTION:Lehrveranstaltung 703339 26S, Gruppe 0\nTitel: VU Wahrnehmung, Interaktion und Robotik A: Advanced Probabilistic Machine Learning\nOrt: Seminarraum 1 (ICT-Gebäude)\n\nhttps://lfuonline.uibk.ac.at/public/lfuonline_lv.details?sem_id_in=26S&lvnr_id_in=703339\n
CLASS:PUBLIC
DTSTART:20260319T121500Z
DTEND:20260319T130000Z
DTSTAMP:20260423T132308Z
LOCATION:Seminarraum 1 (ICT-Gebäude)
END:VEVENT
BEGIN:VEVENT
UID:26S_703339_4980408@uibk.ac.at
ORGANIZER;CN="LFU:online Universität Innsbruck":MAILTO:Uni-Innsbruck-noreply@uibk.ac.at
SUMMARY:VU Wahrnehmung, Interaktion und Robotik A: Advanced Probabilistic Machine Learning (LV 703339-0 26S)
DESCRIPTION:Lehrveranstaltung 703339 26S, Gruppe 0\nTitel: VU Wahrnehmung, Interaktion und Robotik A: Advanced Probabilistic Machine Learning\nOrt: SR 12\n\nhttps://lfuonline.uibk.ac.at/public/lfuonline_lv.details?sem_id_in=26S&lvnr_id_in=703339\n
CLASS:PUBLIC
DTSTART:20260324T091500Z
DTEND:20260324T104500Z
DTSTAMP:20260423T132308Z
LOCATION:SR 12
END:VEVENT
BEGIN:VEVENT
UID:26S_703339_4980437@uibk.ac.at
ORGANIZER;CN="LFU:online Universität Innsbruck":MAILTO:Uni-Innsbruck-noreply@uibk.ac.at
SUMMARY:VU Wahrnehmung, Interaktion und Robotik A: Advanced Probabilistic Machine Learning (LV 703339-0 26S)
DESCRIPTION:Lehrveranstaltung 703339 26S, Gruppe 0\nTitel: VU Wahrnehmung, Interaktion und Robotik A: Advanced Probabilistic Machine Learning\nOrt: Seminarraum 1 (ICT-Gebäude)\n\nhttps://lfuonline.uibk.ac.at/public/lfuonline_lv.details?sem_id_in=26S&lvnr_id_in=703339\n
CLASS:PUBLIC
DTSTART:20260326T121500Z
DTEND:20260326T130000Z
DTSTAMP:20260423T132308Z
LOCATION:Seminarraum 1 (ICT-Gebäude)
END:VEVENT
BEGIN:VEVENT
UID:26S_703339_4980409@uibk.ac.at
ORGANIZER;CN="LFU:online Universität Innsbruck":MAILTO:Uni-Innsbruck-noreply@uibk.ac.at
SUMMARY:VU Wahrnehmung, Interaktion und Robotik A: Advanced Probabilistic Machine Learning (LV 703339-0 26S)
DESCRIPTION:Lehrveranstaltung 703339 26S, Gruppe 0\nTitel: VU Wahrnehmung, Interaktion und Robotik A: Advanced Probabilistic Machine Learning\nOrt: SR 12\n\nhttps://lfuonline.uibk.ac.at/public/lfuonline_lv.details?sem_id_in=26S&lvnr_id_in=703339\n
CLASS:PUBLIC
DTSTART:20260414T081500Z
DTEND:20260414T094500Z
DTSTAMP:20260423T132308Z
LOCATION:SR 12
END:VEVENT
BEGIN:VEVENT
UID:26S_703339_4980438@uibk.ac.at
ORGANIZER;CN="LFU:online Universität Innsbruck":MAILTO:Uni-Innsbruck-noreply@uibk.ac.at
SUMMARY:VU Wahrnehmung, Interaktion und Robotik A: Advanced Probabilistic Machine Learning (LV 703339-0 26S)
DESCRIPTION:Lehrveranstaltung 703339 26S, Gruppe 0\nTitel: VU Wahrnehmung, Interaktion und Robotik A: Advanced Probabilistic Machine Learning\nOrt: Seminarraum 1 (ICT-Gebäude)\n\nhttps://lfuonline.uibk.ac.at/public/lfuonline_lv.details?sem_id_in=26S&lvnr_id_in=703339\n
CLASS:PUBLIC
DTSTART:20260416T111500Z
DTEND:20260416T120000Z
DTSTAMP:20260423T132308Z
LOCATION:Seminarraum 1 (ICT-Gebäude)
END:VEVENT
BEGIN:VEVENT
UID:26S_703339_4980410@uibk.ac.at
ORGANIZER;CN="LFU:online Universität Innsbruck":MAILTO:Uni-Innsbruck-noreply@uibk.ac.at
SUMMARY:VU Wahrnehmung, Interaktion und Robotik A: Advanced Probabilistic Machine Learning (LV 703339-0 26S)
DESCRIPTION:Lehrveranstaltung 703339 26S, Gruppe 0\nTitel: VU Wahrnehmung, Interaktion und Robotik A: Advanced Probabilistic Machine Learning\nOrt: SR 12\n\nhttps://lfuonline.uibk.ac.at/public/lfuonline_lv.details?sem_id_in=26S&lvnr_id_in=703339\n
CLASS:PUBLIC
DTSTART:20260421T081500Z
DTEND:20260421T094500Z
DTSTAMP:20260423T132308Z
LOCATION:SR 12
END:VEVENT
BEGIN:VEVENT
UID:26S_703339_4980439@uibk.ac.at
ORGANIZER;CN="LFU:online Universität Innsbruck":MAILTO:Uni-Innsbruck-noreply@uibk.ac.at
SUMMARY:VU Wahrnehmung, Interaktion und Robotik A: Advanced Probabilistic Machine Learning (LV 703339-0 26S)
DESCRIPTION:Lehrveranstaltung 703339 26S, Gruppe 0\nTitel: VU Wahrnehmung, Interaktion und Robotik A: Advanced Probabilistic Machine Learning\nOrt: Seminarraum 1 (ICT-Gebäude)\n\nhttps://lfuonline.uibk.ac.at/public/lfuonline_lv.details?sem_id_in=26S&lvnr_id_in=703339\n
CLASS:PUBLIC
DTSTART:20260423T111500Z
DTEND:20260423T120000Z
DTSTAMP:20260423T132308Z
LOCATION:Seminarraum 1 (ICT-Gebäude)
END:VEVENT
BEGIN:VEVENT
UID:26S_703339_4980411@uibk.ac.at
ORGANIZER;CN="LFU:online Universität Innsbruck":MAILTO:Uni-Innsbruck-noreply@uibk.ac.at
SUMMARY:VU Wahrnehmung, Interaktion und Robotik A: Advanced Probabilistic Machine Learning (LV 703339-0 26S)
DESCRIPTION:Lehrveranstaltung 703339 26S, Gruppe 0\nTitel: VU Wahrnehmung, Interaktion und Robotik A: Advanced Probabilistic Machine Learning\nOrt: SR 12\n\nhttps://lfuonline.uibk.ac.at/public/lfuonline_lv.details?sem_id_in=26S&lvnr_id_in=703339\n
CLASS:PUBLIC
DTSTART:20260428T081500Z
DTEND:20260428T094500Z
DTSTAMP:20260423T132308Z
LOCATION:SR 12
END:VEVENT
BEGIN:VEVENT
UID:26S_703339_4980440@uibk.ac.at
ORGANIZER;CN="LFU:online Universität Innsbruck":MAILTO:Uni-Innsbruck-noreply@uibk.ac.at
SUMMARY:VU Wahrnehmung, Interaktion und Robotik A: Advanced Probabilistic Machine Learning (LV 703339-0 26S)
DESCRIPTION:Lehrveranstaltung 703339 26S, Gruppe 0\nTitel: VU Wahrnehmung, Interaktion und Robotik A: Advanced Probabilistic Machine Learning\nOrt: Seminarraum 1 (ICT-Gebäude)\n\nhttps://lfuonline.uibk.ac.at/public/lfuonline_lv.details?sem_id_in=26S&lvnr_id_in=703339\n
CLASS:PUBLIC
DTSTART:20260430T111500Z
DTEND:20260430T120000Z
DTSTAMP:20260423T132308Z
LOCATION:Seminarraum 1 (ICT-Gebäude)
END:VEVENT
BEGIN:VEVENT
UID:26S_703339_4980412@uibk.ac.at
ORGANIZER;CN="LFU:online Universität Innsbruck":MAILTO:Uni-Innsbruck-noreply@uibk.ac.at
SUMMARY:VU Wahrnehmung, Interaktion und Robotik A: Advanced Probabilistic Machine Learning (LV 703339-0 26S)
DESCRIPTION:Lehrveranstaltung 703339 26S, Gruppe 0\nTitel: VU Wahrnehmung, Interaktion und Robotik A: Advanced Probabilistic Machine Learning\nOrt: SR 12\n\nhttps://lfuonline.uibk.ac.at/public/lfuonline_lv.details?sem_id_in=26S&lvnr_id_in=703339\n
CLASS:PUBLIC
DTSTART:20260505T081500Z
DTEND:20260505T094500Z
DTSTAMP:20260423T132308Z
LOCATION:SR 12
END:VEVENT
BEGIN:VEVENT
UID:26S_703339_4980441@uibk.ac.at
ORGANIZER;CN="LFU:online Universität Innsbruck":MAILTO:Uni-Innsbruck-noreply@uibk.ac.at
SUMMARY:VU Wahrnehmung, Interaktion und Robotik A: Advanced Probabilistic Machine Learning (LV 703339-0 26S)
DESCRIPTION:Lehrveranstaltung 703339 26S, Gruppe 0\nTitel: VU Wahrnehmung, Interaktion und Robotik A: Advanced Probabilistic Machine Learning\nOrt: Seminarraum 1 (ICT-Gebäude)\n\nhttps://lfuonline.uibk.ac.at/public/lfuonline_lv.details?sem_id_in=26S&lvnr_id_in=703339\n
CLASS:PUBLIC
DTSTART:20260507T111500Z
DTEND:20260507T120000Z
DTSTAMP:20260423T132308Z
LOCATION:Seminarraum 1 (ICT-Gebäude)
END:VEVENT
BEGIN:VEVENT
UID:26S_703339_4980413@uibk.ac.at
ORGANIZER;CN="LFU:online Universität Innsbruck":MAILTO:Uni-Innsbruck-noreply@uibk.ac.at
SUMMARY:VU Wahrnehmung, Interaktion und Robotik A: Advanced Probabilistic Machine Learning (LV 703339-0 26S)
DESCRIPTION:Lehrveranstaltung 703339 26S, Gruppe 0\nTitel: VU Wahrnehmung, Interaktion und Robotik A: Advanced Probabilistic Machine Learning\nOrt: SR 12\n\nhttps://lfuonline.uibk.ac.at/public/lfuonline_lv.details?sem_id_in=26S&lvnr_id_in=703339\n
CLASS:PUBLIC
DTSTART:20260512T081500Z
DTEND:20260512T094500Z
DTSTAMP:20260423T132308Z
LOCATION:SR 12
END:VEVENT
BEGIN:VEVENT
UID:26S_703339_4980414@uibk.ac.at
ORGANIZER;CN="LFU:online Universität Innsbruck":MAILTO:Uni-Innsbruck-noreply@uibk.ac.at
SUMMARY:VU Wahrnehmung, Interaktion und Robotik A: Advanced Probabilistic Machine Learning (LV 703339-0 26S)
DESCRIPTION:Lehrveranstaltung 703339 26S, Gruppe 0\nTitel: VU Wahrnehmung, Interaktion und Robotik A: Advanced Probabilistic Machine Learning\nOrt: SR 12\n\nhttps://lfuonline.uibk.ac.at/public/lfuonline_lv.details?sem_id_in=26S&lvnr_id_in=703339\n
CLASS:PUBLIC
DTSTART:20260519T081500Z
DTEND:20260519T094500Z
DTSTAMP:20260423T132308Z
LOCATION:SR 12
END:VEVENT
BEGIN:VEVENT
UID:26S_703339_4980442@uibk.ac.at
ORGANIZER;CN="LFU:online Universität Innsbruck":MAILTO:Uni-Innsbruck-noreply@uibk.ac.at
SUMMARY:VU Wahrnehmung, Interaktion und Robotik A: Advanced Probabilistic Machine Learning (LV 703339-0 26S)
DESCRIPTION:Lehrveranstaltung 703339 26S, Gruppe 0\nTitel: VU Wahrnehmung, Interaktion und Robotik A: Advanced Probabilistic Machine Learning\nOrt: Seminarraum 1 (ICT-Gebäude)\n\nhttps://lfuonline.uibk.ac.at/public/lfuonline_lv.details?sem_id_in=26S&lvnr_id_in=703339\n
CLASS:PUBLIC
DTSTART:20260521T111500Z
DTEND:20260521T120000Z
DTSTAMP:20260423T132308Z
LOCATION:Seminarraum 1 (ICT-Gebäude)
END:VEVENT
BEGIN:VEVENT
UID:26S_703339_4980415@uibk.ac.at
ORGANIZER;CN="LFU:online Universität Innsbruck":MAILTO:Uni-Innsbruck-noreply@uibk.ac.at
SUMMARY:VU Wahrnehmung, Interaktion und Robotik A: Advanced Probabilistic Machine Learning (LV 703339-0 26S)
DESCRIPTION:Lehrveranstaltung 703339 26S, Gruppe 0\nTitel: VU Wahrnehmung, Interaktion und Robotik A: Advanced Probabilistic Machine Learning\nOrt: SR 12\n\nhttps://lfuonline.uibk.ac.at/public/lfuonline_lv.details?sem_id_in=26S&lvnr_id_in=703339\n
CLASS:PUBLIC
DTSTART:20260526T081500Z
DTEND:20260526T094500Z
DTSTAMP:20260423T132308Z
LOCATION:SR 12
END:VEVENT
BEGIN:VEVENT
UID:26S_703339_4980443@uibk.ac.at
ORGANIZER;CN="LFU:online Universität Innsbruck":MAILTO:Uni-Innsbruck-noreply@uibk.ac.at
SUMMARY:VU Wahrnehmung, Interaktion und Robotik A: Advanced Probabilistic Machine Learning (LV 703339-0 26S)
DESCRIPTION:Lehrveranstaltung 703339 26S, Gruppe 0\nTitel: VU Wahrnehmung, Interaktion und Robotik A: Advanced Probabilistic Machine Learning\nOrt: Seminarraum 1 (ICT-Gebäude)\n\nhttps://lfuonline.uibk.ac.at/public/lfuonline_lv.details?sem_id_in=26S&lvnr_id_in=703339\n
CLASS:PUBLIC
DTSTART:20260528T111500Z
DTEND:20260528T120000Z
DTSTAMP:20260423T132308Z
LOCATION:Seminarraum 1 (ICT-Gebäude)
END:VEVENT
BEGIN:VEVENT
UID:26S_703339_4980416@uibk.ac.at
ORGANIZER;CN="LFU:online Universität Innsbruck":MAILTO:Uni-Innsbruck-noreply@uibk.ac.at
SUMMARY:VU Wahrnehmung, Interaktion und Robotik A: Advanced Probabilistic Machine Learning (LV 703339-0 26S)
DESCRIPTION:Lehrveranstaltung 703339 26S, Gruppe 0\nTitel: VU Wahrnehmung, Interaktion und Robotik A: Advanced Probabilistic Machine Learning\nOrt: SR 12\n\nhttps://lfuonline.uibk.ac.at/public/lfuonline_lv.details?sem_id_in=26S&lvnr_id_in=703339\n
CLASS:PUBLIC
DTSTART:20260602T081500Z
DTEND:20260602T094500Z
DTSTAMP:20260423T132308Z
LOCATION:SR 12
END:VEVENT
BEGIN:VEVENT
UID:26S_703339_4980417@uibk.ac.at
ORGANIZER;CN="LFU:online Universität Innsbruck":MAILTO:Uni-Innsbruck-noreply@uibk.ac.at
SUMMARY:VU Wahrnehmung, Interaktion und Robotik A: Advanced Probabilistic Machine Learning (LV 703339-0 26S)
DESCRIPTION:Lehrveranstaltung 703339 26S, Gruppe 0\nTitel: VU Wahrnehmung, Interaktion und Robotik A: Advanced Probabilistic Machine Learning\nOrt: SR 12\n\nhttps://lfuonline.uibk.ac.at/public/lfuonline_lv.details?sem_id_in=26S&lvnr_id_in=703339\n
CLASS:PUBLIC
DTSTART:20260609T081500Z
DTEND:20260609T094500Z
DTSTAMP:20260423T132308Z
LOCATION:SR 12
END:VEVENT
BEGIN:VEVENT
UID:26S_703339_4980444@uibk.ac.at
ORGANIZER;CN="LFU:online Universität Innsbruck":MAILTO:Uni-Innsbruck-noreply@uibk.ac.at
SUMMARY:VU Wahrnehmung, Interaktion und Robotik A: Advanced Probabilistic Machine Learning (LV 703339-0 26S)
DESCRIPTION:Lehrveranstaltung 703339 26S, Gruppe 0\nTitel: VU Wahrnehmung, Interaktion und Robotik A: Advanced Probabilistic Machine Learning\nOrt: Seminarraum 1 (ICT-Gebäude)\n\nhttps://lfuonline.uibk.ac.at/public/lfuonline_lv.details?sem_id_in=26S&lvnr_id_in=703339\n
CLASS:PUBLIC
DTSTART:20260611T111500Z
DTEND:20260611T120000Z
DTSTAMP:20260423T132308Z
LOCATION:Seminarraum 1 (ICT-Gebäude)
END:VEVENT
BEGIN:VEVENT
UID:26S_703339_4980418@uibk.ac.at
ORGANIZER;CN="LFU:online Universität Innsbruck":MAILTO:Uni-Innsbruck-noreply@uibk.ac.at
SUMMARY:VU Wahrnehmung, Interaktion und Robotik A: Advanced Probabilistic Machine Learning (LV 703339-0 26S)
DESCRIPTION:Lehrveranstaltung 703339 26S, Gruppe 0\nTitel: VU Wahrnehmung, Interaktion und Robotik A: Advanced Probabilistic Machine Learning\nOrt: SR 12\n\nhttps://lfuonline.uibk.ac.at/public/lfuonline_lv.details?sem_id_in=26S&lvnr_id_in=703339\n
CLASS:PUBLIC
DTSTART:20260616T081500Z
DTEND:20260616T094500Z
DTSTAMP:20260423T132308Z
LOCATION:SR 12
END:VEVENT
BEGIN:VEVENT
UID:26S_703339_4980445@uibk.ac.at
ORGANIZER;CN="LFU:online Universität Innsbruck":MAILTO:Uni-Innsbruck-noreply@uibk.ac.at
SUMMARY:VU Wahrnehmung, Interaktion und Robotik A: Advanced Probabilistic Machine Learning (LV 703339-0 26S)
DESCRIPTION:Lehrveranstaltung 703339 26S, Gruppe 0\nTitel: VU Wahrnehmung, Interaktion und Robotik A: Advanced Probabilistic Machine Learning\nOrt: Seminarraum 1 (ICT-Gebäude)\n\nhttps://lfuonline.uibk.ac.at/public/lfuonline_lv.details?sem_id_in=26S&lvnr_id_in=703339\n
CLASS:PUBLIC
DTSTART:20260618T111500Z
DTEND:20260618T120000Z
DTSTAMP:20260423T132308Z
LOCATION:Seminarraum 1 (ICT-Gebäude)
END:VEVENT
BEGIN:VEVENT
UID:26S_703339_4980419@uibk.ac.at
ORGANIZER;CN="LFU:online Universität Innsbruck":MAILTO:Uni-Innsbruck-noreply@uibk.ac.at
SUMMARY:VU Wahrnehmung, Interaktion und Robotik A: Advanced Probabilistic Machine Learning (LV 703339-0 26S)
DESCRIPTION:Lehrveranstaltung 703339 26S, Gruppe 0\nTitel: VU Wahrnehmung, Interaktion und Robotik A: Advanced Probabilistic Machine Learning\nOrt: SR 12\n\nhttps://lfuonline.uibk.ac.at/public/lfuonline_lv.details?sem_id_in=26S&lvnr_id_in=703339\n
CLASS:PUBLIC
DTSTART:20260623T081500Z
DTEND:20260623T094500Z
DTSTAMP:20260423T132308Z
LOCATION:SR 12
END:VEVENT
BEGIN:VEVENT
UID:26S_703339_4980446@uibk.ac.at
ORGANIZER;CN="LFU:online Universität Innsbruck":MAILTO:Uni-Innsbruck-noreply@uibk.ac.at
SUMMARY:VU Wahrnehmung, Interaktion und Robotik A: Advanced Probabilistic Machine Learning (LV 703339-0 26S)
DESCRIPTION:Lehrveranstaltung 703339 26S, Gruppe 0\nTitel: VU Wahrnehmung, Interaktion und Robotik A: Advanced Probabilistic Machine Learning\nOrt: Seminarraum 1 (ICT-Gebäude)\n\nhttps://lfuonline.uibk.ac.at/public/lfuonline_lv.details?sem_id_in=26S&lvnr_id_in=703339\n
CLASS:PUBLIC
DTSTART:20260625T111500Z
DTEND:20260625T120000Z
DTSTAMP:20260423T132308Z
LOCATION:Seminarraum 1 (ICT-Gebäude)
END:VEVENT
END:VCALENDAR