BEGIN:VCALENDAR
VERSION:2.0
PRODID:-//Universität Innsbruck//LFU:online//DE
METHOD:PUBLISH
BEGIN:VEVENT
UID:26S_703371_4970116@uibk.ac.at
ORGANIZER;CN="LFU:online Universität Innsbruck":MAILTO:Uni-Innsbruck-noreply@uibk.ac.at
SUMMARY:VU Ausgewählte Kapitel in Wahrnehmung, Interaktion und Robotik B: Mixed Reality (LV 703371-0 26S)
DESCRIPTION:Lehrveranstaltung 703371 26S, Gruppe 0\nTitel: VU Ausgewählte Kapitel in Wahrnehmung, Interaktion und Robotik B: Mixed Reality\nOrt: Seminarraum 1 (ICT-Gebäude)\n\nhttps://lfuonline.uibk.ac.at/public/lfuonline_lv.details?sem_id_in=26S&lvnr_id_in=703371\n
CLASS:PUBLIC
DTSTART:20260423T081500Z
DTEND:20260423T094500Z
DTSTAMP:20260425T105746Z
LOCATION:Seminarraum 1 (ICT-Gebäude)
END:VEVENT
BEGIN:VEVENT
UID:26S_703371_4970117@uibk.ac.at
ORGANIZER;CN="LFU:online Universität Innsbruck":MAILTO:Uni-Innsbruck-noreply@uibk.ac.at
SUMMARY:VU Ausgewählte Kapitel in Wahrnehmung, Interaktion und Robotik B: Mixed Reality (LV 703371-0 26S)
DESCRIPTION:Lehrveranstaltung 703371 26S, Gruppe 0\nTitel: VU Ausgewählte Kapitel in Wahrnehmung, Interaktion und Robotik B: Mixed Reality\nOrt: Seminarraum 1 (ICT-Gebäude)\n\nhttps://lfuonline.uibk.ac.at/public/lfuonline_lv.details?sem_id_in=26S&lvnr_id_in=703371\n
CLASS:PUBLIC
DTSTART:20260430T081500Z
DTEND:20260430T094500Z
DTSTAMP:20260425T105746Z
LOCATION:Seminarraum 1 (ICT-Gebäude)
END:VEVENT
BEGIN:VEVENT
UID:26S_703371_4970118@uibk.ac.at
ORGANIZER;CN="LFU:online Universität Innsbruck":MAILTO:Uni-Innsbruck-noreply@uibk.ac.at
SUMMARY:VU Ausgewählte Kapitel in Wahrnehmung, Interaktion und Robotik B: Mixed Reality (LV 703371-0 26S)
DESCRIPTION:Lehrveranstaltung 703371 26S, Gruppe 0\nTitel: VU Ausgewählte Kapitel in Wahrnehmung, Interaktion und Robotik B: Mixed Reality\nOrt: Seminarraum 1 (ICT-Gebäude)\n\nhttps://lfuonline.uibk.ac.at/public/lfuonline_lv.details?sem_id_in=26S&lvnr_id_in=703371\n
CLASS:PUBLIC
DTSTART:20260507T081500Z
DTEND:20260507T094500Z
DTSTAMP:20260425T105746Z
LOCATION:Seminarraum 1 (ICT-Gebäude)
END:VEVENT
BEGIN:VEVENT
UID:26S_703371_4970119@uibk.ac.at
ORGANIZER;CN="LFU:online Universität Innsbruck":MAILTO:Uni-Innsbruck-noreply@uibk.ac.at
SUMMARY:VU Ausgewählte Kapitel in Wahrnehmung, Interaktion und Robotik B: Mixed Reality (LV 703371-0 26S)
DESCRIPTION:Lehrveranstaltung 703371 26S, Gruppe 0\nTitel: VU Ausgewählte Kapitel in Wahrnehmung, Interaktion und Robotik B: Mixed Reality\nOrt: Seminarraum 1 (ICT-Gebäude)\n\nhttps://lfuonline.uibk.ac.at/public/lfuonline_lv.details?sem_id_in=26S&lvnr_id_in=703371\n
CLASS:PUBLIC
DTSTART:20260521T081500Z
DTEND:20260521T094500Z
DTSTAMP:20260425T105746Z
LOCATION:Seminarraum 1 (ICT-Gebäude)
END:VEVENT
BEGIN:VEVENT
UID:26S_703371_4970120@uibk.ac.at
ORGANIZER;CN="LFU:online Universität Innsbruck":MAILTO:Uni-Innsbruck-noreply@uibk.ac.at
SUMMARY:VU Ausgewählte Kapitel in Wahrnehmung, Interaktion und Robotik B: Mixed Reality (LV 703371-0 26S)
DESCRIPTION:Lehrveranstaltung 703371 26S, Gruppe 0\nTitel: VU Ausgewählte Kapitel in Wahrnehmung, Interaktion und Robotik B: Mixed Reality\nOrt: Seminarraum 1 (ICT-Gebäude)\n\nhttps://lfuonline.uibk.ac.at/public/lfuonline_lv.details?sem_id_in=26S&lvnr_id_in=703371\n
CLASS:PUBLIC
DTSTART:20260528T081500Z
DTEND:20260528T094500Z
DTSTAMP:20260425T105746Z
LOCATION:Seminarraum 1 (ICT-Gebäude)
END:VEVENT
BEGIN:VEVENT
UID:26S_703371_4970121@uibk.ac.at
ORGANIZER;CN="LFU:online Universität Innsbruck":MAILTO:Uni-Innsbruck-noreply@uibk.ac.at
SUMMARY:VU Ausgewählte Kapitel in Wahrnehmung, Interaktion und Robotik B: Mixed Reality (LV 703371-0 26S)
DESCRIPTION:Lehrveranstaltung 703371 26S, Gruppe 0\nTitel: VU Ausgewählte Kapitel in Wahrnehmung, Interaktion und Robotik B: Mixed Reality\nOrt: Seminarraum 1 (ICT-Gebäude)\n\nhttps://lfuonline.uibk.ac.at/public/lfuonline_lv.details?sem_id_in=26S&lvnr_id_in=703371\n
CLASS:PUBLIC
DTSTART:20260611T081500Z
DTEND:20260611T094500Z
DTSTAMP:20260425T105746Z
LOCATION:Seminarraum 1 (ICT-Gebäude)
END:VEVENT
BEGIN:VEVENT
UID:26S_703371_4970122@uibk.ac.at
ORGANIZER;CN="LFU:online Universität Innsbruck":MAILTO:Uni-Innsbruck-noreply@uibk.ac.at
SUMMARY:VU Ausgewählte Kapitel in Wahrnehmung, Interaktion und Robotik B: Mixed Reality (LV 703371-0 26S)
DESCRIPTION:Lehrveranstaltung 703371 26S, Gruppe 0\nTitel: VU Ausgewählte Kapitel in Wahrnehmung, Interaktion und Robotik B: Mixed Reality\nOrt: Seminarraum 1 (ICT-Gebäude)\n\nhttps://lfuonline.uibk.ac.at/public/lfuonline_lv.details?sem_id_in=26S&lvnr_id_in=703371\n
CLASS:PUBLIC
DTSTART:20260618T081500Z
DTEND:20260618T094500Z
DTSTAMP:20260425T105746Z
LOCATION:Seminarraum 1 (ICT-Gebäude)
END:VEVENT
BEGIN:VEVENT
UID:26S_703371_4970123@uibk.ac.at
ORGANIZER;CN="LFU:online Universität Innsbruck":MAILTO:Uni-Innsbruck-noreply@uibk.ac.at
SUMMARY:VU Ausgewählte Kapitel in Wahrnehmung, Interaktion und Robotik B: Mixed Reality (LV 703371-0 26S)
DESCRIPTION:Lehrveranstaltung 703371 26S, Gruppe 0\nTitel: VU Ausgewählte Kapitel in Wahrnehmung, Interaktion und Robotik B: Mixed Reality\nOrt: Seminarraum 1 (ICT-Gebäude)\n\nhttps://lfuonline.uibk.ac.at/public/lfuonline_lv.details?sem_id_in=26S&lvnr_id_in=703371\n
CLASS:PUBLIC
DTSTART:20260625T081500Z
DTEND:20260625T094500Z
DTSTAMP:20260425T105746Z
LOCATION:Seminarraum 1 (ICT-Gebäude)
END:VEVENT
BEGIN:VEVENT
UID:26S_703371_5057464@uibk.ac.at
ORGANIZER;CN="LFU:online Universität Innsbruck":MAILTO:Uni-Innsbruck-noreply@uibk.ac.at
SUMMARY:VU Ausgewählte Kapitel in Wahrnehmung, Interaktion und Robotik B: Mixed Reality (LV 703371-0 26S)
DESCRIPTION:Lehrveranstaltung 703371 26S, Gruppe 0\nTitel: VU Ausgewählte Kapitel in Wahrnehmung, Interaktion und Robotik B: Mixed Reality\nOrt: 3W04\n\nhttps://lfuonline.uibk.ac.at/public/lfuonline_lv.details?sem_id_in=26S&lvnr_id_in=703371\n
CLASS:PUBLIC
DTSTART:20260629T070000Z
DTEND:20260629T150000Z
DTSTAMP:20260425T105746Z
LOCATION:3W04
END:VEVENT
BEGIN:VEVENT
UID:26S_703371_5057465@uibk.ac.at
ORGANIZER;CN="LFU:online Universität Innsbruck":MAILTO:Uni-Innsbruck-noreply@uibk.ac.at
SUMMARY:VU Ausgewählte Kapitel in Wahrnehmung, Interaktion und Robotik B: Mixed Reality (LV 703371-0 26S)
DESCRIPTION:Lehrveranstaltung 703371 26S, Gruppe 0\nTitel: VU Ausgewählte Kapitel in Wahrnehmung, Interaktion und Robotik B: Mixed Reality\nOrt: 3W04\n\nhttps://lfuonline.uibk.ac.at/public/lfuonline_lv.details?sem_id_in=26S&lvnr_id_in=703371\n
CLASS:PUBLIC
DTSTART:20260630T070000Z
DTEND:20260630T150000Z
DTSTAMP:20260425T105746Z
LOCATION:3W04
END:VEVENT
BEGIN:VEVENT
UID:26S_703371_5057466@uibk.ac.at
ORGANIZER;CN="LFU:online Universität Innsbruck":MAILTO:Uni-Innsbruck-noreply@uibk.ac.at
SUMMARY:VU Ausgewählte Kapitel in Wahrnehmung, Interaktion und Robotik B: Mixed Reality (LV 703371-0 26S)
DESCRIPTION:Lehrveranstaltung 703371 26S, Gruppe 0\nTitel: VU Ausgewählte Kapitel in Wahrnehmung, Interaktion und Robotik B: Mixed Reality\nOrt: 3W04\n\nhttps://lfuonline.uibk.ac.at/public/lfuonline_lv.details?sem_id_in=26S&lvnr_id_in=703371\n
CLASS:PUBLIC
DTSTART:20260701T070000Z
DTEND:20260701T150000Z
DTSTAMP:20260425T105746Z
LOCATION:3W04
END:VEVENT
BEGIN:VEVENT
UID:26S_703371_5057467@uibk.ac.at
ORGANIZER;CN="LFU:online Universität Innsbruck":MAILTO:Uni-Innsbruck-noreply@uibk.ac.at
SUMMARY:VU Ausgewählte Kapitel in Wahrnehmung, Interaktion und Robotik B: Mixed Reality (LV 703371-0 26S)
DESCRIPTION:Lehrveranstaltung 703371 26S, Gruppe 0\nTitel: VU Ausgewählte Kapitel in Wahrnehmung, Interaktion und Robotik B: Mixed Reality\nOrt: 3W04\n\nhttps://lfuonline.uibk.ac.at/public/lfuonline_lv.details?sem_id_in=26S&lvnr_id_in=703371\n
CLASS:PUBLIC
DTSTART:20260702T070000Z
DTEND:20260702T150000Z
DTSTAMP:20260425T105746Z
LOCATION:3W04
END:VEVENT
BEGIN:VEVENT
UID:26S_703371_5057468@uibk.ac.at
ORGANIZER;CN="LFU:online Universität Innsbruck":MAILTO:Uni-Innsbruck-noreply@uibk.ac.at
SUMMARY:VU Ausgewählte Kapitel in Wahrnehmung, Interaktion und Robotik B: Mixed Reality (LV 703371-0 26S)
DESCRIPTION:Lehrveranstaltung 703371 26S, Gruppe 0\nTitel: VU Ausgewählte Kapitel in Wahrnehmung, Interaktion und Robotik B: Mixed Reality\nOrt: 3W04\n\nhttps://lfuonline.uibk.ac.at/public/lfuonline_lv.details?sem_id_in=26S&lvnr_id_in=703371\n
CLASS:PUBLIC
DTSTART:20260703T070000Z
DTEND:20260703T150000Z
DTSTAMP:20260425T105746Z
LOCATION:3W04
END:VEVENT
END:VCALENDAR