BEGIN:VCALENDAR
VERSION:2.0
PRODID:-//Universität Innsbruck//LFU:online//DE
METHOD:PUBLISH
BEGIN:VEVENT
UID:26S_703515_4993303@uibk.ac.at
ORGANIZER;CN="LFU:online Universität Innsbruck":MAILTO:Uni-Innsbruck-noreply@uibk.ac.at
SUMMARY:VU Fortgeschrittenes Data Management (LV 703515-0 26S)
DESCRIPTION:Lehrveranstaltung 703515 26S, Gruppe 0\nTitel: VU Fortgeschrittenes Data Management\nOrt: SR 12\n\nhttps://lfuonline.uibk.ac.at/public/lfuonline_lv.details?sem_id_in=26S&lvnr_id_in=703515\n
CLASS:PUBLIC
DTSTART:20260304T071500Z
DTEND:20260304T094500Z
DTSTAMP:20260423T014359Z
LOCATION:SR 12
END:VEVENT
BEGIN:VEVENT
UID:26S_703515_4993304@uibk.ac.at
ORGANIZER;CN="LFU:online Universität Innsbruck":MAILTO:Uni-Innsbruck-noreply@uibk.ac.at
SUMMARY:VU Fortgeschrittenes Data Management (LV 703515-0 26S)
DESCRIPTION:Lehrveranstaltung 703515 26S, Gruppe 0\nTitel: VU Fortgeschrittenes Data Management\nOrt: SR 12\n\nhttps://lfuonline.uibk.ac.at/public/lfuonline_lv.details?sem_id_in=26S&lvnr_id_in=703515\n
CLASS:PUBLIC
DTSTART:20260311T071500Z
DTEND:20260311T094500Z
DTSTAMP:20260423T014359Z
LOCATION:SR 12
END:VEVENT
BEGIN:VEVENT
UID:26S_703515_4993305@uibk.ac.at
ORGANIZER;CN="LFU:online Universität Innsbruck":MAILTO:Uni-Innsbruck-noreply@uibk.ac.at
SUMMARY:VU Fortgeschrittenes Data Management (LV 703515-0 26S)
DESCRIPTION:Lehrveranstaltung 703515 26S, Gruppe 0\nTitel: VU Fortgeschrittenes Data Management\nOrt: SR 12\n\nhttps://lfuonline.uibk.ac.at/public/lfuonline_lv.details?sem_id_in=26S&lvnr_id_in=703515\n
CLASS:PUBLIC
DTSTART:20260318T071500Z
DTEND:20260318T094500Z
DTSTAMP:20260423T014359Z
LOCATION:SR 12
END:VEVENT
BEGIN:VEVENT
UID:26S_703515_4993306@uibk.ac.at
ORGANIZER;CN="LFU:online Universität Innsbruck":MAILTO:Uni-Innsbruck-noreply@uibk.ac.at
SUMMARY:VU Fortgeschrittenes Data Management (LV 703515-0 26S)
DESCRIPTION:Lehrveranstaltung 703515 26S, Gruppe 0\nTitel: VU Fortgeschrittenes Data Management\nOrt: SR 12\n\nhttps://lfuonline.uibk.ac.at/public/lfuonline_lv.details?sem_id_in=26S&lvnr_id_in=703515\n
CLASS:PUBLIC
DTSTART:20260325T071500Z
DTEND:20260325T094500Z
DTSTAMP:20260423T014359Z
LOCATION:SR 12
END:VEVENT
BEGIN:VEVENT
UID:26S_703515_4993307@uibk.ac.at
ORGANIZER;CN="LFU:online Universität Innsbruck":MAILTO:Uni-Innsbruck-noreply@uibk.ac.at
SUMMARY:VU Fortgeschrittenes Data Management (LV 703515-0 26S)
DESCRIPTION:Lehrveranstaltung 703515 26S, Gruppe 0\nTitel: VU Fortgeschrittenes Data Management\nOrt: SR 12\n\nhttps://lfuonline.uibk.ac.at/public/lfuonline_lv.details?sem_id_in=26S&lvnr_id_in=703515\n
CLASS:PUBLIC
DTSTART:20260415T061500Z
DTEND:20260415T084500Z
DTSTAMP:20260423T014359Z
LOCATION:SR 12
END:VEVENT
BEGIN:VEVENT
UID:26S_703515_4993309@uibk.ac.at
ORGANIZER;CN="LFU:online Universität Innsbruck":MAILTO:Uni-Innsbruck-noreply@uibk.ac.at
SUMMARY:VU Fortgeschrittenes Data Management (LV 703515-0 26S)
DESCRIPTION:Lehrveranstaltung 703515 26S, Gruppe 0\nTitel: VU Fortgeschrittenes Data Management\nOrt: SR 12\n\nhttps://lfuonline.uibk.ac.at/public/lfuonline_lv.details?sem_id_in=26S&lvnr_id_in=703515\n
CLASS:PUBLIC
DTSTART:20260429T061500Z
DTEND:20260429T084500Z
DTSTAMP:20260423T014359Z
LOCATION:SR 12
END:VEVENT
BEGIN:VEVENT
UID:26S_703515_4993311@uibk.ac.at
ORGANIZER;CN="LFU:online Universität Innsbruck":MAILTO:Uni-Innsbruck-noreply@uibk.ac.at
SUMMARY:VU Fortgeschrittenes Data Management (LV 703515-0 26S)
DESCRIPTION:Lehrveranstaltung 703515 26S, Gruppe 0\nTitel: VU Fortgeschrittenes Data Management\nOrt: SR 12\n\nhttps://lfuonline.uibk.ac.at/public/lfuonline_lv.details?sem_id_in=26S&lvnr_id_in=703515\n
CLASS:PUBLIC
DTSTART:20260513T061500Z
DTEND:20260513T084500Z
DTSTAMP:20260423T014359Z
LOCATION:SR 12
END:VEVENT
BEGIN:VEVENT
UID:26S_703515_4993312@uibk.ac.at
ORGANIZER;CN="LFU:online Universität Innsbruck":MAILTO:Uni-Innsbruck-noreply@uibk.ac.at
SUMMARY:VU Fortgeschrittenes Data Management (LV 703515-0 26S)
DESCRIPTION:Lehrveranstaltung 703515 26S, Gruppe 0\nTitel: VU Fortgeschrittenes Data Management\nOrt: SR 12\n\nhttps://lfuonline.uibk.ac.at/public/lfuonline_lv.details?sem_id_in=26S&lvnr_id_in=703515\n
CLASS:PUBLIC
DTSTART:20260520T061500Z
DTEND:20260520T084500Z
DTSTAMP:20260423T014359Z
LOCATION:SR 12
END:VEVENT
BEGIN:VEVENT
UID:26S_703515_4993313@uibk.ac.at
ORGANIZER;CN="LFU:online Universität Innsbruck":MAILTO:Uni-Innsbruck-noreply@uibk.ac.at
SUMMARY:VU Fortgeschrittenes Data Management (LV 703515-0 26S)
DESCRIPTION:Lehrveranstaltung 703515 26S, Gruppe 0\nTitel: VU Fortgeschrittenes Data Management\nOrt: SR 12\n\nhttps://lfuonline.uibk.ac.at/public/lfuonline_lv.details?sem_id_in=26S&lvnr_id_in=703515\n
CLASS:PUBLIC
DTSTART:20260527T061500Z
DTEND:20260527T084500Z
DTSTAMP:20260423T014359Z
LOCATION:SR 12
END:VEVENT
BEGIN:VEVENT
UID:26S_703515_4993315@uibk.ac.at
ORGANIZER;CN="LFU:online Universität Innsbruck":MAILTO:Uni-Innsbruck-noreply@uibk.ac.at
SUMMARY:VU Fortgeschrittenes Data Management (LV 703515-0 26S)
DESCRIPTION:Lehrveranstaltung 703515 26S, Gruppe 0\nTitel: VU Fortgeschrittenes Data Management\nOrt: SR 12\n\nhttps://lfuonline.uibk.ac.at/public/lfuonline_lv.details?sem_id_in=26S&lvnr_id_in=703515\n
CLASS:PUBLIC
DTSTART:20260610T061500Z
DTEND:20260610T084500Z
DTSTAMP:20260423T014359Z
LOCATION:SR 12
END:VEVENT
BEGIN:VEVENT
UID:26S_703515_4993316@uibk.ac.at
ORGANIZER;CN="LFU:online Universität Innsbruck":MAILTO:Uni-Innsbruck-noreply@uibk.ac.at
SUMMARY:VU Fortgeschrittenes Data Management (LV 703515-0 26S)
DESCRIPTION:Lehrveranstaltung 703515 26S, Gruppe 0\nTitel: VU Fortgeschrittenes Data Management\nOrt: SR 12\n\nhttps://lfuonline.uibk.ac.at/public/lfuonline_lv.details?sem_id_in=26S&lvnr_id_in=703515\n
CLASS:PUBLIC
DTSTART:20260617T061500Z
DTEND:20260617T084500Z
DTSTAMP:20260423T014359Z
LOCATION:SR 12
END:VEVENT
BEGIN:VEVENT
UID:26S_703515_4993317@uibk.ac.at
ORGANIZER;CN="LFU:online Universität Innsbruck":MAILTO:Uni-Innsbruck-noreply@uibk.ac.at
SUMMARY:VU Fortgeschrittenes Data Management (LV 703515-0 26S)
DESCRIPTION:Lehrveranstaltung 703515 26S, Gruppe 0\nTitel: VU Fortgeschrittenes Data Management\nOrt: SR 12\n\nhttps://lfuonline.uibk.ac.at/public/lfuonline_lv.details?sem_id_in=26S&lvnr_id_in=703515\n
CLASS:PUBLIC
DTSTART:20260624T061500Z
DTEND:20260624T084500Z
DTSTAMP:20260423T014359Z
LOCATION:SR 12
END:VEVENT
END:VCALENDAR