BEGIN:VCALENDAR
VERSION:2.0
PRODID:-//Universität Innsbruck//LFU:online//DE
METHOD:PUBLISH
BEGIN:VEVENT
UID:17W_703652_2969080@uibk.ac.at
ORGANIZER;CN="LFU:online Universität Innsbruck":MAILTO:Uni-Innsbruck-noreply@uibk.ac.at
SUMMARY:VO Semantic Web (LV 703652-0 17W)
DESCRIPTION:Lehrveranstaltung 703652 17W, Gruppe 0\nTitel: VO Semantic Web\nOrt: Seminarraum 1 (ICT-Gebäude)\n\nhttps://lfuonline.uibk.ac.at/public/lfuonline_lv.details?sem_id_in=17W&lvnr_id_in=703652\n
CLASS:PUBLIC
DTSTART:20171002T131500Z
DTEND:20171002T160000Z
DTSTAMP:20260423T145837Z
LOCATION:Seminarraum 1 (ICT-Gebäude)
END:VEVENT
BEGIN:VEVENT
UID:17W_703652_2969081@uibk.ac.at
ORGANIZER;CN="LFU:online Universität Innsbruck":MAILTO:Uni-Innsbruck-noreply@uibk.ac.at
SUMMARY:VO Semantic Web (LV 703652-0 17W)
DESCRIPTION:Lehrveranstaltung 703652 17W, Gruppe 0\nTitel: VO Semantic Web\nOrt: Seminarraum 1 (ICT-Gebäude)\n\nhttps://lfuonline.uibk.ac.at/public/lfuonline_lv.details?sem_id_in=17W&lvnr_id_in=703652\n
CLASS:PUBLIC
DTSTART:20171009T131500Z
DTEND:20171009T160000Z
DTSTAMP:20260423T145837Z
LOCATION:Seminarraum 1 (ICT-Gebäude)
END:VEVENT
BEGIN:VEVENT
UID:17W_703652_2969082@uibk.ac.at
ORGANIZER;CN="LFU:online Universität Innsbruck":MAILTO:Uni-Innsbruck-noreply@uibk.ac.at
SUMMARY:VO Semantic Web (LV 703652-0 17W)
DESCRIPTION:Lehrveranstaltung 703652 17W, Gruppe 0\nTitel: VO Semantic Web\nOrt: Seminarraum 1 (ICT-Gebäude)\n\nhttps://lfuonline.uibk.ac.at/public/lfuonline_lv.details?sem_id_in=17W&lvnr_id_in=703652\n
CLASS:PUBLIC
DTSTART:20171016T131500Z
DTEND:20171016T160000Z
DTSTAMP:20260423T145837Z
LOCATION:Seminarraum 1 (ICT-Gebäude)
END:VEVENT
BEGIN:VEVENT
UID:17W_703652_2969083@uibk.ac.at
ORGANIZER;CN="LFU:online Universität Innsbruck":MAILTO:Uni-Innsbruck-noreply@uibk.ac.at
SUMMARY:VO Semantic Web (LV 703652-0 17W)
DESCRIPTION:Lehrveranstaltung 703652 17W, Gruppe 0\nTitel: VO Semantic Web\nOrt: Seminarraum 1 (ICT-Gebäude)\n\nhttps://lfuonline.uibk.ac.at/public/lfuonline_lv.details?sem_id_in=17W&lvnr_id_in=703652\n
CLASS:PUBLIC
DTSTART:20171023T131500Z
DTEND:20171023T160000Z
DTSTAMP:20260423T145837Z
LOCATION:Seminarraum 1 (ICT-Gebäude)
END:VEVENT
BEGIN:VEVENT
UID:17W_703652_2969084@uibk.ac.at
ORGANIZER;CN="LFU:online Universität Innsbruck":MAILTO:Uni-Innsbruck-noreply@uibk.ac.at
SUMMARY:VO Semantic Web (LV 703652-0 17W)
DESCRIPTION:Lehrveranstaltung 703652 17W, Gruppe 0\nTitel: VO Semantic Web\nOrt: Seminarraum 1 (ICT-Gebäude)\n\nhttps://lfuonline.uibk.ac.at/public/lfuonline_lv.details?sem_id_in=17W&lvnr_id_in=703652\n
CLASS:PUBLIC
DTSTART:20171030T141500Z
DTEND:20171030T170000Z
DTSTAMP:20260423T145837Z
LOCATION:Seminarraum 1 (ICT-Gebäude)
END:VEVENT
BEGIN:VEVENT
UID:17W_703652_2969085@uibk.ac.at
ORGANIZER;CN="LFU:online Universität Innsbruck":MAILTO:Uni-Innsbruck-noreply@uibk.ac.at
SUMMARY:VO Semantic Web (LV 703652-0 17W)
DESCRIPTION:Lehrveranstaltung 703652 17W, Gruppe 0\nTitel: VO Semantic Web\nOrt: Seminarraum 1 (ICT-Gebäude)\n\nhttps://lfuonline.uibk.ac.at/public/lfuonline_lv.details?sem_id_in=17W&lvnr_id_in=703652\n
CLASS:PUBLIC
DTSTART:20171106T141500Z
DTEND:20171106T170000Z
DTSTAMP:20260423T145837Z
LOCATION:Seminarraum 1 (ICT-Gebäude)
END:VEVENT
BEGIN:VEVENT
UID:17W_703652_2969086@uibk.ac.at
ORGANIZER;CN="LFU:online Universität Innsbruck":MAILTO:Uni-Innsbruck-noreply@uibk.ac.at
SUMMARY:VO Semantic Web (LV 703652-0 17W)
DESCRIPTION:Lehrveranstaltung 703652 17W, Gruppe 0\nTitel: VO Semantic Web\nOrt: Seminarraum 1 (ICT-Gebäude)\n\nhttps://lfuonline.uibk.ac.at/public/lfuonline_lv.details?sem_id_in=17W&lvnr_id_in=703652\n
CLASS:PUBLIC
DTSTART:20171113T141500Z
DTEND:20171113T170000Z
DTSTAMP:20260423T145837Z
LOCATION:Seminarraum 1 (ICT-Gebäude)
END:VEVENT
BEGIN:VEVENT
UID:17W_703652_2969087@uibk.ac.at
ORGANIZER;CN="LFU:online Universität Innsbruck":MAILTO:Uni-Innsbruck-noreply@uibk.ac.at
SUMMARY:VO Semantic Web (LV 703652-0 17W)
DESCRIPTION:Lehrveranstaltung 703652 17W, Gruppe 0\nTitel: VO Semantic Web\nOrt: Seminarraum 1 (ICT-Gebäude)\n\nhttps://lfuonline.uibk.ac.at/public/lfuonline_lv.details?sem_id_in=17W&lvnr_id_in=703652\n
CLASS:PUBLIC
DTSTART:20171120T141500Z
DTEND:20171120T170000Z
DTSTAMP:20260423T145837Z
LOCATION:Seminarraum 1 (ICT-Gebäude)
END:VEVENT
BEGIN:VEVENT
UID:17W_703652_2969088@uibk.ac.at
ORGANIZER;CN="LFU:online Universität Innsbruck":MAILTO:Uni-Innsbruck-noreply@uibk.ac.at
SUMMARY:VO Semantic Web (LV 703652-0 17W)
DESCRIPTION:Lehrveranstaltung 703652 17W, Gruppe 0\nTitel: VO Semantic Web\nOrt: Seminarraum 1 (ICT-Gebäude)\n\nhttps://lfuonline.uibk.ac.at/public/lfuonline_lv.details?sem_id_in=17W&lvnr_id_in=703652\n
CLASS:PUBLIC
DTSTART:20171127T141500Z
DTEND:20171127T170000Z
DTSTAMP:20260423T145837Z
LOCATION:Seminarraum 1 (ICT-Gebäude)
END:VEVENT
BEGIN:VEVENT
UID:17W_703652_2969089@uibk.ac.at
ORGANIZER;CN="LFU:online Universität Innsbruck":MAILTO:Uni-Innsbruck-noreply@uibk.ac.at
SUMMARY:VO Semantic Web (LV 703652-0 17W)
DESCRIPTION:Lehrveranstaltung 703652 17W, Gruppe 0\nTitel: VO Semantic Web\nOrt: Seminarraum 1 (ICT-Gebäude)\n\nhttps://lfuonline.uibk.ac.at/public/lfuonline_lv.details?sem_id_in=17W&lvnr_id_in=703652\n
CLASS:PUBLIC
DTSTART:20171204T141500Z
DTEND:20171204T170000Z
DTSTAMP:20260423T145837Z
LOCATION:Seminarraum 1 (ICT-Gebäude)
END:VEVENT
BEGIN:VEVENT
UID:17W_703652_2969090@uibk.ac.at
ORGANIZER;CN="LFU:online Universität Innsbruck":MAILTO:Uni-Innsbruck-noreply@uibk.ac.at
SUMMARY:VO Semantic Web (LV 703652-0 17W)
DESCRIPTION:Lehrveranstaltung 703652 17W, Gruppe 0\nTitel: VO Semantic Web\nOrt: Seminarraum 1 (ICT-Gebäude)\n\nhttps://lfuonline.uibk.ac.at/public/lfuonline_lv.details?sem_id_in=17W&lvnr_id_in=703652\n
CLASS:PUBLIC
DTSTART:20171211T141500Z
DTEND:20171211T170000Z
DTSTAMP:20260423T145837Z
LOCATION:Seminarraum 1 (ICT-Gebäude)
END:VEVENT
BEGIN:VEVENT
UID:17W_703652_2969091@uibk.ac.at
ORGANIZER;CN="LFU:online Universität Innsbruck":MAILTO:Uni-Innsbruck-noreply@uibk.ac.at
SUMMARY:VO Semantic Web (LV 703652-0 17W)
DESCRIPTION:Lehrveranstaltung 703652 17W, Gruppe 0\nTitel: VO Semantic Web\nOrt: Seminarraum 1 (ICT-Gebäude)\n\nhttps://lfuonline.uibk.ac.at/public/lfuonline_lv.details?sem_id_in=17W&lvnr_id_in=703652\n
CLASS:PUBLIC
DTSTART:20180108T141500Z
DTEND:20180108T170000Z
DTSTAMP:20260423T145837Z
LOCATION:Seminarraum 1 (ICT-Gebäude)
END:VEVENT
BEGIN:VEVENT
UID:17W_703652_2969092@uibk.ac.at
ORGANIZER;CN="LFU:online Universität Innsbruck":MAILTO:Uni-Innsbruck-noreply@uibk.ac.at
SUMMARY:VO Semantic Web (LV 703652-0 17W)
DESCRIPTION:Lehrveranstaltung 703652 17W, Gruppe 0\nTitel: VO Semantic Web\nOrt: Seminarraum 1 (ICT-Gebäude)\n\nhttps://lfuonline.uibk.ac.at/public/lfuonline_lv.details?sem_id_in=17W&lvnr_id_in=703652\n
CLASS:PUBLIC
DTSTART:20180115T141500Z
DTEND:20180115T170000Z
DTSTAMP:20260423T145837Z
LOCATION:Seminarraum 1 (ICT-Gebäude)
END:VEVENT
BEGIN:VEVENT
UID:17W_703652_2969093@uibk.ac.at
ORGANIZER;CN="LFU:online Universität Innsbruck":MAILTO:Uni-Innsbruck-noreply@uibk.ac.at
SUMMARY:VO Semantic Web (LV 703652-0 17W)
DESCRIPTION:Lehrveranstaltung 703652 17W, Gruppe 0\nTitel: VO Semantic Web\nOrt: Seminarraum 1 (ICT-Gebäude)\n\nhttps://lfuonline.uibk.ac.at/public/lfuonline_lv.details?sem_id_in=17W&lvnr_id_in=703652\n
CLASS:PUBLIC
DTSTART:20180122T141500Z
DTEND:20180122T170000Z
DTSTAMP:20260423T145837Z
LOCATION:Seminarraum 1 (ICT-Gebäude)
END:VEVENT
BEGIN:VEVENT
UID:17W_703652_2969094@uibk.ac.at
ORGANIZER;CN="LFU:online Universität Innsbruck":MAILTO:Uni-Innsbruck-noreply@uibk.ac.at
SUMMARY:VO Semantic Web (LV 703652-0 17W)
DESCRIPTION:Lehrveranstaltung 703652 17W, Gruppe 0\nTitel: VO Semantic Web\nOrt: Seminarraum 1 (ICT-Gebäude)\n\nhttps://lfuonline.uibk.ac.at/public/lfuonline_lv.details?sem_id_in=17W&lvnr_id_in=703652\n
CLASS:PUBLIC
DTSTART:20180129T141500Z
DTEND:20180129T170000Z
DTSTAMP:20260423T145837Z
LOCATION:Seminarraum 1 (ICT-Gebäude)
END:VEVENT
BEGIN:VEVENT
UID:17W_703652_3125267@uibk.ac.at
ORGANIZER;CN="LFU:online Universität Innsbruck":MAILTO:Uni-Innsbruck-noreply@uibk.ac.at
SUMMARY:VO Semantic Web (LV 703652-0 17W)
DESCRIPTION:Lehrveranstaltung 703652 17W, Gruppe 0\nTitel: VO Semantic Web\nOrt: Seminarraum 1 (ICT-Gebäude)\n\nhttps://lfuonline.uibk.ac.at/public/lfuonline_lv.details?sem_id_in=17W&lvnr_id_in=703652\n
CLASS:PUBLIC
DTSTART:20180416T140000Z
DTEND:20180416T160000Z
DTSTAMP:20260423T145837Z
LOCATION:Seminarraum 1 (ICT-Gebäude)
COMMENT:Prüfung
END:VEVENT
END:VCALENDAR