BEGIN:VCALENDAR
VERSION:2.0
PRODID:-//Universität Innsbruck//LFU:online//DE
METHOD:PUBLISH
BEGIN:VEVENT
UID:17W_703653_2978532@uibk.ac.at
ORGANIZER;CN="LFU:online Universität Innsbruck":MAILTO:Uni-Innsbruck-noreply@uibk.ac.at
SUMMARY:PS Semantic Web (LV 703653-0 17W)
DESCRIPTION:Lehrveranstaltung 703653 17W, Gruppe 0\nTitel: PS Semantic Web\nOrt: SR 12\n\nhttps://lfuonline.uibk.ac.at/public/lfuonline_lv.details?sem_id_in=17W&lvnr_id_in=703653\n
CLASS:PUBLIC
DTSTART:20171004T141500Z
DTEND:20171004T160000Z
DTSTAMP:20260423T140149Z
LOCATION:SR 12
END:VEVENT
BEGIN:VEVENT
UID:17W_703653_2978533@uibk.ac.at
ORGANIZER;CN="LFU:online Universität Innsbruck":MAILTO:Uni-Innsbruck-noreply@uibk.ac.at
SUMMARY:PS Semantic Web (LV 703653-0 17W)
DESCRIPTION:Lehrveranstaltung 703653 17W, Gruppe 0\nTitel: PS Semantic Web\nOrt: SR 12\n\nhttps://lfuonline.uibk.ac.at/public/lfuonline_lv.details?sem_id_in=17W&lvnr_id_in=703653\n
CLASS:PUBLIC
DTSTART:20171011T141500Z
DTEND:20171011T160000Z
DTSTAMP:20260423T140149Z
LOCATION:SR 12
END:VEVENT
BEGIN:VEVENT
UID:17W_703653_2978534@uibk.ac.at
ORGANIZER;CN="LFU:online Universität Innsbruck":MAILTO:Uni-Innsbruck-noreply@uibk.ac.at
SUMMARY:PS Semantic Web (LV 703653-0 17W)
DESCRIPTION:Lehrveranstaltung 703653 17W, Gruppe 0\nTitel: PS Semantic Web\nOrt: SR 12\n\nhttps://lfuonline.uibk.ac.at/public/lfuonline_lv.details?sem_id_in=17W&lvnr_id_in=703653\n
CLASS:PUBLIC
DTSTART:20171018T141500Z
DTEND:20171018T160000Z
DTSTAMP:20260423T140149Z
LOCATION:SR 12
END:VEVENT
BEGIN:VEVENT
UID:17W_703653_2978535@uibk.ac.at
ORGANIZER;CN="LFU:online Universität Innsbruck":MAILTO:Uni-Innsbruck-noreply@uibk.ac.at
SUMMARY:PS Semantic Web (LV 703653-0 17W)
DESCRIPTION:Lehrveranstaltung 703653 17W, Gruppe 0\nTitel: PS Semantic Web\nOrt: SR 12\n\nhttps://lfuonline.uibk.ac.at/public/lfuonline_lv.details?sem_id_in=17W&lvnr_id_in=703653\n
CLASS:PUBLIC
DTSTART:20171025T141500Z
DTEND:20171025T160000Z
DTSTAMP:20260423T140149Z
LOCATION:SR 12
END:VEVENT
BEGIN:VEVENT
UID:17W_703653_2978536@uibk.ac.at
ORGANIZER;CN="LFU:online Universität Innsbruck":MAILTO:Uni-Innsbruck-noreply@uibk.ac.at
SUMMARY:PS Semantic Web (LV 703653-0 17W)
DESCRIPTION:Lehrveranstaltung 703653 17W, Gruppe 0\nTitel: PS Semantic Web\nOrt: SR 12\n\nhttps://lfuonline.uibk.ac.at/public/lfuonline_lv.details?sem_id_in=17W&lvnr_id_in=703653\n
CLASS:PUBLIC
DTSTART:20171108T151500Z
DTEND:20171108T170000Z
DTSTAMP:20260423T140149Z
LOCATION:SR 12
END:VEVENT
BEGIN:VEVENT
UID:17W_703653_2978537@uibk.ac.at
ORGANIZER;CN="LFU:online Universität Innsbruck":MAILTO:Uni-Innsbruck-noreply@uibk.ac.at
SUMMARY:PS Semantic Web (LV 703653-0 17W)
DESCRIPTION:Lehrveranstaltung 703653 17W, Gruppe 0\nTitel: PS Semantic Web\nOrt: SR 12\n\nhttps://lfuonline.uibk.ac.at/public/lfuonline_lv.details?sem_id_in=17W&lvnr_id_in=703653\n
CLASS:PUBLIC
DTSTART:20171115T151500Z
DTEND:20171115T170000Z
DTSTAMP:20260423T140149Z
LOCATION:SR 12
END:VEVENT
BEGIN:VEVENT
UID:17W_703653_2978538@uibk.ac.at
ORGANIZER;CN="LFU:online Universität Innsbruck":MAILTO:Uni-Innsbruck-noreply@uibk.ac.at
SUMMARY:PS Semantic Web (LV 703653-0 17W)
DESCRIPTION:Lehrveranstaltung 703653 17W, Gruppe 0\nTitel: PS Semantic Web\nOrt: SR 12\n\nhttps://lfuonline.uibk.ac.at/public/lfuonline_lv.details?sem_id_in=17W&lvnr_id_in=703653\n
CLASS:PUBLIC
DTSTART:20171122T151500Z
DTEND:20171122T170000Z
DTSTAMP:20260423T140149Z
LOCATION:SR 12
END:VEVENT
BEGIN:VEVENT
UID:17W_703653_2978539@uibk.ac.at
ORGANIZER;CN="LFU:online Universität Innsbruck":MAILTO:Uni-Innsbruck-noreply@uibk.ac.at
SUMMARY:PS Semantic Web (LV 703653-0 17W)
DESCRIPTION:Lehrveranstaltung 703653 17W, Gruppe 0\nTitel: PS Semantic Web\nOrt: SR 12\n\nhttps://lfuonline.uibk.ac.at/public/lfuonline_lv.details?sem_id_in=17W&lvnr_id_in=703653\n
CLASS:PUBLIC
DTSTART:20171129T151500Z
DTEND:20171129T170000Z
DTSTAMP:20260423T140149Z
LOCATION:SR 12
END:VEVENT
BEGIN:VEVENT
UID:17W_703653_2978540@uibk.ac.at
ORGANIZER;CN="LFU:online Universität Innsbruck":MAILTO:Uni-Innsbruck-noreply@uibk.ac.at
SUMMARY:PS Semantic Web (LV 703653-0 17W)
DESCRIPTION:Lehrveranstaltung 703653 17W, Gruppe 0\nTitel: PS Semantic Web\nOrt: SR 12\n\nhttps://lfuonline.uibk.ac.at/public/lfuonline_lv.details?sem_id_in=17W&lvnr_id_in=703653\n
CLASS:PUBLIC
DTSTART:20171206T151500Z
DTEND:20171206T170000Z
DTSTAMP:20260423T140149Z
LOCATION:SR 12
END:VEVENT
BEGIN:VEVENT
UID:17W_703653_2978541@uibk.ac.at
ORGANIZER;CN="LFU:online Universität Innsbruck":MAILTO:Uni-Innsbruck-noreply@uibk.ac.at
SUMMARY:PS Semantic Web (LV 703653-0 17W)
DESCRIPTION:Lehrveranstaltung 703653 17W, Gruppe 0\nTitel: PS Semantic Web\nOrt: SR 12\n\nhttps://lfuonline.uibk.ac.at/public/lfuonline_lv.details?sem_id_in=17W&lvnr_id_in=703653\n
CLASS:PUBLIC
DTSTART:20171213T151500Z
DTEND:20171213T170000Z
DTSTAMP:20260423T140149Z
LOCATION:SR 12
END:VEVENT
BEGIN:VEVENT
UID:17W_703653_2978542@uibk.ac.at
ORGANIZER;CN="LFU:online Universität Innsbruck":MAILTO:Uni-Innsbruck-noreply@uibk.ac.at
SUMMARY:PS Semantic Web (LV 703653-0 17W)
DESCRIPTION:Lehrveranstaltung 703653 17W, Gruppe 0\nTitel: PS Semantic Web\nOrt: SR 12\n\nhttps://lfuonline.uibk.ac.at/public/lfuonline_lv.details?sem_id_in=17W&lvnr_id_in=703653\n
CLASS:PUBLIC
DTSTART:20180110T151500Z
DTEND:20180110T170000Z
DTSTAMP:20260423T140149Z
LOCATION:SR 12
END:VEVENT
BEGIN:VEVENT
UID:17W_703653_2978543@uibk.ac.at
ORGANIZER;CN="LFU:online Universität Innsbruck":MAILTO:Uni-Innsbruck-noreply@uibk.ac.at
SUMMARY:PS Semantic Web (LV 703653-0 17W)
DESCRIPTION:Lehrveranstaltung 703653 17W, Gruppe 0\nTitel: PS Semantic Web\nOrt: SR 12\n\nhttps://lfuonline.uibk.ac.at/public/lfuonline_lv.details?sem_id_in=17W&lvnr_id_in=703653\n
CLASS:PUBLIC
DTSTART:20180117T151500Z
DTEND:20180117T170000Z
DTSTAMP:20260423T140149Z
LOCATION:SR 12
END:VEVENT
BEGIN:VEVENT
UID:17W_703653_2978544@uibk.ac.at
ORGANIZER;CN="LFU:online Universität Innsbruck":MAILTO:Uni-Innsbruck-noreply@uibk.ac.at
SUMMARY:PS Semantic Web (LV 703653-0 17W)
DESCRIPTION:Lehrveranstaltung 703653 17W, Gruppe 0\nTitel: PS Semantic Web\nOrt: SR 12\n\nhttps://lfuonline.uibk.ac.at/public/lfuonline_lv.details?sem_id_in=17W&lvnr_id_in=703653\n
CLASS:PUBLIC
DTSTART:20180124T151500Z
DTEND:20180124T170000Z
DTSTAMP:20260423T140149Z
LOCATION:SR 12
END:VEVENT
BEGIN:VEVENT
UID:17W_703653_2978545@uibk.ac.at
ORGANIZER;CN="LFU:online Universität Innsbruck":MAILTO:Uni-Innsbruck-noreply@uibk.ac.at
SUMMARY:PS Semantic Web (LV 703653-0 17W)
DESCRIPTION:Lehrveranstaltung 703653 17W, Gruppe 0\nTitel: PS Semantic Web\nOrt: SR 12\n\nhttps://lfuonline.uibk.ac.at/public/lfuonline_lv.details?sem_id_in=17W&lvnr_id_in=703653\n
CLASS:PUBLIC
DTSTART:20180131T151500Z
DTEND:20180131T170000Z
DTSTAMP:20260423T140149Z
LOCATION:SR 12
END:VEVENT
END:VCALENDAR