BEGIN:VCALENDAR
VERSION:2.0
PRODID:-//Universität Innsbruck//LFU:online//DE
METHOD:PUBLISH
BEGIN:VEVENT
UID:14S_707778_2236095@uibk.ac.at
ORGANIZER;CN="LFU:online Universität Innsbruck":MAILTO:Uni-Innsbruck-noreply@uibk.ac.at
SUMMARY:Paläoklimatologie (LV 707778-0 14S)
DESCRIPTION:Lehrveranstaltung 707778 14S, Gruppe 0\nTitel: Paläoklimatologie\nOrt: 4U102a\n\nhttps://lfuonline.uibk.ac.at/public/lfuonline_lv.details?sem_id_in=14S&lvnr_id_in=707778\n
CLASS:PUBLIC
DTSTART:20140304T073000Z
DTEND:20140304T090000Z
DTSTAMP:20260420T005320Z
LOCATION:4U102a
END:VEVENT
BEGIN:VEVENT
UID:14S_707778_2282667@uibk.ac.at
ORGANIZER;CN="LFU:online Universität Innsbruck":MAILTO:Uni-Innsbruck-noreply@uibk.ac.at
SUMMARY:Paläoklimatologie (LV 707778-0 14S)
DESCRIPTION:Lehrveranstaltung 707778 14S, Gruppe 0\nTitel: Paläoklimatologie\nOrt: 60818 EDV-Raum\n\nhttps://lfuonline.uibk.ac.at/public/lfuonline_lv.details?sem_id_in=14S&lvnr_id_in=707778\n
CLASS:PUBLIC
DTSTART:20140305T144500Z
DTEND:20140305T153000Z
DTSTAMP:20260420T005320Z
LOCATION:60818 EDV-Raum
END:VEVENT
BEGIN:VEVENT
UID:14S_707778_2236096@uibk.ac.at
ORGANIZER;CN="LFU:online Universität Innsbruck":MAILTO:Uni-Innsbruck-noreply@uibk.ac.at
SUMMARY:Paläoklimatologie (LV 707778-0 14S)
DESCRIPTION:Lehrveranstaltung 707778 14S, Gruppe 0\nTitel: Paläoklimatologie\nOrt: 4U102a\n\nhttps://lfuonline.uibk.ac.at/public/lfuonline_lv.details?sem_id_in=14S&lvnr_id_in=707778\n
CLASS:PUBLIC
DTSTART:20140311T073000Z
DTEND:20140311T090000Z
DTSTAMP:20260420T005320Z
LOCATION:4U102a
END:VEVENT
BEGIN:VEVENT
UID:14S_707778_2236097@uibk.ac.at
ORGANIZER;CN="LFU:online Universität Innsbruck":MAILTO:Uni-Innsbruck-noreply@uibk.ac.at
SUMMARY:Paläoklimatologie (LV 707778-0 14S)
DESCRIPTION:Lehrveranstaltung 707778 14S, Gruppe 0\nTitel: Paläoklimatologie\nOrt: 4U102a\n\nhttps://lfuonline.uibk.ac.at/public/lfuonline_lv.details?sem_id_in=14S&lvnr_id_in=707778\n
CLASS:PUBLIC
DTSTART:20140318T073000Z
DTEND:20140318T090000Z
DTSTAMP:20260420T005320Z
LOCATION:4U102a
END:VEVENT
BEGIN:VEVENT
UID:14S_707778_2282385@uibk.ac.at
ORGANIZER;CN="LFU:online Universität Innsbruck":MAILTO:Uni-Innsbruck-noreply@uibk.ac.at
SUMMARY:Paläoklimatologie (LV 707778-0 14S)
DESCRIPTION:Lehrveranstaltung 707778 14S, Gruppe 0\nTitel: Paläoklimatologie\nOrt: 60818 EDV-Raum\n\nhttps://lfuonline.uibk.ac.at/public/lfuonline_lv.details?sem_id_in=14S&lvnr_id_in=707778\n
CLASS:PUBLIC
DTSTART:20140319T144500Z
DTEND:20140319T153000Z
DTSTAMP:20260420T005320Z
LOCATION:60818 EDV-Raum
END:VEVENT
BEGIN:VEVENT
UID:14S_707778_2236098@uibk.ac.at
ORGANIZER;CN="LFU:online Universität Innsbruck":MAILTO:Uni-Innsbruck-noreply@uibk.ac.at
SUMMARY:Paläoklimatologie (LV 707778-0 14S)
DESCRIPTION:Lehrveranstaltung 707778 14S, Gruppe 0\nTitel: Paläoklimatologie\nOrt: 4U102a\n\nhttps://lfuonline.uibk.ac.at/public/lfuonline_lv.details?sem_id_in=14S&lvnr_id_in=707778\n
CLASS:PUBLIC
DTSTART:20140325T073000Z
DTEND:20140325T090000Z
DTSTAMP:20260420T005320Z
LOCATION:4U102a
END:VEVENT
BEGIN:VEVENT
UID:14S_707778_2282386@uibk.ac.at
ORGANIZER;CN="LFU:online Universität Innsbruck":MAILTO:Uni-Innsbruck-noreply@uibk.ac.at
SUMMARY:Paläoklimatologie (LV 707778-0 14S)
DESCRIPTION:Lehrveranstaltung 707778 14S, Gruppe 0\nTitel: Paläoklimatologie\nOrt: 60818 EDV-Raum\n\nhttps://lfuonline.uibk.ac.at/public/lfuonline_lv.details?sem_id_in=14S&lvnr_id_in=707778\n
CLASS:PUBLIC
DTSTART:20140326T144500Z
DTEND:20140326T153000Z
DTSTAMP:20260420T005320Z
LOCATION:60818 EDV-Raum
END:VEVENT
BEGIN:VEVENT
UID:14S_707778_2236099@uibk.ac.at
ORGANIZER;CN="LFU:online Universität Innsbruck":MAILTO:Uni-Innsbruck-noreply@uibk.ac.at
SUMMARY:Paläoklimatologie (LV 707778-0 14S)
DESCRIPTION:Lehrveranstaltung 707778 14S, Gruppe 0\nTitel: Paläoklimatologie\nOrt: 4U102a\n\nhttps://lfuonline.uibk.ac.at/public/lfuonline_lv.details?sem_id_in=14S&lvnr_id_in=707778\n
CLASS:PUBLIC
DTSTART:20140401T063000Z
DTEND:20140401T080000Z
DTSTAMP:20260420T005320Z
LOCATION:4U102a
END:VEVENT
BEGIN:VEVENT
UID:14S_707778_2282387@uibk.ac.at
ORGANIZER;CN="LFU:online Universität Innsbruck":MAILTO:Uni-Innsbruck-noreply@uibk.ac.at
SUMMARY:Paläoklimatologie (LV 707778-0 14S)
DESCRIPTION:Lehrveranstaltung 707778 14S, Gruppe 0\nTitel: Paläoklimatologie\nOrt: 60818 EDV-Raum\n\nhttps://lfuonline.uibk.ac.at/public/lfuonline_lv.details?sem_id_in=14S&lvnr_id_in=707778\n
CLASS:PUBLIC
DTSTART:20140402T134500Z
DTEND:20140402T143000Z
DTSTAMP:20260420T005320Z
LOCATION:60818 EDV-Raum
END:VEVENT
BEGIN:VEVENT
UID:14S_707778_2236100@uibk.ac.at
ORGANIZER;CN="LFU:online Universität Innsbruck":MAILTO:Uni-Innsbruck-noreply@uibk.ac.at
SUMMARY:Paläoklimatologie (LV 707778-0 14S)
DESCRIPTION:Lehrveranstaltung 707778 14S, Gruppe 0\nTitel: Paläoklimatologie\nOrt: 4U102a\n\nhttps://lfuonline.uibk.ac.at/public/lfuonline_lv.details?sem_id_in=14S&lvnr_id_in=707778\n
CLASS:PUBLIC
DTSTART:20140408T063000Z
DTEND:20140408T080000Z
DTSTAMP:20260420T005320Z
LOCATION:4U102a
END:VEVENT
BEGIN:VEVENT
UID:14S_707778_2282388@uibk.ac.at
ORGANIZER;CN="LFU:online Universität Innsbruck":MAILTO:Uni-Innsbruck-noreply@uibk.ac.at
SUMMARY:Paläoklimatologie (LV 707778-0 14S)
DESCRIPTION:Lehrveranstaltung 707778 14S, Gruppe 0\nTitel: Paläoklimatologie\nOrt: 60818 EDV-Raum\n\nhttps://lfuonline.uibk.ac.at/public/lfuonline_lv.details?sem_id_in=14S&lvnr_id_in=707778\n
CLASS:PUBLIC
DTSTART:20140409T134500Z
DTEND:20140409T143000Z
DTSTAMP:20260420T005320Z
LOCATION:60818 EDV-Raum
END:VEVENT
BEGIN:VEVENT
UID:14S_707778_2236101@uibk.ac.at
ORGANIZER;CN="LFU:online Universität Innsbruck":MAILTO:Uni-Innsbruck-noreply@uibk.ac.at
SUMMARY:Paläoklimatologie (LV 707778-0 14S)
DESCRIPTION:Lehrveranstaltung 707778 14S, Gruppe 0\nTitel: Paläoklimatologie\nOrt: 4U102a\n\nhttps://lfuonline.uibk.ac.at/public/lfuonline_lv.details?sem_id_in=14S&lvnr_id_in=707778\n
CLASS:PUBLIC
DTSTART:20140429T063000Z
DTEND:20140429T080000Z
DTSTAMP:20260420T005320Z
LOCATION:4U102a
END:VEVENT
BEGIN:VEVENT
UID:14S_707778_2236102@uibk.ac.at
ORGANIZER;CN="LFU:online Universität Innsbruck":MAILTO:Uni-Innsbruck-noreply@uibk.ac.at
SUMMARY:Paläoklimatologie (LV 707778-0 14S)
DESCRIPTION:Lehrveranstaltung 707778 14S, Gruppe 0\nTitel: Paläoklimatologie\nOrt: 4U102a\n\nhttps://lfuonline.uibk.ac.at/public/lfuonline_lv.details?sem_id_in=14S&lvnr_id_in=707778\n
CLASS:PUBLIC
DTSTART:20140506T063000Z
DTEND:20140506T080000Z
DTSTAMP:20260420T005320Z
LOCATION:4U102a
END:VEVENT
BEGIN:VEVENT
UID:14S_707778_2282389@uibk.ac.at
ORGANIZER;CN="LFU:online Universität Innsbruck":MAILTO:Uni-Innsbruck-noreply@uibk.ac.at
SUMMARY:Paläoklimatologie (LV 707778-0 14S)
DESCRIPTION:Lehrveranstaltung 707778 14S, Gruppe 0\nTitel: Paläoklimatologie\nOrt: 60818 EDV-Raum\n\nhttps://lfuonline.uibk.ac.at/public/lfuonline_lv.details?sem_id_in=14S&lvnr_id_in=707778\n
CLASS:PUBLIC
DTSTART:20140507T134500Z
DTEND:20140507T143000Z
DTSTAMP:20260420T005320Z
LOCATION:60818 EDV-Raum
END:VEVENT
BEGIN:VEVENT
UID:14S_707778_2236103@uibk.ac.at
ORGANIZER;CN="LFU:online Universität Innsbruck":MAILTO:Uni-Innsbruck-noreply@uibk.ac.at
SUMMARY:Paläoklimatologie (LV 707778-0 14S)
DESCRIPTION:Lehrveranstaltung 707778 14S, Gruppe 0\nTitel: Paläoklimatologie\nOrt: 4U102a\n\nhttps://lfuonline.uibk.ac.at/public/lfuonline_lv.details?sem_id_in=14S&lvnr_id_in=707778\n
CLASS:PUBLIC
DTSTART:20140513T063000Z
DTEND:20140513T080000Z
DTSTAMP:20260420T005320Z
LOCATION:4U102a
END:VEVENT
BEGIN:VEVENT
UID:14S_707778_2282390@uibk.ac.at
ORGANIZER;CN="LFU:online Universität Innsbruck":MAILTO:Uni-Innsbruck-noreply@uibk.ac.at
SUMMARY:Paläoklimatologie (LV 707778-0 14S)
DESCRIPTION:Lehrveranstaltung 707778 14S, Gruppe 0\nTitel: Paläoklimatologie\nOrt: 60818 EDV-Raum\n\nhttps://lfuonline.uibk.ac.at/public/lfuonline_lv.details?sem_id_in=14S&lvnr_id_in=707778\n
CLASS:PUBLIC
DTSTART:20140514T134500Z
DTEND:20140514T143000Z
DTSTAMP:20260420T005320Z
LOCATION:60818 EDV-Raum
END:VEVENT
BEGIN:VEVENT
UID:14S_707778_2236104@uibk.ac.at
ORGANIZER;CN="LFU:online Universität Innsbruck":MAILTO:Uni-Innsbruck-noreply@uibk.ac.at
SUMMARY:Paläoklimatologie (LV 707778-0 14S)
DESCRIPTION:Lehrveranstaltung 707778 14S, Gruppe 0\nTitel: Paläoklimatologie\nOrt: 4U102a\n\nhttps://lfuonline.uibk.ac.at/public/lfuonline_lv.details?sem_id_in=14S&lvnr_id_in=707778\n
CLASS:PUBLIC
DTSTART:20140520T063000Z
DTEND:20140520T080000Z
DTSTAMP:20260420T005320Z
LOCATION:4U102a
END:VEVENT
BEGIN:VEVENT
UID:14S_707778_2282391@uibk.ac.at
ORGANIZER;CN="LFU:online Universität Innsbruck":MAILTO:Uni-Innsbruck-noreply@uibk.ac.at
SUMMARY:Paläoklimatologie (LV 707778-0 14S)
DESCRIPTION:Lehrveranstaltung 707778 14S, Gruppe 0\nTitel: Paläoklimatologie\nOrt: 60818 EDV-Raum\n\nhttps://lfuonline.uibk.ac.at/public/lfuonline_lv.details?sem_id_in=14S&lvnr_id_in=707778\n
CLASS:PUBLIC
DTSTART:20140521T134500Z
DTEND:20140521T143000Z
DTSTAMP:20260420T005320Z
LOCATION:60818 EDV-Raum
END:VEVENT
BEGIN:VEVENT
UID:14S_707778_2236105@uibk.ac.at
ORGANIZER;CN="LFU:online Universität Innsbruck":MAILTO:Uni-Innsbruck-noreply@uibk.ac.at
SUMMARY:Paläoklimatologie (LV 707778-0 14S)
DESCRIPTION:Lehrveranstaltung 707778 14S, Gruppe 0\nTitel: Paläoklimatologie\nOrt: 4U102a\n\nhttps://lfuonline.uibk.ac.at/public/lfuonline_lv.details?sem_id_in=14S&lvnr_id_in=707778\n
CLASS:PUBLIC
DTSTART:20140527T063000Z
DTEND:20140527T080000Z
DTSTAMP:20260420T005320Z
LOCATION:4U102a
END:VEVENT
BEGIN:VEVENT
UID:14S_707778_2357783@uibk.ac.at
ORGANIZER;CN="LFU:online Universität Innsbruck":MAILTO:Uni-Innsbruck-noreply@uibk.ac.at
SUMMARY:Paläoklimatologie (LV 707778-0 14S)
DESCRIPTION:Lehrveranstaltung 707778 14S, Gruppe 0\nTitel: Paläoklimatologie\nOrt: 50113 SR\n\nhttps://lfuonline.uibk.ac.at/public/lfuonline_lv.details?sem_id_in=14S&lvnr_id_in=707778\n
CLASS:PUBLIC
DTSTART:20140527T120000Z
DTEND:20140527T133000Z
DTSTAMP:20260420T005320Z
LOCATION:50113 SR
END:VEVENT
BEGIN:VEVENT
UID:14S_707778_2236106@uibk.ac.at
ORGANIZER;CN="LFU:online Universität Innsbruck":MAILTO:Uni-Innsbruck-noreply@uibk.ac.at
SUMMARY:Paläoklimatologie (LV 707778-0 14S)
DESCRIPTION:Lehrveranstaltung 707778 14S, Gruppe 0\nTitel: Paläoklimatologie\nOrt: 4U102a\n\nhttps://lfuonline.uibk.ac.at/public/lfuonline_lv.details?sem_id_in=14S&lvnr_id_in=707778\n
CLASS:PUBLIC
DTSTART:20140603T063000Z
DTEND:20140603T080000Z
DTSTAMP:20260420T005320Z
LOCATION:4U102a
END:VEVENT
BEGIN:VEVENT
UID:14S_707778_2282392@uibk.ac.at
ORGANIZER;CN="LFU:online Universität Innsbruck":MAILTO:Uni-Innsbruck-noreply@uibk.ac.at
SUMMARY:Paläoklimatologie (LV 707778-0 14S)
DESCRIPTION:Lehrveranstaltung 707778 14S, Gruppe 0\nTitel: Paläoklimatologie\nOrt: 60818 EDV-Raum\n\nhttps://lfuonline.uibk.ac.at/public/lfuonline_lv.details?sem_id_in=14S&lvnr_id_in=707778\n
CLASS:PUBLIC
DTSTART:20140604T134500Z
DTEND:20140604T143000Z
DTSTAMP:20260420T005320Z
LOCATION:60818 EDV-Raum
END:VEVENT
BEGIN:VEVENT
UID:14S_707778_2236107@uibk.ac.at
ORGANIZER;CN="LFU:online Universität Innsbruck":MAILTO:Uni-Innsbruck-noreply@uibk.ac.at
SUMMARY:Paläoklimatologie (LV 707778-0 14S)
DESCRIPTION:Lehrveranstaltung 707778 14S, Gruppe 0\nTitel: Paläoklimatologie\nOrt: 4U102a\n\nhttps://lfuonline.uibk.ac.at/public/lfuonline_lv.details?sem_id_in=14S&lvnr_id_in=707778\n
CLASS:PUBLIC
DTSTART:20140610T063000Z
DTEND:20140610T080000Z
DTSTAMP:20260420T005320Z
LOCATION:4U102a
END:VEVENT
BEGIN:VEVENT
UID:14S_707778_2282393@uibk.ac.at
ORGANIZER;CN="LFU:online Universität Innsbruck":MAILTO:Uni-Innsbruck-noreply@uibk.ac.at
SUMMARY:Paläoklimatologie (LV 707778-0 14S)
DESCRIPTION:Lehrveranstaltung 707778 14S, Gruppe 0\nTitel: Paläoklimatologie\nOrt: 60818 EDV-Raum\n\nhttps://lfuonline.uibk.ac.at/public/lfuonline_lv.details?sem_id_in=14S&lvnr_id_in=707778\n
CLASS:PUBLIC
DTSTART:20140611T134500Z
DTEND:20140611T143000Z
DTSTAMP:20260420T005320Z
LOCATION:60818 EDV-Raum
END:VEVENT
BEGIN:VEVENT
UID:14S_707778_2236108@uibk.ac.at
ORGANIZER;CN="LFU:online Universität Innsbruck":MAILTO:Uni-Innsbruck-noreply@uibk.ac.at
SUMMARY:Paläoklimatologie (LV 707778-0 14S)
DESCRIPTION:Lehrveranstaltung 707778 14S, Gruppe 0\nTitel: Paläoklimatologie\nOrt: 4U102a\n\nhttps://lfuonline.uibk.ac.at/public/lfuonline_lv.details?sem_id_in=14S&lvnr_id_in=707778\n
CLASS:PUBLIC
DTSTART:20140617T063000Z
DTEND:20140617T080000Z
DTSTAMP:20260420T005320Z
LOCATION:4U102a
END:VEVENT
BEGIN:VEVENT
UID:14S_707778_2357784@uibk.ac.at
ORGANIZER;CN="LFU:online Universität Innsbruck":MAILTO:Uni-Innsbruck-noreply@uibk.ac.at
SUMMARY:Paläoklimatologie (LV 707778-0 14S)
DESCRIPTION:Lehrveranstaltung 707778 14S, Gruppe 0\nTitel: Paläoklimatologie\nOrt: 50113 SR\n\nhttps://lfuonline.uibk.ac.at/public/lfuonline_lv.details?sem_id_in=14S&lvnr_id_in=707778\n
CLASS:PUBLIC
DTSTART:20140617T120000Z
DTEND:20140617T133000Z
DTSTAMP:20260420T005320Z
LOCATION:50113 SR
END:VEVENT
BEGIN:VEVENT
UID:14S_707778_2236109@uibk.ac.at
ORGANIZER;CN="LFU:online Universität Innsbruck":MAILTO:Uni-Innsbruck-noreply@uibk.ac.at
SUMMARY:Paläoklimatologie (LV 707778-0 14S)
DESCRIPTION:Lehrveranstaltung 707778 14S, Gruppe 0\nTitel: Paläoklimatologie\nOrt: 4U102a\n\nhttps://lfuonline.uibk.ac.at/public/lfuonline_lv.details?sem_id_in=14S&lvnr_id_in=707778\n
CLASS:PUBLIC
DTSTART:20140624T063000Z
DTEND:20140624T080000Z
DTSTAMP:20260420T005320Z
LOCATION:4U102a
END:VEVENT
BEGIN:VEVENT
UID:14S_707778_2282394@uibk.ac.at
ORGANIZER;CN="LFU:online Universität Innsbruck":MAILTO:Uni-Innsbruck-noreply@uibk.ac.at
SUMMARY:Paläoklimatologie (LV 707778-0 14S)
DESCRIPTION:Lehrveranstaltung 707778 14S, Gruppe 0\nTitel: Paläoklimatologie\nOrt: 60818 EDV-Raum\n\nhttps://lfuonline.uibk.ac.at/public/lfuonline_lv.details?sem_id_in=14S&lvnr_id_in=707778\n
CLASS:PUBLIC
DTSTART:20140625T134500Z
DTEND:20140625T143000Z
DTSTAMP:20260420T005320Z
LOCATION:60818 EDV-Raum
END:VEVENT
END:VCALENDAR