BEGIN:VCALENDAR
VERSION:2.0
PRODID:-//Universität Innsbruck//LFU:online//DE
METHOD:PUBLISH
BEGIN:VEVENT
UID:18W_710102_3170271@uibk.ac.at
ORGANIZER;CN="LFU:online Universität Innsbruck":MAILTO:Uni-Innsbruck-noreply@uibk.ac.at
SUMMARY:Thermodynamik (LV 710102-0 18W)
DESCRIPTION:Lehrveranstaltung 710102 18W, Gruppe 0\nTitel: Thermodynamik\nOrt: Hörsaal 1, Josef-Moeller-Haus\n\nhttps://lfuonline.uibk.ac.at/public/lfuonline_lv.details?sem_id_in=18W&lvnr_id_in=710102\n
CLASS:PUBLIC
DTSTART:20181002T071500Z
DTEND:20181002T084500Z
DTSTAMP:20260423T053321Z
LOCATION:Hörsaal 1, Josef-Moeller-Haus
END:VEVENT
BEGIN:VEVENT
UID:18W_710102_3170286@uibk.ac.at
ORGANIZER;CN="LFU:online Universität Innsbruck":MAILTO:Uni-Innsbruck-noreply@uibk.ac.at
SUMMARY:Thermodynamik (LV 710102-0 18W)
DESCRIPTION:Lehrveranstaltung 710102 18W, Gruppe 0\nTitel: Thermodynamik\nOrt: Hörsaal 1, Josef-Moeller-Haus\n\nhttps://lfuonline.uibk.ac.at/public/lfuonline_lv.details?sem_id_in=18W&lvnr_id_in=710102\n
CLASS:PUBLIC
DTSTART:20181003T060000Z
DTEND:20181003T073000Z
DTSTAMP:20260423T053321Z
LOCATION:Hörsaal 1, Josef-Moeller-Haus
END:VEVENT
BEGIN:VEVENT
UID:18W_710102_3170272@uibk.ac.at
ORGANIZER;CN="LFU:online Universität Innsbruck":MAILTO:Uni-Innsbruck-noreply@uibk.ac.at
SUMMARY:Thermodynamik (LV 710102-0 18W)
DESCRIPTION:Lehrveranstaltung 710102 18W, Gruppe 0\nTitel: Thermodynamik\nOrt: Hörsaal 1, Josef-Moeller-Haus\n\nhttps://lfuonline.uibk.ac.at/public/lfuonline_lv.details?sem_id_in=18W&lvnr_id_in=710102\n
CLASS:PUBLIC
DTSTART:20181009T071500Z
DTEND:20181009T084500Z
DTSTAMP:20260423T053321Z
LOCATION:Hörsaal 1, Josef-Moeller-Haus
END:VEVENT
BEGIN:VEVENT
UID:18W_710102_3170287@uibk.ac.at
ORGANIZER;CN="LFU:online Universität Innsbruck":MAILTO:Uni-Innsbruck-noreply@uibk.ac.at
SUMMARY:Thermodynamik (LV 710102-0 18W)
DESCRIPTION:Lehrveranstaltung 710102 18W, Gruppe 0\nTitel: Thermodynamik\nOrt: Hörsaal 1, Josef-Moeller-Haus\n\nhttps://lfuonline.uibk.ac.at/public/lfuonline_lv.details?sem_id_in=18W&lvnr_id_in=710102\n
CLASS:PUBLIC
DTSTART:20181010T060000Z
DTEND:20181010T073000Z
DTSTAMP:20260423T053321Z
LOCATION:Hörsaal 1, Josef-Moeller-Haus
END:VEVENT
BEGIN:VEVENT
UID:18W_710102_3249254@uibk.ac.at
ORGANIZER;CN="LFU:online Universität Innsbruck":MAILTO:Uni-Innsbruck-noreply@uibk.ac.at
SUMMARY:Thermodynamik (LV 710102-0 18W)
DESCRIPTION:Lehrveranstaltung 710102 18W, Gruppe 0\nTitel: Thermodynamik\nOrt: L.01.220\n\nhttps://lfuonline.uibk.ac.at/public/lfuonline_lv.details?sem_id_in=18W&lvnr_id_in=710102\n
CLASS:PUBLIC
DTSTART:20181010T170000Z
DTEND:20181010T183000Z
DTSTAMP:20260423T053321Z
LOCATION:L.01.220
COMMENT:Tutorium
END:VEVENT
BEGIN:VEVENT
UID:18W_710102_3170273@uibk.ac.at
ORGANIZER;CN="LFU:online Universität Innsbruck":MAILTO:Uni-Innsbruck-noreply@uibk.ac.at
SUMMARY:Thermodynamik (LV 710102-0 18W)
DESCRIPTION:Lehrveranstaltung 710102 18W, Gruppe 0\nTitel: Thermodynamik\nOrt: Hörsaal 1, Josef-Moeller-Haus\n\nhttps://lfuonline.uibk.ac.at/public/lfuonline_lv.details?sem_id_in=18W&lvnr_id_in=710102\n
CLASS:PUBLIC
DTSTART:20181016T071500Z
DTEND:20181016T084500Z
DTSTAMP:20260423T053321Z
LOCATION:Hörsaal 1, Josef-Moeller-Haus
END:VEVENT
BEGIN:VEVENT
UID:18W_710102_3170288@uibk.ac.at
ORGANIZER;CN="LFU:online Universität Innsbruck":MAILTO:Uni-Innsbruck-noreply@uibk.ac.at
SUMMARY:Thermodynamik (LV 710102-0 18W)
DESCRIPTION:Lehrveranstaltung 710102 18W, Gruppe 0\nTitel: Thermodynamik\nOrt: Hörsaal 1, Josef-Moeller-Haus\n\nhttps://lfuonline.uibk.ac.at/public/lfuonline_lv.details?sem_id_in=18W&lvnr_id_in=710102\n
CLASS:PUBLIC
DTSTART:20181017T060000Z
DTEND:20181017T073000Z
DTSTAMP:20260423T053321Z
LOCATION:Hörsaal 1, Josef-Moeller-Haus
END:VEVENT
BEGIN:VEVENT
UID:18W_710102_3249255@uibk.ac.at
ORGANIZER;CN="LFU:online Universität Innsbruck":MAILTO:Uni-Innsbruck-noreply@uibk.ac.at
SUMMARY:Thermodynamik (LV 710102-0 18W)
DESCRIPTION:Lehrveranstaltung 710102 18W, Gruppe 0\nTitel: Thermodynamik\nOrt: L.01.220\n\nhttps://lfuonline.uibk.ac.at/public/lfuonline_lv.details?sem_id_in=18W&lvnr_id_in=710102\n
CLASS:PUBLIC
DTSTART:20181017T170000Z
DTEND:20181017T183000Z
DTSTAMP:20260423T053321Z
LOCATION:L.01.220
COMMENT:Tutorium
END:VEVENT
BEGIN:VEVENT
UID:18W_710102_3170274@uibk.ac.at
ORGANIZER;CN="LFU:online Universität Innsbruck":MAILTO:Uni-Innsbruck-noreply@uibk.ac.at
SUMMARY:Thermodynamik (LV 710102-0 18W)
DESCRIPTION:Lehrveranstaltung 710102 18W, Gruppe 0\nTitel: Thermodynamik\nOrt: Hörsaal 1, Josef-Moeller-Haus\n\nhttps://lfuonline.uibk.ac.at/public/lfuonline_lv.details?sem_id_in=18W&lvnr_id_in=710102\n
CLASS:PUBLIC
DTSTART:20181023T071500Z
DTEND:20181023T084500Z
DTSTAMP:20260423T053321Z
LOCATION:Hörsaal 1, Josef-Moeller-Haus
END:VEVENT
BEGIN:VEVENT
UID:18W_710102_3170289@uibk.ac.at
ORGANIZER;CN="LFU:online Universität Innsbruck":MAILTO:Uni-Innsbruck-noreply@uibk.ac.at
SUMMARY:Thermodynamik (LV 710102-0 18W)
DESCRIPTION:Lehrveranstaltung 710102 18W, Gruppe 0\nTitel: Thermodynamik\nOrt: Hörsaal 1, Josef-Moeller-Haus\n\nhttps://lfuonline.uibk.ac.at/public/lfuonline_lv.details?sem_id_in=18W&lvnr_id_in=710102\n
CLASS:PUBLIC
DTSTART:20181024T060000Z
DTEND:20181024T073000Z
DTSTAMP:20260423T053321Z
LOCATION:Hörsaal 1, Josef-Moeller-Haus
END:VEVENT
BEGIN:VEVENT
UID:18W_710102_3249256@uibk.ac.at
ORGANIZER;CN="LFU:online Universität Innsbruck":MAILTO:Uni-Innsbruck-noreply@uibk.ac.at
SUMMARY:Thermodynamik (LV 710102-0 18W)
DESCRIPTION:Lehrveranstaltung 710102 18W, Gruppe 0\nTitel: Thermodynamik\nOrt: L.01.220\n\nhttps://lfuonline.uibk.ac.at/public/lfuonline_lv.details?sem_id_in=18W&lvnr_id_in=710102\n
CLASS:PUBLIC
DTSTART:20181024T170000Z
DTEND:20181024T183000Z
DTSTAMP:20260423T053321Z
LOCATION:L.01.220
COMMENT:Tutorium
END:VEVENT
BEGIN:VEVENT
UID:18W_710102_3170275@uibk.ac.at
ORGANIZER;CN="LFU:online Universität Innsbruck":MAILTO:Uni-Innsbruck-noreply@uibk.ac.at
SUMMARY:Thermodynamik (LV 710102-0 18W)
DESCRIPTION:Lehrveranstaltung 710102 18W, Gruppe 0\nTitel: Thermodynamik\nOrt: Hörsaal 1, Josef-Moeller-Haus\n\nhttps://lfuonline.uibk.ac.at/public/lfuonline_lv.details?sem_id_in=18W&lvnr_id_in=710102\n
CLASS:PUBLIC
DTSTART:20181030T081500Z
DTEND:20181030T094500Z
DTSTAMP:20260423T053321Z
LOCATION:Hörsaal 1, Josef-Moeller-Haus
END:VEVENT
BEGIN:VEVENT
UID:18W_710102_3170290@uibk.ac.at
ORGANIZER;CN="LFU:online Universität Innsbruck":MAILTO:Uni-Innsbruck-noreply@uibk.ac.at
SUMMARY:Thermodynamik (LV 710102-0 18W)
DESCRIPTION:Lehrveranstaltung 710102 18W, Gruppe 0\nTitel: Thermodynamik\nOrt: Hörsaal 1, Josef-Moeller-Haus\n\nhttps://lfuonline.uibk.ac.at/public/lfuonline_lv.details?sem_id_in=18W&lvnr_id_in=710102\n
CLASS:PUBLIC
DTSTART:20181031T070000Z
DTEND:20181031T083000Z
DTSTAMP:20260423T053321Z
LOCATION:Hörsaal 1, Josef-Moeller-Haus
END:VEVENT
BEGIN:VEVENT
UID:18W_710102_3249257@uibk.ac.at
ORGANIZER;CN="LFU:online Universität Innsbruck":MAILTO:Uni-Innsbruck-noreply@uibk.ac.at
SUMMARY:Thermodynamik (LV 710102-0 18W)
DESCRIPTION:Lehrveranstaltung 710102 18W, Gruppe 0\nTitel: Thermodynamik\nOrt: L.01.220\n\nhttps://lfuonline.uibk.ac.at/public/lfuonline_lv.details?sem_id_in=18W&lvnr_id_in=710102\n
CLASS:PUBLIC
DTSTART:20181031T180000Z
DTEND:20181031T193000Z
DTSTAMP:20260423T053321Z
LOCATION:L.01.220
COMMENT:Tutorium
END:VEVENT
BEGIN:VEVENT
UID:18W_710102_3170276@uibk.ac.at
ORGANIZER;CN="LFU:online Universität Innsbruck":MAILTO:Uni-Innsbruck-noreply@uibk.ac.at
SUMMARY:Thermodynamik (LV 710102-0 18W)
DESCRIPTION:Lehrveranstaltung 710102 18W, Gruppe 0\nTitel: Thermodynamik\nOrt: Hörsaal 1, Josef-Moeller-Haus\n\nhttps://lfuonline.uibk.ac.at/public/lfuonline_lv.details?sem_id_in=18W&lvnr_id_in=710102\n
CLASS:PUBLIC
DTSTART:20181106T081500Z
DTEND:20181106T094500Z
DTSTAMP:20260423T053321Z
LOCATION:Hörsaal 1, Josef-Moeller-Haus
END:VEVENT
BEGIN:VEVENT
UID:18W_710102_3170291@uibk.ac.at
ORGANIZER;CN="LFU:online Universität Innsbruck":MAILTO:Uni-Innsbruck-noreply@uibk.ac.at
SUMMARY:Thermodynamik (LV 710102-0 18W)
DESCRIPTION:Lehrveranstaltung 710102 18W, Gruppe 0\nTitel: Thermodynamik\nOrt: Hörsaal 1, Josef-Moeller-Haus\n\nhttps://lfuonline.uibk.ac.at/public/lfuonline_lv.details?sem_id_in=18W&lvnr_id_in=710102\n
CLASS:PUBLIC
DTSTART:20181107T070000Z
DTEND:20181107T083000Z
DTSTAMP:20260423T053321Z
LOCATION:Hörsaal 1, Josef-Moeller-Haus
END:VEVENT
BEGIN:VEVENT
UID:18W_710102_3249258@uibk.ac.at
ORGANIZER;CN="LFU:online Universität Innsbruck":MAILTO:Uni-Innsbruck-noreply@uibk.ac.at
SUMMARY:Thermodynamik (LV 710102-0 18W)
DESCRIPTION:Lehrveranstaltung 710102 18W, Gruppe 0\nTitel: Thermodynamik\nOrt: L.01.220\n\nhttps://lfuonline.uibk.ac.at/public/lfuonline_lv.details?sem_id_in=18W&lvnr_id_in=710102\n
CLASS:PUBLIC
DTSTART:20181107T180000Z
DTEND:20181107T193000Z
DTSTAMP:20260423T053321Z
LOCATION:L.01.220
COMMENT:Tutorium
END:VEVENT
BEGIN:VEVENT
UID:18W_710102_3170277@uibk.ac.at
ORGANIZER;CN="LFU:online Universität Innsbruck":MAILTO:Uni-Innsbruck-noreply@uibk.ac.at
SUMMARY:Thermodynamik (LV 710102-0 18W)
DESCRIPTION:Lehrveranstaltung 710102 18W, Gruppe 0\nTitel: Thermodynamik\nOrt: Hörsaal 1, Josef-Moeller-Haus\n\nhttps://lfuonline.uibk.ac.at/public/lfuonline_lv.details?sem_id_in=18W&lvnr_id_in=710102\n
CLASS:PUBLIC
DTSTART:20181113T081500Z
DTEND:20181113T094500Z
DTSTAMP:20260423T053321Z
LOCATION:Hörsaal 1, Josef-Moeller-Haus
END:VEVENT
BEGIN:VEVENT
UID:18W_710102_3170292@uibk.ac.at
ORGANIZER;CN="LFU:online Universität Innsbruck":MAILTO:Uni-Innsbruck-noreply@uibk.ac.at
SUMMARY:Thermodynamik (LV 710102-0 18W)
DESCRIPTION:Lehrveranstaltung 710102 18W, Gruppe 0\nTitel: Thermodynamik\nOrt: Hörsaal 1, Josef-Moeller-Haus\n\nhttps://lfuonline.uibk.ac.at/public/lfuonline_lv.details?sem_id_in=18W&lvnr_id_in=710102\n
CLASS:PUBLIC
DTSTART:20181114T070000Z
DTEND:20181114T083000Z
DTSTAMP:20260423T053321Z
LOCATION:Hörsaal 1, Josef-Moeller-Haus
END:VEVENT
BEGIN:VEVENT
UID:18W_710102_3249259@uibk.ac.at
ORGANIZER;CN="LFU:online Universität Innsbruck":MAILTO:Uni-Innsbruck-noreply@uibk.ac.at
SUMMARY:Thermodynamik (LV 710102-0 18W)
DESCRIPTION:Lehrveranstaltung 710102 18W, Gruppe 0\nTitel: Thermodynamik\nOrt: L.01.220\n\nhttps://lfuonline.uibk.ac.at/public/lfuonline_lv.details?sem_id_in=18W&lvnr_id_in=710102\n
CLASS:PUBLIC
DTSTART:20181114T180000Z
DTEND:20181114T193000Z
DTSTAMP:20260423T053321Z
LOCATION:L.01.220
COMMENT:Tutorium
END:VEVENT
BEGIN:VEVENT
UID:18W_710102_3170278@uibk.ac.at
ORGANIZER;CN="LFU:online Universität Innsbruck":MAILTO:Uni-Innsbruck-noreply@uibk.ac.at
SUMMARY:Thermodynamik (LV 710102-0 18W)
DESCRIPTION:Lehrveranstaltung 710102 18W, Gruppe 0\nTitel: Thermodynamik\nOrt: Hörsaal 1, Josef-Moeller-Haus\n\nhttps://lfuonline.uibk.ac.at/public/lfuonline_lv.details?sem_id_in=18W&lvnr_id_in=710102\n
CLASS:PUBLIC
DTSTART:20181120T081500Z
DTEND:20181120T094500Z
DTSTAMP:20260423T053321Z
LOCATION:Hörsaal 1, Josef-Moeller-Haus
END:VEVENT
BEGIN:VEVENT
UID:18W_710102_3170293@uibk.ac.at
ORGANIZER;CN="LFU:online Universität Innsbruck":MAILTO:Uni-Innsbruck-noreply@uibk.ac.at
SUMMARY:Thermodynamik (LV 710102-0 18W)
DESCRIPTION:Lehrveranstaltung 710102 18W, Gruppe 0\nTitel: Thermodynamik\nOrt: Hörsaal 1, Josef-Moeller-Haus\n\nhttps://lfuonline.uibk.ac.at/public/lfuonline_lv.details?sem_id_in=18W&lvnr_id_in=710102\n
CLASS:PUBLIC
DTSTART:20181121T070000Z
DTEND:20181121T083000Z
DTSTAMP:20260423T053321Z
LOCATION:Hörsaal 1, Josef-Moeller-Haus
END:VEVENT
BEGIN:VEVENT
UID:18W_710102_3249260@uibk.ac.at
ORGANIZER;CN="LFU:online Universität Innsbruck":MAILTO:Uni-Innsbruck-noreply@uibk.ac.at
SUMMARY:Thermodynamik (LV 710102-0 18W)
DESCRIPTION:Lehrveranstaltung 710102 18W, Gruppe 0\nTitel: Thermodynamik\nOrt: L.01.220\n\nhttps://lfuonline.uibk.ac.at/public/lfuonline_lv.details?sem_id_in=18W&lvnr_id_in=710102\n
CLASS:PUBLIC
DTSTART:20181121T180000Z
DTEND:20181121T193000Z
DTSTAMP:20260423T053321Z
LOCATION:L.01.220
COMMENT:Tutorium
END:VEVENT
BEGIN:VEVENT
UID:18W_710102_3170279@uibk.ac.at
ORGANIZER;CN="LFU:online Universität Innsbruck":MAILTO:Uni-Innsbruck-noreply@uibk.ac.at
SUMMARY:Thermodynamik (LV 710102-0 18W)
DESCRIPTION:Lehrveranstaltung 710102 18W, Gruppe 0\nTitel: Thermodynamik\nOrt: Hörsaal 1, Josef-Moeller-Haus\n\nhttps://lfuonline.uibk.ac.at/public/lfuonline_lv.details?sem_id_in=18W&lvnr_id_in=710102\n
CLASS:PUBLIC
DTSTART:20181127T081500Z
DTEND:20181127T094500Z
DTSTAMP:20260423T053321Z
LOCATION:Hörsaal 1, Josef-Moeller-Haus
END:VEVENT
BEGIN:VEVENT
UID:18W_710102_3170294@uibk.ac.at
ORGANIZER;CN="LFU:online Universität Innsbruck":MAILTO:Uni-Innsbruck-noreply@uibk.ac.at
SUMMARY:Thermodynamik (LV 710102-0 18W)
DESCRIPTION:Lehrveranstaltung 710102 18W, Gruppe 0\nTitel: Thermodynamik\nOrt: Hörsaal 1, Josef-Moeller-Haus\n\nhttps://lfuonline.uibk.ac.at/public/lfuonline_lv.details?sem_id_in=18W&lvnr_id_in=710102\n
CLASS:PUBLIC
DTSTART:20181128T070000Z
DTEND:20181128T083000Z
DTSTAMP:20260423T053321Z
LOCATION:Hörsaal 1, Josef-Moeller-Haus
END:VEVENT
BEGIN:VEVENT
UID:18W_710102_3249261@uibk.ac.at
ORGANIZER;CN="LFU:online Universität Innsbruck":MAILTO:Uni-Innsbruck-noreply@uibk.ac.at
SUMMARY:Thermodynamik (LV 710102-0 18W)
DESCRIPTION:Lehrveranstaltung 710102 18W, Gruppe 0\nTitel: Thermodynamik\nOrt: L.01.220\n\nhttps://lfuonline.uibk.ac.at/public/lfuonline_lv.details?sem_id_in=18W&lvnr_id_in=710102\n
CLASS:PUBLIC
DTSTART:20181128T180000Z
DTEND:20181128T193000Z
DTSTAMP:20260423T053321Z
LOCATION:L.01.220
COMMENT:Tutorium
END:VEVENT
BEGIN:VEVENT
UID:18W_710102_3170280@uibk.ac.at
ORGANIZER;CN="LFU:online Universität Innsbruck":MAILTO:Uni-Innsbruck-noreply@uibk.ac.at
SUMMARY:Thermodynamik (LV 710102-0 18W)
DESCRIPTION:Lehrveranstaltung 710102 18W, Gruppe 0\nTitel: Thermodynamik\nOrt: Hörsaal 1, Josef-Moeller-Haus\n\nhttps://lfuonline.uibk.ac.at/public/lfuonline_lv.details?sem_id_in=18W&lvnr_id_in=710102\n
CLASS:PUBLIC
DTSTART:20181204T081500Z
DTEND:20181204T094500Z
DTSTAMP:20260423T053321Z
LOCATION:Hörsaal 1, Josef-Moeller-Haus
END:VEVENT
BEGIN:VEVENT
UID:18W_710102_3170295@uibk.ac.at
ORGANIZER;CN="LFU:online Universität Innsbruck":MAILTO:Uni-Innsbruck-noreply@uibk.ac.at
SUMMARY:Thermodynamik (LV 710102-0 18W)
DESCRIPTION:Lehrveranstaltung 710102 18W, Gruppe 0\nTitel: Thermodynamik\nOrt: Hörsaal 1, Josef-Moeller-Haus\n\nhttps://lfuonline.uibk.ac.at/public/lfuonline_lv.details?sem_id_in=18W&lvnr_id_in=710102\n
CLASS:PUBLIC
DTSTART:20181205T070000Z
DTEND:20181205T083000Z
DTSTAMP:20260423T053321Z
LOCATION:Hörsaal 1, Josef-Moeller-Haus
END:VEVENT
BEGIN:VEVENT
UID:18W_710102_3249262@uibk.ac.at
ORGANIZER;CN="LFU:online Universität Innsbruck":MAILTO:Uni-Innsbruck-noreply@uibk.ac.at
SUMMARY:Thermodynamik (LV 710102-0 18W)
DESCRIPTION:Lehrveranstaltung 710102 18W, Gruppe 0\nTitel: Thermodynamik\nOrt: L.01.220\n\nhttps://lfuonline.uibk.ac.at/public/lfuonline_lv.details?sem_id_in=18W&lvnr_id_in=710102\n
CLASS:PUBLIC
DTSTART:20181205T180000Z
DTEND:20181205T193000Z
DTSTAMP:20260423T053321Z
LOCATION:L.01.220
COMMENT:Tutorium
END:VEVENT
BEGIN:VEVENT
UID:18W_710102_3170281@uibk.ac.at
ORGANIZER;CN="LFU:online Universität Innsbruck":MAILTO:Uni-Innsbruck-noreply@uibk.ac.at
SUMMARY:Thermodynamik (LV 710102-0 18W)
DESCRIPTION:Lehrveranstaltung 710102 18W, Gruppe 0\nTitel: Thermodynamik\nOrt: Hörsaal 1, Josef-Moeller-Haus\n\nhttps://lfuonline.uibk.ac.at/public/lfuonline_lv.details?sem_id_in=18W&lvnr_id_in=710102\n
CLASS:PUBLIC
DTSTART:20181211T081500Z
DTEND:20181211T094500Z
DTSTAMP:20260423T053321Z
LOCATION:Hörsaal 1, Josef-Moeller-Haus
END:VEVENT
BEGIN:VEVENT
UID:18W_710102_3170296@uibk.ac.at
ORGANIZER;CN="LFU:online Universität Innsbruck":MAILTO:Uni-Innsbruck-noreply@uibk.ac.at
SUMMARY:Thermodynamik (LV 710102-0 18W)
DESCRIPTION:Lehrveranstaltung 710102 18W, Gruppe 0\nTitel: Thermodynamik\nOrt: Hörsaal 1, Josef-Moeller-Haus\n\nhttps://lfuonline.uibk.ac.at/public/lfuonline_lv.details?sem_id_in=18W&lvnr_id_in=710102\n
CLASS:PUBLIC
DTSTART:20181212T070000Z
DTEND:20181212T083000Z
DTSTAMP:20260423T053321Z
LOCATION:Hörsaal 1, Josef-Moeller-Haus
END:VEVENT
BEGIN:VEVENT
UID:18W_710102_3249263@uibk.ac.at
ORGANIZER;CN="LFU:online Universität Innsbruck":MAILTO:Uni-Innsbruck-noreply@uibk.ac.at
SUMMARY:Thermodynamik (LV 710102-0 18W)
DESCRIPTION:Lehrveranstaltung 710102 18W, Gruppe 0\nTitel: Thermodynamik\nOrt: L.01.220\n\nhttps://lfuonline.uibk.ac.at/public/lfuonline_lv.details?sem_id_in=18W&lvnr_id_in=710102\n
CLASS:PUBLIC
DTSTART:20181212T180000Z
DTEND:20181212T193000Z
DTSTAMP:20260423T053321Z
LOCATION:L.01.220
COMMENT:Tutorium
END:VEVENT
BEGIN:VEVENT
UID:18W_710102_3298495@uibk.ac.at
ORGANIZER;CN="LFU:online Universität Innsbruck":MAILTO:Uni-Innsbruck-noreply@uibk.ac.at
SUMMARY:Thermodynamik (LV 710102-0 18W)
DESCRIPTION:Lehrveranstaltung 710102 18W, Gruppe 0\nTitel: Thermodynamik\nOrt: L.EG.220\n\nhttps://lfuonline.uibk.ac.at/public/lfuonline_lv.details?sem_id_in=18W&lvnr_id_in=710102\n
CLASS:PUBLIC
DTSTART:20181213T190000Z
DTEND:20181213T203000Z
DTSTAMP:20260423T053321Z
LOCATION:L.EG.220
COMMENT:Tutorium
END:VEVENT
BEGIN:VEVENT
UID:18W_710102_3170282@uibk.ac.at
ORGANIZER;CN="LFU:online Universität Innsbruck":MAILTO:Uni-Innsbruck-noreply@uibk.ac.at
SUMMARY:Thermodynamik (LV 710102-0 18W)
DESCRIPTION:Lehrveranstaltung 710102 18W, Gruppe 0\nTitel: Thermodynamik\nOrt: Hörsaal 1, Josef-Moeller-Haus\n\nhttps://lfuonline.uibk.ac.at/public/lfuonline_lv.details?sem_id_in=18W&lvnr_id_in=710102\n
CLASS:PUBLIC
DTSTART:20190108T081500Z
DTEND:20190108T094500Z
DTSTAMP:20260423T053321Z
LOCATION:Hörsaal 1, Josef-Moeller-Haus
END:VEVENT
BEGIN:VEVENT
UID:18W_710102_3170297@uibk.ac.at
ORGANIZER;CN="LFU:online Universität Innsbruck":MAILTO:Uni-Innsbruck-noreply@uibk.ac.at
SUMMARY:Thermodynamik (LV 710102-0 18W)
DESCRIPTION:Lehrveranstaltung 710102 18W, Gruppe 0\nTitel: Thermodynamik\nOrt: Hörsaal 1, Josef-Moeller-Haus\n\nhttps://lfuonline.uibk.ac.at/public/lfuonline_lv.details?sem_id_in=18W&lvnr_id_in=710102\n
CLASS:PUBLIC
DTSTART:20190109T070000Z
DTEND:20190109T083000Z
DTSTAMP:20260423T053321Z
LOCATION:Hörsaal 1, Josef-Moeller-Haus
END:VEVENT
BEGIN:VEVENT
UID:18W_710102_3249264@uibk.ac.at
ORGANIZER;CN="LFU:online Universität Innsbruck":MAILTO:Uni-Innsbruck-noreply@uibk.ac.at
SUMMARY:Thermodynamik (LV 710102-0 18W)
DESCRIPTION:Lehrveranstaltung 710102 18W, Gruppe 0\nTitel: Thermodynamik\nOrt: L.01.220\n\nhttps://lfuonline.uibk.ac.at/public/lfuonline_lv.details?sem_id_in=18W&lvnr_id_in=710102\n
CLASS:PUBLIC
DTSTART:20190109T180000Z
DTEND:20190109T193000Z
DTSTAMP:20260423T053321Z
LOCATION:L.01.220
COMMENT:Tutorium
END:VEVENT
BEGIN:VEVENT
UID:18W_710102_3170283@uibk.ac.at
ORGANIZER;CN="LFU:online Universität Innsbruck":MAILTO:Uni-Innsbruck-noreply@uibk.ac.at
SUMMARY:Thermodynamik (LV 710102-0 18W)
DESCRIPTION:Lehrveranstaltung 710102 18W, Gruppe 0\nTitel: Thermodynamik\nOrt: Hörsaal 1, Josef-Moeller-Haus\n\nhttps://lfuonline.uibk.ac.at/public/lfuonline_lv.details?sem_id_in=18W&lvnr_id_in=710102\n
CLASS:PUBLIC
DTSTART:20190115T081500Z
DTEND:20190115T094500Z
DTSTAMP:20260423T053321Z
LOCATION:Hörsaal 1, Josef-Moeller-Haus
END:VEVENT
BEGIN:VEVENT
UID:18W_710102_3170298@uibk.ac.at
ORGANIZER;CN="LFU:online Universität Innsbruck":MAILTO:Uni-Innsbruck-noreply@uibk.ac.at
SUMMARY:Thermodynamik (LV 710102-0 18W)
DESCRIPTION:Lehrveranstaltung 710102 18W, Gruppe 0\nTitel: Thermodynamik\nOrt: Hörsaal 1, Josef-Moeller-Haus\n\nhttps://lfuonline.uibk.ac.at/public/lfuonline_lv.details?sem_id_in=18W&lvnr_id_in=710102\n
CLASS:PUBLIC
DTSTART:20190116T070000Z
DTEND:20190116T083000Z
DTSTAMP:20260423T053321Z
LOCATION:Hörsaal 1, Josef-Moeller-Haus
END:VEVENT
BEGIN:VEVENT
UID:18W_710102_3249265@uibk.ac.at
ORGANIZER;CN="LFU:online Universität Innsbruck":MAILTO:Uni-Innsbruck-noreply@uibk.ac.at
SUMMARY:Thermodynamik (LV 710102-0 18W)
DESCRIPTION:Lehrveranstaltung 710102 18W, Gruppe 0\nTitel: Thermodynamik\nOrt: L.01.220\n\nhttps://lfuonline.uibk.ac.at/public/lfuonline_lv.details?sem_id_in=18W&lvnr_id_in=710102\n
CLASS:PUBLIC
DTSTART:20190116T180000Z
DTEND:20190116T193000Z
DTSTAMP:20260423T053321Z
LOCATION:L.01.220
COMMENT:Tutorium
END:VEVENT
BEGIN:VEVENT
UID:18W_710102_3170284@uibk.ac.at
ORGANIZER;CN="LFU:online Universität Innsbruck":MAILTO:Uni-Innsbruck-noreply@uibk.ac.at
SUMMARY:Thermodynamik (LV 710102-0 18W)
DESCRIPTION:Lehrveranstaltung 710102 18W, Gruppe 0\nTitel: Thermodynamik\nOrt: Hörsaal 1, Josef-Moeller-Haus\n\nhttps://lfuonline.uibk.ac.at/public/lfuonline_lv.details?sem_id_in=18W&lvnr_id_in=710102\n
CLASS:PUBLIC
DTSTART:20190122T081500Z
DTEND:20190122T094500Z
DTSTAMP:20260423T053321Z
LOCATION:Hörsaal 1, Josef-Moeller-Haus
END:VEVENT
BEGIN:VEVENT
UID:18W_710102_3170299@uibk.ac.at
ORGANIZER;CN="LFU:online Universität Innsbruck":MAILTO:Uni-Innsbruck-noreply@uibk.ac.at
SUMMARY:Thermodynamik (LV 710102-0 18W)
DESCRIPTION:Lehrveranstaltung 710102 18W, Gruppe 0\nTitel: Thermodynamik\nOrt: Hörsaal 1, Josef-Moeller-Haus\n\nhttps://lfuonline.uibk.ac.at/public/lfuonline_lv.details?sem_id_in=18W&lvnr_id_in=710102\n
CLASS:PUBLIC
DTSTART:20190123T070000Z
DTEND:20190123T083000Z
DTSTAMP:20260423T053321Z
LOCATION:Hörsaal 1, Josef-Moeller-Haus
END:VEVENT
BEGIN:VEVENT
UID:18W_710102_3249266@uibk.ac.at
ORGANIZER;CN="LFU:online Universität Innsbruck":MAILTO:Uni-Innsbruck-noreply@uibk.ac.at
SUMMARY:Thermodynamik (LV 710102-0 18W)
DESCRIPTION:Lehrveranstaltung 710102 18W, Gruppe 0\nTitel: Thermodynamik\nOrt: L.01.220\n\nhttps://lfuonline.uibk.ac.at/public/lfuonline_lv.details?sem_id_in=18W&lvnr_id_in=710102\n
CLASS:PUBLIC
DTSTART:20190123T180000Z
DTEND:20190123T193000Z
DTSTAMP:20260423T053321Z
LOCATION:L.01.220
COMMENT:Tutorium
END:VEVENT
BEGIN:VEVENT
UID:18W_710102_3170285@uibk.ac.at
ORGANIZER;CN="LFU:online Universität Innsbruck":MAILTO:Uni-Innsbruck-noreply@uibk.ac.at
SUMMARY:Thermodynamik (LV 710102-0 18W)
DESCRIPTION:Lehrveranstaltung 710102 18W, Gruppe 0\nTitel: Thermodynamik\nOrt: Hörsaal 1, Josef-Moeller-Haus\n\nhttps://lfuonline.uibk.ac.at/public/lfuonline_lv.details?sem_id_in=18W&lvnr_id_in=710102\n
CLASS:PUBLIC
DTSTART:20190129T081500Z
DTEND:20190129T094500Z
DTSTAMP:20260423T053321Z
LOCATION:Hörsaal 1, Josef-Moeller-Haus
END:VEVENT
BEGIN:VEVENT
UID:18W_710102_3170300@uibk.ac.at
ORGANIZER;CN="LFU:online Universität Innsbruck":MAILTO:Uni-Innsbruck-noreply@uibk.ac.at
SUMMARY:Thermodynamik (LV 710102-0 18W)
DESCRIPTION:Lehrveranstaltung 710102 18W, Gruppe 0\nTitel: Thermodynamik\nOrt: Hörsaal 1, Josef-Moeller-Haus\n\nhttps://lfuonline.uibk.ac.at/public/lfuonline_lv.details?sem_id_in=18W&lvnr_id_in=710102\n
CLASS:PUBLIC
DTSTART:20190130T070000Z
DTEND:20190130T083000Z
DTSTAMP:20260423T053321Z
LOCATION:Hörsaal 1, Josef-Moeller-Haus
END:VEVENT
BEGIN:VEVENT
UID:18W_710102_3249267@uibk.ac.at
ORGANIZER;CN="LFU:online Universität Innsbruck":MAILTO:Uni-Innsbruck-noreply@uibk.ac.at
SUMMARY:Thermodynamik (LV 710102-0 18W)
DESCRIPTION:Lehrveranstaltung 710102 18W, Gruppe 0\nTitel: Thermodynamik\nOrt: L.01.220\n\nhttps://lfuonline.uibk.ac.at/public/lfuonline_lv.details?sem_id_in=18W&lvnr_id_in=710102\n
CLASS:PUBLIC
DTSTART:20190130T180000Z
DTEND:20190130T193000Z
DTSTAMP:20260423T053321Z
LOCATION:L.01.220
COMMENT:Tutorium
END:VEVENT
BEGIN:VEVENT
UID:18W_710102_3335380@uibk.ac.at
ORGANIZER;CN="LFU:online Universität Innsbruck":MAILTO:Uni-Innsbruck-noreply@uibk.ac.at
SUMMARY:Thermodynamik (LV 710102-0 18W)
DESCRIPTION:Lehrveranstaltung 710102 18W, Gruppe 0\nTitel: Thermodynamik\nOrt: L.01.220\n\nhttps://lfuonline.uibk.ac.at/public/lfuonline_lv.details?sem_id_in=18W&lvnr_id_in=710102\n
CLASS:PUBLIC
DTSTART:20190206T170000Z
DTEND:20190206T183000Z
DTSTAMP:20260423T053321Z
LOCATION:L.01.220
COMMENT:Tutorium
END:VEVENT
END:VCALENDAR