BEGIN:VCALENDAR
VERSION:2.0
PRODID:-//Universität Innsbruck//LFU:online//DE
METHOD:PUBLISH
BEGIN:VEVENT
UID:11W_710103_1620074@uibk.ac.at
ORGANIZER;CN="LFU:online Universität Innsbruck":MAILTO:Uni-Innsbruck-noreply@uibk.ac.at
SUMMARY:Physikalische Chemie III (LV 710103-0 11W)
DESCRIPTION:Lehrveranstaltung 710103 11W, Gruppe 0\nTitel: Physikalische Chemie III\nOrt: Kl. HS Chemie\n\nhttps://lfuonline.uibk.ac.at/public/lfuonline_lv.details?sem_id_in=11W&lvnr_id_in=710103\n
CLASS:PUBLIC
DTSTART:20111003T070000Z
DTEND:20111003T083000Z
DTSTAMP:20260420T212241Z
LOCATION:Kl. HS Chemie
END:VEVENT
BEGIN:VEVENT
UID:11W_710103_1620075@uibk.ac.at
ORGANIZER;CN="LFU:online Universität Innsbruck":MAILTO:Uni-Innsbruck-noreply@uibk.ac.at
SUMMARY:Physikalische Chemie III (LV 710103-0 11W)
DESCRIPTION:Lehrveranstaltung 710103 11W, Gruppe 0\nTitel: Physikalische Chemie III\nOrt: Kl. HS Chemie\n\nhttps://lfuonline.uibk.ac.at/public/lfuonline_lv.details?sem_id_in=11W&lvnr_id_in=710103\n
CLASS:PUBLIC
DTSTART:20111004T070000Z
DTEND:20111004T083000Z
DTSTAMP:20260420T212241Z
LOCATION:Kl. HS Chemie
END:VEVENT
BEGIN:VEVENT
UID:11W_710103_1620076@uibk.ac.at
ORGANIZER;CN="LFU:online Universität Innsbruck":MAILTO:Uni-Innsbruck-noreply@uibk.ac.at
SUMMARY:Physikalische Chemie III (LV 710103-0 11W)
DESCRIPTION:Lehrveranstaltung 710103 11W, Gruppe 0\nTitel: Physikalische Chemie III\nOrt: Kl. HS Chemie\n\nhttps://lfuonline.uibk.ac.at/public/lfuonline_lv.details?sem_id_in=11W&lvnr_id_in=710103\n
CLASS:PUBLIC
DTSTART:20111010T070000Z
DTEND:20111010T083000Z
DTSTAMP:20260420T212241Z
LOCATION:Kl. HS Chemie
END:VEVENT
BEGIN:VEVENT
UID:11W_710103_1620077@uibk.ac.at
ORGANIZER;CN="LFU:online Universität Innsbruck":MAILTO:Uni-Innsbruck-noreply@uibk.ac.at
SUMMARY:Physikalische Chemie III (LV 710103-0 11W)
DESCRIPTION:Lehrveranstaltung 710103 11W, Gruppe 0\nTitel: Physikalische Chemie III\nOrt: Kl. HS Chemie\n\nhttps://lfuonline.uibk.ac.at/public/lfuonline_lv.details?sem_id_in=11W&lvnr_id_in=710103\n
CLASS:PUBLIC
DTSTART:20111011T070000Z
DTEND:20111011T083000Z
DTSTAMP:20260420T212241Z
LOCATION:Kl. HS Chemie
END:VEVENT
BEGIN:VEVENT
UID:11W_710103_1620078@uibk.ac.at
ORGANIZER;CN="LFU:online Universität Innsbruck":MAILTO:Uni-Innsbruck-noreply@uibk.ac.at
SUMMARY:Physikalische Chemie III (LV 710103-0 11W)
DESCRIPTION:Lehrveranstaltung 710103 11W, Gruppe 0\nTitel: Physikalische Chemie III\nOrt: Kl. HS Chemie\n\nhttps://lfuonline.uibk.ac.at/public/lfuonline_lv.details?sem_id_in=11W&lvnr_id_in=710103\n
CLASS:PUBLIC
DTSTART:20111017T070000Z
DTEND:20111017T083000Z
DTSTAMP:20260420T212241Z
LOCATION:Kl. HS Chemie
END:VEVENT
BEGIN:VEVENT
UID:11W_710103_1620079@uibk.ac.at
ORGANIZER;CN="LFU:online Universität Innsbruck":MAILTO:Uni-Innsbruck-noreply@uibk.ac.at
SUMMARY:Physikalische Chemie III (LV 710103-0 11W)
DESCRIPTION:Lehrveranstaltung 710103 11W, Gruppe 0\nTitel: Physikalische Chemie III\nOrt: Kl. HS Chemie\n\nhttps://lfuonline.uibk.ac.at/public/lfuonline_lv.details?sem_id_in=11W&lvnr_id_in=710103\n
CLASS:PUBLIC
DTSTART:20111018T070000Z
DTEND:20111018T083000Z
DTSTAMP:20260420T212241Z
LOCATION:Kl. HS Chemie
END:VEVENT
BEGIN:VEVENT
UID:11W_710103_1620080@uibk.ac.at
ORGANIZER;CN="LFU:online Universität Innsbruck":MAILTO:Uni-Innsbruck-noreply@uibk.ac.at
SUMMARY:Physikalische Chemie III (LV 710103-0 11W)
DESCRIPTION:Lehrveranstaltung 710103 11W, Gruppe 0\nTitel: Physikalische Chemie III\nOrt: Kl. HS Chemie\n\nhttps://lfuonline.uibk.ac.at/public/lfuonline_lv.details?sem_id_in=11W&lvnr_id_in=710103\n
CLASS:PUBLIC
DTSTART:20111024T070000Z
DTEND:20111024T083000Z
DTSTAMP:20260420T212241Z
LOCATION:Kl. HS Chemie
END:VEVENT
BEGIN:VEVENT
UID:11W_710103_1620081@uibk.ac.at
ORGANIZER;CN="LFU:online Universität Innsbruck":MAILTO:Uni-Innsbruck-noreply@uibk.ac.at
SUMMARY:Physikalische Chemie III (LV 710103-0 11W)
DESCRIPTION:Lehrveranstaltung 710103 11W, Gruppe 0\nTitel: Physikalische Chemie III\nOrt: Kl. HS Chemie\n\nhttps://lfuonline.uibk.ac.at/public/lfuonline_lv.details?sem_id_in=11W&lvnr_id_in=710103\n
CLASS:PUBLIC
DTSTART:20111025T070000Z
DTEND:20111025T083000Z
DTSTAMP:20260420T212241Z
LOCATION:Kl. HS Chemie
END:VEVENT
BEGIN:VEVENT
UID:11W_710103_1620082@uibk.ac.at
ORGANIZER;CN="LFU:online Universität Innsbruck":MAILTO:Uni-Innsbruck-noreply@uibk.ac.at
SUMMARY:Physikalische Chemie III (LV 710103-0 11W)
DESCRIPTION:Lehrveranstaltung 710103 11W, Gruppe 0\nTitel: Physikalische Chemie III\nOrt: Kl. HS Chemie\n\nhttps://lfuonline.uibk.ac.at/public/lfuonline_lv.details?sem_id_in=11W&lvnr_id_in=710103\n
CLASS:PUBLIC
DTSTART:20111031T080000Z
DTEND:20111031T093000Z
DTSTAMP:20260420T212241Z
LOCATION:Kl. HS Chemie
END:VEVENT
BEGIN:VEVENT
UID:11W_710103_1620083@uibk.ac.at
ORGANIZER;CN="LFU:online Universität Innsbruck":MAILTO:Uni-Innsbruck-noreply@uibk.ac.at
SUMMARY:Physikalische Chemie III (LV 710103-0 11W)
DESCRIPTION:Lehrveranstaltung 710103 11W, Gruppe 0\nTitel: Physikalische Chemie III\nOrt: Kl. HS Chemie\n\nhttps://lfuonline.uibk.ac.at/public/lfuonline_lv.details?sem_id_in=11W&lvnr_id_in=710103\n
CLASS:PUBLIC
DTSTART:20111107T080000Z
DTEND:20111107T093000Z
DTSTAMP:20260420T212241Z
LOCATION:Kl. HS Chemie
END:VEVENT
BEGIN:VEVENT
UID:11W_710103_1620084@uibk.ac.at
ORGANIZER;CN="LFU:online Universität Innsbruck":MAILTO:Uni-Innsbruck-noreply@uibk.ac.at
SUMMARY:Physikalische Chemie III (LV 710103-0 11W)
DESCRIPTION:Lehrveranstaltung 710103 11W, Gruppe 0\nTitel: Physikalische Chemie III\nOrt: Kl. HS Chemie\n\nhttps://lfuonline.uibk.ac.at/public/lfuonline_lv.details?sem_id_in=11W&lvnr_id_in=710103\n
CLASS:PUBLIC
DTSTART:20111108T080000Z
DTEND:20111108T093000Z
DTSTAMP:20260420T212241Z
LOCATION:Kl. HS Chemie
END:VEVENT
BEGIN:VEVENT
UID:11W_710103_1620085@uibk.ac.at
ORGANIZER;CN="LFU:online Universität Innsbruck":MAILTO:Uni-Innsbruck-noreply@uibk.ac.at
SUMMARY:Physikalische Chemie III (LV 710103-0 11W)
DESCRIPTION:Lehrveranstaltung 710103 11W, Gruppe 0\nTitel: Physikalische Chemie III\nOrt: Kl. HS Chemie\n\nhttps://lfuonline.uibk.ac.at/public/lfuonline_lv.details?sem_id_in=11W&lvnr_id_in=710103\n
CLASS:PUBLIC
DTSTART:20111114T080000Z
DTEND:20111114T093000Z
DTSTAMP:20260420T212241Z
LOCATION:Kl. HS Chemie
END:VEVENT
BEGIN:VEVENT
UID:11W_710103_1620086@uibk.ac.at
ORGANIZER;CN="LFU:online Universität Innsbruck":MAILTO:Uni-Innsbruck-noreply@uibk.ac.at
SUMMARY:Physikalische Chemie III (LV 710103-0 11W)
DESCRIPTION:Lehrveranstaltung 710103 11W, Gruppe 0\nTitel: Physikalische Chemie III\nOrt: Kl. HS Chemie\n\nhttps://lfuonline.uibk.ac.at/public/lfuonline_lv.details?sem_id_in=11W&lvnr_id_in=710103\n
CLASS:PUBLIC
DTSTART:20111115T080000Z
DTEND:20111115T093000Z
DTSTAMP:20260420T212241Z
LOCATION:Kl. HS Chemie
END:VEVENT
BEGIN:VEVENT
UID:11W_710103_1620087@uibk.ac.at
ORGANIZER;CN="LFU:online Universität Innsbruck":MAILTO:Uni-Innsbruck-noreply@uibk.ac.at
SUMMARY:Physikalische Chemie III (LV 710103-0 11W)
DESCRIPTION:Lehrveranstaltung 710103 11W, Gruppe 0\nTitel: Physikalische Chemie III\nOrt: Kl. HS Chemie\n\nhttps://lfuonline.uibk.ac.at/public/lfuonline_lv.details?sem_id_in=11W&lvnr_id_in=710103\n
CLASS:PUBLIC
DTSTART:20111121T080000Z
DTEND:20111121T093000Z
DTSTAMP:20260420T212241Z
LOCATION:Kl. HS Chemie
END:VEVENT
END:VCALENDAR