BEGIN:VCALENDAR
VERSION:2.0
PRODID:-//Universität Innsbruck//LFU:online//DE
METHOD:PUBLISH
BEGIN:VEVENT
UID:25W_712001_4875662@uibk.ac.at
ORGANIZER;CN="LFU:online Universität Innsbruck":MAILTO:Uni-Innsbruck-noreply@uibk.ac.at
SUMMARY:VO Biochemie I (LV 712001-0 25W)
DESCRIPTION:Lehrveranstaltung 712001 25W, Gruppe 0\nTitel: VO Biochemie I\nOrt: L.EG.220\n\nhttps://lfuonline.uibk.ac.at/public/lfuonline_lv.details?sem_id_in=25W&lvnr_id_in=712001\n
CLASS:PUBLIC
DTSTART:20251002T060000Z
DTEND:20251002T070000Z
DTSTAMP:20260422T054455Z
LOCATION:L.EG.220
END:VEVENT
BEGIN:VEVENT
UID:25W_712001_4875648@uibk.ac.at
ORGANIZER;CN="LFU:online Universität Innsbruck":MAILTO:Uni-Innsbruck-noreply@uibk.ac.at
SUMMARY:VO Biochemie I (LV 712001-0 25W)
DESCRIPTION:Lehrveranstaltung 712001 25W, Gruppe 0\nTitel: VO Biochemie I\nOrt: L.EG.220\n\nhttps://lfuonline.uibk.ac.at/public/lfuonline_lv.details?sem_id_in=25W&lvnr_id_in=712001\n
CLASS:PUBLIC
DTSTART:20251003T060000Z
DTEND:20251003T071500Z
DTSTAMP:20260422T054455Z
LOCATION:L.EG.220
END:VEVENT
BEGIN:VEVENT
UID:25W_712001_4875663@uibk.ac.at
ORGANIZER;CN="LFU:online Universität Innsbruck":MAILTO:Uni-Innsbruck-noreply@uibk.ac.at
SUMMARY:VO Biochemie I (LV 712001-0 25W)
DESCRIPTION:Lehrveranstaltung 712001 25W, Gruppe 0\nTitel: VO Biochemie I\nOrt: L.EG.220\n\nhttps://lfuonline.uibk.ac.at/public/lfuonline_lv.details?sem_id_in=25W&lvnr_id_in=712001\n
CLASS:PUBLIC
DTSTART:20251009T060000Z
DTEND:20251009T070000Z
DTSTAMP:20260422T054455Z
LOCATION:L.EG.220
END:VEVENT
BEGIN:VEVENT
UID:25W_712001_4875649@uibk.ac.at
ORGANIZER;CN="LFU:online Universität Innsbruck":MAILTO:Uni-Innsbruck-noreply@uibk.ac.at
SUMMARY:VO Biochemie I (LV 712001-0 25W)
DESCRIPTION:Lehrveranstaltung 712001 25W, Gruppe 0\nTitel: VO Biochemie I\nOrt: L.EG.220\n\nhttps://lfuonline.uibk.ac.at/public/lfuonline_lv.details?sem_id_in=25W&lvnr_id_in=712001\n
CLASS:PUBLIC
DTSTART:20251010T060000Z
DTEND:20251010T071500Z
DTSTAMP:20260422T054455Z
LOCATION:L.EG.220
END:VEVENT
BEGIN:VEVENT
UID:25W_712001_4875664@uibk.ac.at
ORGANIZER;CN="LFU:online Universität Innsbruck":MAILTO:Uni-Innsbruck-noreply@uibk.ac.at
SUMMARY:VO Biochemie I (LV 712001-0 25W)
DESCRIPTION:Lehrveranstaltung 712001 25W, Gruppe 0\nTitel: VO Biochemie I\nOrt: L.EG.220\n\nhttps://lfuonline.uibk.ac.at/public/lfuonline_lv.details?sem_id_in=25W&lvnr_id_in=712001\n
CLASS:PUBLIC
DTSTART:20251016T060000Z
DTEND:20251016T070000Z
DTSTAMP:20260422T054455Z
LOCATION:L.EG.220
END:VEVENT
BEGIN:VEVENT
UID:25W_712001_4875665@uibk.ac.at
ORGANIZER;CN="LFU:online Universität Innsbruck":MAILTO:Uni-Innsbruck-noreply@uibk.ac.at
SUMMARY:VO Biochemie I (LV 712001-0 25W)
DESCRIPTION:Lehrveranstaltung 712001 25W, Gruppe 0\nTitel: VO Biochemie I\nOrt: L.EG.220\n\nhttps://lfuonline.uibk.ac.at/public/lfuonline_lv.details?sem_id_in=25W&lvnr_id_in=712001\n
CLASS:PUBLIC
DTSTART:20251023T060000Z
DTEND:20251023T070000Z
DTSTAMP:20260422T054455Z
LOCATION:L.EG.220
END:VEVENT
BEGIN:VEVENT
UID:25W_712001_4875650@uibk.ac.at
ORGANIZER;CN="LFU:online Universität Innsbruck":MAILTO:Uni-Innsbruck-noreply@uibk.ac.at
SUMMARY:VO Biochemie I (LV 712001-0 25W)
DESCRIPTION:Lehrveranstaltung 712001 25W, Gruppe 0\nTitel: VO Biochemie I\nOrt: L.EG.220\n\nhttps://lfuonline.uibk.ac.at/public/lfuonline_lv.details?sem_id_in=25W&lvnr_id_in=712001\n
CLASS:PUBLIC
DTSTART:20251024T060000Z
DTEND:20251024T071500Z
DTSTAMP:20260422T054455Z
LOCATION:L.EG.220
END:VEVENT
BEGIN:VEVENT
UID:25W_712001_4875666@uibk.ac.at
ORGANIZER;CN="LFU:online Universität Innsbruck":MAILTO:Uni-Innsbruck-noreply@uibk.ac.at
SUMMARY:VO Biochemie I (LV 712001-0 25W)
DESCRIPTION:Lehrveranstaltung 712001 25W, Gruppe 0\nTitel: VO Biochemie I\nOrt: L.EG.220\n\nhttps://lfuonline.uibk.ac.at/public/lfuonline_lv.details?sem_id_in=25W&lvnr_id_in=712001\n
CLASS:PUBLIC
DTSTART:20251030T070000Z
DTEND:20251030T080000Z
DTSTAMP:20260422T054455Z
LOCATION:L.EG.220
END:VEVENT
BEGIN:VEVENT
UID:25W_712001_4875651@uibk.ac.at
ORGANIZER;CN="LFU:online Universität Innsbruck":MAILTO:Uni-Innsbruck-noreply@uibk.ac.at
SUMMARY:VO Biochemie I (LV 712001-0 25W)
DESCRIPTION:Lehrveranstaltung 712001 25W, Gruppe 0\nTitel: VO Biochemie I\nOrt: L.EG.220\n\nhttps://lfuonline.uibk.ac.at/public/lfuonline_lv.details?sem_id_in=25W&lvnr_id_in=712001\n
CLASS:PUBLIC
DTSTART:20251031T070000Z
DTEND:20251031T081500Z
DTSTAMP:20260422T054455Z
LOCATION:L.EG.220
END:VEVENT
BEGIN:VEVENT
UID:25W_712001_4875667@uibk.ac.at
ORGANIZER;CN="LFU:online Universität Innsbruck":MAILTO:Uni-Innsbruck-noreply@uibk.ac.at
SUMMARY:VO Biochemie I (LV 712001-0 25W)
DESCRIPTION:Lehrveranstaltung 712001 25W, Gruppe 0\nTitel: VO Biochemie I\nOrt: L.EG.220\n\nhttps://lfuonline.uibk.ac.at/public/lfuonline_lv.details?sem_id_in=25W&lvnr_id_in=712001\n
CLASS:PUBLIC
DTSTART:20251106T070000Z
DTEND:20251106T080000Z
DTSTAMP:20260422T054455Z
LOCATION:L.EG.220
END:VEVENT
BEGIN:VEVENT
UID:25W_712001_4875652@uibk.ac.at
ORGANIZER;CN="LFU:online Universität Innsbruck":MAILTO:Uni-Innsbruck-noreply@uibk.ac.at
SUMMARY:VO Biochemie I (LV 712001-0 25W)
DESCRIPTION:Lehrveranstaltung 712001 25W, Gruppe 0\nTitel: VO Biochemie I\nOrt: L.EG.220\n\nhttps://lfuonline.uibk.ac.at/public/lfuonline_lv.details?sem_id_in=25W&lvnr_id_in=712001\n
CLASS:PUBLIC
DTSTART:20251107T070000Z
DTEND:20251107T081500Z
DTSTAMP:20260422T054455Z
LOCATION:L.EG.220
END:VEVENT
BEGIN:VEVENT
UID:25W_712001_4875668@uibk.ac.at
ORGANIZER;CN="LFU:online Universität Innsbruck":MAILTO:Uni-Innsbruck-noreply@uibk.ac.at
SUMMARY:VO Biochemie I (LV 712001-0 25W)
DESCRIPTION:Lehrveranstaltung 712001 25W, Gruppe 0\nTitel: VO Biochemie I\nOrt: L.EG.220\n\nhttps://lfuonline.uibk.ac.at/public/lfuonline_lv.details?sem_id_in=25W&lvnr_id_in=712001\n
CLASS:PUBLIC
DTSTART:20251113T070000Z
DTEND:20251113T080000Z
DTSTAMP:20260422T054455Z
LOCATION:L.EG.220
END:VEVENT
BEGIN:VEVENT
UID:25W_712001_4875653@uibk.ac.at
ORGANIZER;CN="LFU:online Universität Innsbruck":MAILTO:Uni-Innsbruck-noreply@uibk.ac.at
SUMMARY:VO Biochemie I (LV 712001-0 25W)
DESCRIPTION:Lehrveranstaltung 712001 25W, Gruppe 0\nTitel: VO Biochemie I\nOrt: L.EG.220\n\nhttps://lfuonline.uibk.ac.at/public/lfuonline_lv.details?sem_id_in=25W&lvnr_id_in=712001\n
CLASS:PUBLIC
DTSTART:20251114T070000Z
DTEND:20251114T081500Z
DTSTAMP:20260422T054455Z
LOCATION:L.EG.220
END:VEVENT
BEGIN:VEVENT
UID:25W_712001_4875669@uibk.ac.at
ORGANIZER;CN="LFU:online Universität Innsbruck":MAILTO:Uni-Innsbruck-noreply@uibk.ac.at
SUMMARY:VO Biochemie I (LV 712001-0 25W)
DESCRIPTION:Lehrveranstaltung 712001 25W, Gruppe 0\nTitel: VO Biochemie I\nOrt: L.EG.220\n\nhttps://lfuonline.uibk.ac.at/public/lfuonline_lv.details?sem_id_in=25W&lvnr_id_in=712001\n
CLASS:PUBLIC
DTSTART:20251120T070000Z
DTEND:20251120T080000Z
DTSTAMP:20260422T054455Z
LOCATION:L.EG.220
END:VEVENT
BEGIN:VEVENT
UID:25W_712001_4875654@uibk.ac.at
ORGANIZER;CN="LFU:online Universität Innsbruck":MAILTO:Uni-Innsbruck-noreply@uibk.ac.at
SUMMARY:VO Biochemie I (LV 712001-0 25W)
DESCRIPTION:Lehrveranstaltung 712001 25W, Gruppe 0\nTitel: VO Biochemie I\nOrt: L.EG.220\n\nhttps://lfuonline.uibk.ac.at/public/lfuonline_lv.details?sem_id_in=25W&lvnr_id_in=712001\n
CLASS:PUBLIC
DTSTART:20251121T070000Z
DTEND:20251121T081500Z
DTSTAMP:20260422T054455Z
LOCATION:L.EG.220
END:VEVENT
BEGIN:VEVENT
UID:25W_712001_4875670@uibk.ac.at
ORGANIZER;CN="LFU:online Universität Innsbruck":MAILTO:Uni-Innsbruck-noreply@uibk.ac.at
SUMMARY:VO Biochemie I (LV 712001-0 25W)
DESCRIPTION:Lehrveranstaltung 712001 25W, Gruppe 0\nTitel: VO Biochemie I\nOrt: L.EG.220\n\nhttps://lfuonline.uibk.ac.at/public/lfuonline_lv.details?sem_id_in=25W&lvnr_id_in=712001\n
CLASS:PUBLIC
DTSTART:20251127T070000Z
DTEND:20251127T080000Z
DTSTAMP:20260422T054455Z
LOCATION:L.EG.220
END:VEVENT
BEGIN:VEVENT
UID:25W_712001_4875655@uibk.ac.at
ORGANIZER;CN="LFU:online Universität Innsbruck":MAILTO:Uni-Innsbruck-noreply@uibk.ac.at
SUMMARY:VO Biochemie I (LV 712001-0 25W)
DESCRIPTION:Lehrveranstaltung 712001 25W, Gruppe 0\nTitel: VO Biochemie I\nOrt: L.EG.220\n\nhttps://lfuonline.uibk.ac.at/public/lfuonline_lv.details?sem_id_in=25W&lvnr_id_in=712001\n
CLASS:PUBLIC
DTSTART:20251128T070000Z
DTEND:20251128T081500Z
DTSTAMP:20260422T054455Z
LOCATION:L.EG.220
END:VEVENT
BEGIN:VEVENT
UID:25W_712001_4875671@uibk.ac.at
ORGANIZER;CN="LFU:online Universität Innsbruck":MAILTO:Uni-Innsbruck-noreply@uibk.ac.at
SUMMARY:VO Biochemie I (LV 712001-0 25W)
DESCRIPTION:Lehrveranstaltung 712001 25W, Gruppe 0\nTitel: VO Biochemie I\nOrt: L.EG.220\n\nhttps://lfuonline.uibk.ac.at/public/lfuonline_lv.details?sem_id_in=25W&lvnr_id_in=712001\n
CLASS:PUBLIC
DTSTART:20251204T070000Z
DTEND:20251204T080000Z
DTSTAMP:20260422T054455Z
LOCATION:L.EG.220
END:VEVENT
BEGIN:VEVENT
UID:25W_712001_4875656@uibk.ac.at
ORGANIZER;CN="LFU:online Universität Innsbruck":MAILTO:Uni-Innsbruck-noreply@uibk.ac.at
SUMMARY:VO Biochemie I (LV 712001-0 25W)
DESCRIPTION:Lehrveranstaltung 712001 25W, Gruppe 0\nTitel: VO Biochemie I\nOrt: L.EG.220\n\nhttps://lfuonline.uibk.ac.at/public/lfuonline_lv.details?sem_id_in=25W&lvnr_id_in=712001\n
CLASS:PUBLIC
DTSTART:20251205T070000Z
DTEND:20251205T081500Z
DTSTAMP:20260422T054455Z
LOCATION:L.EG.220
END:VEVENT
BEGIN:VEVENT
UID:25W_712001_4875672@uibk.ac.at
ORGANIZER;CN="LFU:online Universität Innsbruck":MAILTO:Uni-Innsbruck-noreply@uibk.ac.at
SUMMARY:VO Biochemie I (LV 712001-0 25W)
DESCRIPTION:Lehrveranstaltung 712001 25W, Gruppe 0\nTitel: VO Biochemie I\nOrt: L.EG.220\n\nhttps://lfuonline.uibk.ac.at/public/lfuonline_lv.details?sem_id_in=25W&lvnr_id_in=712001\n
CLASS:PUBLIC
DTSTART:20251211T070000Z
DTEND:20251211T080000Z
DTSTAMP:20260422T054455Z
LOCATION:L.EG.220
END:VEVENT
BEGIN:VEVENT
UID:25W_712001_4875657@uibk.ac.at
ORGANIZER;CN="LFU:online Universität Innsbruck":MAILTO:Uni-Innsbruck-noreply@uibk.ac.at
SUMMARY:VO Biochemie I (LV 712001-0 25W)
DESCRIPTION:Lehrveranstaltung 712001 25W, Gruppe 0\nTitel: VO Biochemie I\nOrt: L.EG.220\n\nhttps://lfuonline.uibk.ac.at/public/lfuonline_lv.details?sem_id_in=25W&lvnr_id_in=712001\n
CLASS:PUBLIC
DTSTART:20251212T070000Z
DTEND:20251212T081500Z
DTSTAMP:20260422T054455Z
LOCATION:L.EG.220
END:VEVENT
BEGIN:VEVENT
UID:25W_712001_4875673@uibk.ac.at
ORGANIZER;CN="LFU:online Universität Innsbruck":MAILTO:Uni-Innsbruck-noreply@uibk.ac.at
SUMMARY:VO Biochemie I (LV 712001-0 25W)
DESCRIPTION:Lehrveranstaltung 712001 25W, Gruppe 0\nTitel: VO Biochemie I\nOrt: L.EG.220\n\nhttps://lfuonline.uibk.ac.at/public/lfuonline_lv.details?sem_id_in=25W&lvnr_id_in=712001\n
CLASS:PUBLIC
DTSTART:20260108T070000Z
DTEND:20260108T080000Z
DTSTAMP:20260422T054455Z
LOCATION:L.EG.220
END:VEVENT
BEGIN:VEVENT
UID:25W_712001_4875658@uibk.ac.at
ORGANIZER;CN="LFU:online Universität Innsbruck":MAILTO:Uni-Innsbruck-noreply@uibk.ac.at
SUMMARY:VO Biochemie I (LV 712001-0 25W)
DESCRIPTION:Lehrveranstaltung 712001 25W, Gruppe 0\nTitel: VO Biochemie I\nOrt: L.EG.220\n\nhttps://lfuonline.uibk.ac.at/public/lfuonline_lv.details?sem_id_in=25W&lvnr_id_in=712001\n
CLASS:PUBLIC
DTSTART:20260109T070000Z
DTEND:20260109T081500Z
DTSTAMP:20260422T054455Z
LOCATION:L.EG.220
END:VEVENT
BEGIN:VEVENT
UID:25W_712001_4875674@uibk.ac.at
ORGANIZER;CN="LFU:online Universität Innsbruck":MAILTO:Uni-Innsbruck-noreply@uibk.ac.at
SUMMARY:VO Biochemie I (LV 712001-0 25W)
DESCRIPTION:Lehrveranstaltung 712001 25W, Gruppe 0\nTitel: VO Biochemie I\nOrt: L.EG.220\n\nhttps://lfuonline.uibk.ac.at/public/lfuonline_lv.details?sem_id_in=25W&lvnr_id_in=712001\n
CLASS:PUBLIC
DTSTART:20260115T070000Z
DTEND:20260115T080000Z
DTSTAMP:20260422T054455Z
LOCATION:L.EG.220
END:VEVENT
BEGIN:VEVENT
UID:25W_712001_4875659@uibk.ac.at
ORGANIZER;CN="LFU:online Universität Innsbruck":MAILTO:Uni-Innsbruck-noreply@uibk.ac.at
SUMMARY:VO Biochemie I (LV 712001-0 25W)
DESCRIPTION:Lehrveranstaltung 712001 25W, Gruppe 0\nTitel: VO Biochemie I\nOrt: L.EG.220\n\nhttps://lfuonline.uibk.ac.at/public/lfuonline_lv.details?sem_id_in=25W&lvnr_id_in=712001\n
CLASS:PUBLIC
DTSTART:20260116T070000Z
DTEND:20260116T081500Z
DTSTAMP:20260422T054455Z
LOCATION:L.EG.220
END:VEVENT
BEGIN:VEVENT
UID:25W_712001_4875675@uibk.ac.at
ORGANIZER;CN="LFU:online Universität Innsbruck":MAILTO:Uni-Innsbruck-noreply@uibk.ac.at
SUMMARY:VO Biochemie I (LV 712001-0 25W)
DESCRIPTION:Lehrveranstaltung 712001 25W, Gruppe 0\nTitel: VO Biochemie I\nOrt: L.EG.220\n\nhttps://lfuonline.uibk.ac.at/public/lfuonline_lv.details?sem_id_in=25W&lvnr_id_in=712001\n
CLASS:PUBLIC
DTSTART:20260122T070000Z
DTEND:20260122T080000Z
DTSTAMP:20260422T054455Z
LOCATION:L.EG.220
END:VEVENT
BEGIN:VEVENT
UID:25W_712001_4875660@uibk.ac.at
ORGANIZER;CN="LFU:online Universität Innsbruck":MAILTO:Uni-Innsbruck-noreply@uibk.ac.at
SUMMARY:VO Biochemie I (LV 712001-0 25W)
DESCRIPTION:Lehrveranstaltung 712001 25W, Gruppe 0\nTitel: VO Biochemie I\nOrt: L.EG.220\n\nhttps://lfuonline.uibk.ac.at/public/lfuonline_lv.details?sem_id_in=25W&lvnr_id_in=712001\n
CLASS:PUBLIC
DTSTART:20260123T070000Z
DTEND:20260123T081500Z
DTSTAMP:20260422T054455Z
LOCATION:L.EG.220
END:VEVENT
BEGIN:VEVENT
UID:25W_712001_4875676@uibk.ac.at
ORGANIZER;CN="LFU:online Universität Innsbruck":MAILTO:Uni-Innsbruck-noreply@uibk.ac.at
SUMMARY:VO Biochemie I (LV 712001-0 25W)
DESCRIPTION:Lehrveranstaltung 712001 25W, Gruppe 0\nTitel: VO Biochemie I\nOrt: L.EG.220\n\nhttps://lfuonline.uibk.ac.at/public/lfuonline_lv.details?sem_id_in=25W&lvnr_id_in=712001\n
CLASS:PUBLIC
DTSTART:20260129T070000Z
DTEND:20260129T080000Z
DTSTAMP:20260422T054455Z
LOCATION:L.EG.220
END:VEVENT
BEGIN:VEVENT
UID:25W_712001_4875661@uibk.ac.at
ORGANIZER;CN="LFU:online Universität Innsbruck":MAILTO:Uni-Innsbruck-noreply@uibk.ac.at
SUMMARY:VO Biochemie I (LV 712001-0 25W)
DESCRIPTION:Lehrveranstaltung 712001 25W, Gruppe 0\nTitel: VO Biochemie I\nOrt: L.EG.220\n\nhttps://lfuonline.uibk.ac.at/public/lfuonline_lv.details?sem_id_in=25W&lvnr_id_in=712001\n
CLASS:PUBLIC
DTSTART:20260130T070000Z
DTEND:20260130T081500Z
DTSTAMP:20260422T054455Z
LOCATION:L.EG.220
END:VEVENT
END:VCALENDAR