BEGIN:VCALENDAR
VERSION:2.0
PRODID:-//Universität Innsbruck//LFU:online//DE
METHOD:PUBLISH
BEGIN:VEVENT
UID:26S_712002_4987298@uibk.ac.at
ORGANIZER;CN="LFU:online Universität Innsbruck":MAILTO:Uni-Innsbruck-noreply@uibk.ac.at
SUMMARY:VO Biochemie II (LV 712002-0 26S)
DESCRIPTION:Lehrveranstaltung 712002 26S, Gruppe 0\nTitel: VO Biochemie II\nOrt: L.EG.220\n\nhttps://lfuonline.uibk.ac.at/public/lfuonline_lv.details?sem_id_in=26S&lvnr_id_in=712002\n
CLASS:PUBLIC
DTSTART:20260305T070000Z
DTEND:20260305T090000Z
DTSTAMP:20260422T054439Z
LOCATION:L.EG.220
END:VEVENT
BEGIN:VEVENT
UID:26S_712002_4987299@uibk.ac.at
ORGANIZER;CN="LFU:online Universität Innsbruck":MAILTO:Uni-Innsbruck-noreply@uibk.ac.at
SUMMARY:VO Biochemie II (LV 712002-0 26S)
DESCRIPTION:Lehrveranstaltung 712002 26S, Gruppe 0\nTitel: VO Biochemie II\nOrt: L.EG.220\n\nhttps://lfuonline.uibk.ac.at/public/lfuonline_lv.details?sem_id_in=26S&lvnr_id_in=712002\n
CLASS:PUBLIC
DTSTART:20260306T070000Z
DTEND:20260306T090000Z
DTSTAMP:20260422T054439Z
LOCATION:L.EG.220
END:VEVENT
BEGIN:VEVENT
UID:26S_712002_4987300@uibk.ac.at
ORGANIZER;CN="LFU:online Universität Innsbruck":MAILTO:Uni-Innsbruck-noreply@uibk.ac.at
SUMMARY:VO Biochemie II (LV 712002-0 26S)
DESCRIPTION:Lehrveranstaltung 712002 26S, Gruppe 0\nTitel: VO Biochemie II\nOrt: L.EG.220\n\nhttps://lfuonline.uibk.ac.at/public/lfuonline_lv.details?sem_id_in=26S&lvnr_id_in=712002\n
CLASS:PUBLIC
DTSTART:20260312T070000Z
DTEND:20260312T090000Z
DTSTAMP:20260422T054439Z
LOCATION:L.EG.220
END:VEVENT
BEGIN:VEVENT
UID:26S_712002_4987301@uibk.ac.at
ORGANIZER;CN="LFU:online Universität Innsbruck":MAILTO:Uni-Innsbruck-noreply@uibk.ac.at
SUMMARY:VO Biochemie II (LV 712002-0 26S)
DESCRIPTION:Lehrveranstaltung 712002 26S, Gruppe 0\nTitel: VO Biochemie II\nOrt: L.EG.220\n\nhttps://lfuonline.uibk.ac.at/public/lfuonline_lv.details?sem_id_in=26S&lvnr_id_in=712002\n
CLASS:PUBLIC
DTSTART:20260313T070000Z
DTEND:20260313T090000Z
DTSTAMP:20260422T054439Z
LOCATION:L.EG.220
END:VEVENT
BEGIN:VEVENT
UID:26S_712002_4987302@uibk.ac.at
ORGANIZER;CN="LFU:online Universität Innsbruck":MAILTO:Uni-Innsbruck-noreply@uibk.ac.at
SUMMARY:VO Biochemie II (LV 712002-0 26S)
DESCRIPTION:Lehrveranstaltung 712002 26S, Gruppe 0\nTitel: VO Biochemie II\nOrt: L.EG.220\n\nhttps://lfuonline.uibk.ac.at/public/lfuonline_lv.details?sem_id_in=26S&lvnr_id_in=712002\n
CLASS:PUBLIC
DTSTART:20260319T070000Z
DTEND:20260319T090000Z
DTSTAMP:20260422T054439Z
LOCATION:L.EG.220
END:VEVENT
BEGIN:VEVENT
UID:26S_712002_4987303@uibk.ac.at
ORGANIZER;CN="LFU:online Universität Innsbruck":MAILTO:Uni-Innsbruck-noreply@uibk.ac.at
SUMMARY:VO Biochemie II (LV 712002-0 26S)
DESCRIPTION:Lehrveranstaltung 712002 26S, Gruppe 0\nTitel: VO Biochemie II\nOrt: L.EG.220\n\nhttps://lfuonline.uibk.ac.at/public/lfuonline_lv.details?sem_id_in=26S&lvnr_id_in=712002\n
CLASS:PUBLIC
DTSTART:20260320T070000Z
DTEND:20260320T090000Z
DTSTAMP:20260422T054439Z
LOCATION:L.EG.220
END:VEVENT
BEGIN:VEVENT
UID:26S_712002_4987304@uibk.ac.at
ORGANIZER;CN="LFU:online Universität Innsbruck":MAILTO:Uni-Innsbruck-noreply@uibk.ac.at
SUMMARY:VO Biochemie II (LV 712002-0 26S)
DESCRIPTION:Lehrveranstaltung 712002 26S, Gruppe 0\nTitel: VO Biochemie II\nOrt: L.EG.220\n\nhttps://lfuonline.uibk.ac.at/public/lfuonline_lv.details?sem_id_in=26S&lvnr_id_in=712002\n
CLASS:PUBLIC
DTSTART:20260326T070000Z
DTEND:20260326T090000Z
DTSTAMP:20260422T054439Z
LOCATION:L.EG.220
END:VEVENT
BEGIN:VEVENT
UID:26S_712002_4987305@uibk.ac.at
ORGANIZER;CN="LFU:online Universität Innsbruck":MAILTO:Uni-Innsbruck-noreply@uibk.ac.at
SUMMARY:VO Biochemie II (LV 712002-0 26S)
DESCRIPTION:Lehrveranstaltung 712002 26S, Gruppe 0\nTitel: VO Biochemie II\nOrt: L.EG.220\n\nhttps://lfuonline.uibk.ac.at/public/lfuonline_lv.details?sem_id_in=26S&lvnr_id_in=712002\n
CLASS:PUBLIC
DTSTART:20260327T070000Z
DTEND:20260327T090000Z
DTSTAMP:20260422T054439Z
LOCATION:L.EG.220
END:VEVENT
BEGIN:VEVENT
UID:26S_712002_4987306@uibk.ac.at
ORGANIZER;CN="LFU:online Universität Innsbruck":MAILTO:Uni-Innsbruck-noreply@uibk.ac.at
SUMMARY:VO Biochemie II (LV 712002-0 26S)
DESCRIPTION:Lehrveranstaltung 712002 26S, Gruppe 0\nTitel: VO Biochemie II\nOrt: L.EG.220\n\nhttps://lfuonline.uibk.ac.at/public/lfuonline_lv.details?sem_id_in=26S&lvnr_id_in=712002\n
CLASS:PUBLIC
DTSTART:20260416T060000Z
DTEND:20260416T080000Z
DTSTAMP:20260422T054439Z
LOCATION:L.EG.220
END:VEVENT
BEGIN:VEVENT
UID:26S_712002_4987307@uibk.ac.at
ORGANIZER;CN="LFU:online Universität Innsbruck":MAILTO:Uni-Innsbruck-noreply@uibk.ac.at
SUMMARY:VO Biochemie II (LV 712002-0 26S)
DESCRIPTION:Lehrveranstaltung 712002 26S, Gruppe 0\nTitel: VO Biochemie II\nOrt: L.EG.220\n\nhttps://lfuonline.uibk.ac.at/public/lfuonline_lv.details?sem_id_in=26S&lvnr_id_in=712002\n
CLASS:PUBLIC
DTSTART:20260417T060000Z
DTEND:20260417T080000Z
DTSTAMP:20260422T054439Z
LOCATION:L.EG.220
END:VEVENT
BEGIN:VEVENT
UID:26S_712002_4987308@uibk.ac.at
ORGANIZER;CN="LFU:online Universität Innsbruck":MAILTO:Uni-Innsbruck-noreply@uibk.ac.at
SUMMARY:VO Biochemie II (LV 712002-0 26S)
DESCRIPTION:Lehrveranstaltung 712002 26S, Gruppe 0\nTitel: VO Biochemie II\nOrt: online (Biochemie)\n\nhttps://lfuonline.uibk.ac.at/public/lfuonline_lv.details?sem_id_in=26S&lvnr_id_in=712002\n
CLASS:PUBLIC
DTSTART:20260423T060000Z
DTEND:20260423T080000Z
DTSTAMP:20260422T054439Z
LOCATION:online (Biochemie)
END:VEVENT
BEGIN:VEVENT
UID:26S_712002_4987309@uibk.ac.at
ORGANIZER;CN="LFU:online Universität Innsbruck":MAILTO:Uni-Innsbruck-noreply@uibk.ac.at
SUMMARY:VO Biochemie II (LV 712002-0 26S)
DESCRIPTION:Lehrveranstaltung 712002 26S, Gruppe 0\nTitel: VO Biochemie II\nOrt: L.EG.220\n\nhttps://lfuonline.uibk.ac.at/public/lfuonline_lv.details?sem_id_in=26S&lvnr_id_in=712002\n
CLASS:PUBLIC
DTSTART:20260424T060000Z
DTEND:20260424T080000Z
DTSTAMP:20260422T054439Z
LOCATION:L.EG.220
END:VEVENT
BEGIN:VEVENT
UID:26S_712002_4987310@uibk.ac.at
ORGANIZER;CN="LFU:online Universität Innsbruck":MAILTO:Uni-Innsbruck-noreply@uibk.ac.at
SUMMARY:VO Biochemie II (LV 712002-0 26S)
DESCRIPTION:Lehrveranstaltung 712002 26S, Gruppe 0\nTitel: VO Biochemie II\nOrt: L.EG.220\n\nhttps://lfuonline.uibk.ac.at/public/lfuonline_lv.details?sem_id_in=26S&lvnr_id_in=712002\n
CLASS:PUBLIC
DTSTART:20260430T060000Z
DTEND:20260430T080000Z
DTSTAMP:20260422T054439Z
LOCATION:L.EG.220
END:VEVENT
BEGIN:VEVENT
UID:26S_712002_4987311@uibk.ac.at
ORGANIZER;CN="LFU:online Universität Innsbruck":MAILTO:Uni-Innsbruck-noreply@uibk.ac.at
SUMMARY:VO Biochemie II (LV 712002-0 26S)
DESCRIPTION:Lehrveranstaltung 712002 26S, Gruppe 0\nTitel: VO Biochemie II\nOrt: L.EG.220\n\nhttps://lfuonline.uibk.ac.at/public/lfuonline_lv.details?sem_id_in=26S&lvnr_id_in=712002\n
CLASS:PUBLIC
DTSTART:20260507T060000Z
DTEND:20260507T080000Z
DTSTAMP:20260422T054439Z
LOCATION:L.EG.220
END:VEVENT
BEGIN:VEVENT
UID:26S_712002_4987312@uibk.ac.at
ORGANIZER;CN="LFU:online Universität Innsbruck":MAILTO:Uni-Innsbruck-noreply@uibk.ac.at
SUMMARY:VO Biochemie II (LV 712002-0 26S)
DESCRIPTION:Lehrveranstaltung 712002 26S, Gruppe 0\nTitel: VO Biochemie II\nOrt: L.EG.220\n\nhttps://lfuonline.uibk.ac.at/public/lfuonline_lv.details?sem_id_in=26S&lvnr_id_in=712002\n
CLASS:PUBLIC
DTSTART:20260508T060000Z
DTEND:20260508T080000Z
DTSTAMP:20260422T054439Z
LOCATION:L.EG.220
END:VEVENT
BEGIN:VEVENT
UID:26S_712002_4987313@uibk.ac.at
ORGANIZER;CN="LFU:online Universität Innsbruck":MAILTO:Uni-Innsbruck-noreply@uibk.ac.at
SUMMARY:VO Biochemie II (LV 712002-0 26S)
DESCRIPTION:Lehrveranstaltung 712002 26S, Gruppe 0\nTitel: VO Biochemie II\nOrt: L.EG.220\n\nhttps://lfuonline.uibk.ac.at/public/lfuonline_lv.details?sem_id_in=26S&lvnr_id_in=712002\n
CLASS:PUBLIC
DTSTART:20260515T060000Z
DTEND:20260515T080000Z
DTSTAMP:20260422T054439Z
LOCATION:L.EG.220
END:VEVENT
END:VCALENDAR