BEGIN:VCALENDAR
VERSION:2.0
PRODID:-//Universität Innsbruck//LFU:online//DE
METHOD:PUBLISH
BEGIN:VEVENT
UID:25W_712003_4895184@uibk.ac.at
ORGANIZER;CN="LFU:online Universität Innsbruck":MAILTO:Uni-Innsbruck-noreply@uibk.ac.at
SUMMARY:VO Biochemie für Fortgeschrittene I - Proteine: von der Struktur zur Funktion (LV 712003-0 25W)
DESCRIPTION:Lehrveranstaltung 712003 25W, Gruppe 0\nTitel: VO Biochemie für Fortgeschrittene I - Proteine: von der Struktur zur Funktion\nOrt: L.01.220\n\nhttps://lfuonline.uibk.ac.at/public/lfuonline_lv.details?sem_id_in=25W&lvnr_id_in=712003\n
CLASS:PUBLIC
DTSTART:20251001T110000Z
DTEND:20251001T123000Z
DTSTAMP:20260422T054455Z
LOCATION:L.01.220
END:VEVENT
BEGIN:VEVENT
UID:25W_712003_4895185@uibk.ac.at
ORGANIZER;CN="LFU:online Universität Innsbruck":MAILTO:Uni-Innsbruck-noreply@uibk.ac.at
SUMMARY:VO Biochemie für Fortgeschrittene I - Proteine: von der Struktur zur Funktion (LV 712003-0 25W)
DESCRIPTION:Lehrveranstaltung 712003 25W, Gruppe 0\nTitel: VO Biochemie für Fortgeschrittene I - Proteine: von der Struktur zur Funktion\nOrt: L.01.220\n\nhttps://lfuonline.uibk.ac.at/public/lfuonline_lv.details?sem_id_in=25W&lvnr_id_in=712003\n
CLASS:PUBLIC
DTSTART:20251008T110000Z
DTEND:20251008T123000Z
DTSTAMP:20260422T054455Z
LOCATION:L.01.220
END:VEVENT
BEGIN:VEVENT
UID:25W_712003_4895186@uibk.ac.at
ORGANIZER;CN="LFU:online Universität Innsbruck":MAILTO:Uni-Innsbruck-noreply@uibk.ac.at
SUMMARY:VO Biochemie für Fortgeschrittene I - Proteine: von der Struktur zur Funktion (LV 712003-0 25W)
DESCRIPTION:Lehrveranstaltung 712003 25W, Gruppe 0\nTitel: VO Biochemie für Fortgeschrittene I - Proteine: von der Struktur zur Funktion\nOrt: L.01.220\n\nhttps://lfuonline.uibk.ac.at/public/lfuonline_lv.details?sem_id_in=25W&lvnr_id_in=712003\n
CLASS:PUBLIC
DTSTART:20251015T110000Z
DTEND:20251015T123000Z
DTSTAMP:20260422T054455Z
LOCATION:L.01.220
END:VEVENT
BEGIN:VEVENT
UID:25W_712003_4895187@uibk.ac.at
ORGANIZER;CN="LFU:online Universität Innsbruck":MAILTO:Uni-Innsbruck-noreply@uibk.ac.at
SUMMARY:VO Biochemie für Fortgeschrittene I - Proteine: von der Struktur zur Funktion (LV 712003-0 25W)
DESCRIPTION:Lehrveranstaltung 712003 25W, Gruppe 0\nTitel: VO Biochemie für Fortgeschrittene I - Proteine: von der Struktur zur Funktion\nOrt: L.01.220\n\nhttps://lfuonline.uibk.ac.at/public/lfuonline_lv.details?sem_id_in=25W&lvnr_id_in=712003\n
CLASS:PUBLIC
DTSTART:20251022T110000Z
DTEND:20251022T123000Z
DTSTAMP:20260422T054455Z
LOCATION:L.01.220
END:VEVENT
BEGIN:VEVENT
UID:25W_712003_4895188@uibk.ac.at
ORGANIZER;CN="LFU:online Universität Innsbruck":MAILTO:Uni-Innsbruck-noreply@uibk.ac.at
SUMMARY:VO Biochemie für Fortgeschrittene I - Proteine: von der Struktur zur Funktion (LV 712003-0 25W)
DESCRIPTION:Lehrveranstaltung 712003 25W, Gruppe 0\nTitel: VO Biochemie für Fortgeschrittene I - Proteine: von der Struktur zur Funktion\nOrt: L.01.220\n\nhttps://lfuonline.uibk.ac.at/public/lfuonline_lv.details?sem_id_in=25W&lvnr_id_in=712003\n
CLASS:PUBLIC
DTSTART:20251029T120000Z
DTEND:20251029T133000Z
DTSTAMP:20260422T054455Z
LOCATION:L.01.220
END:VEVENT
BEGIN:VEVENT
UID:25W_712003_4895189@uibk.ac.at
ORGANIZER;CN="LFU:online Universität Innsbruck":MAILTO:Uni-Innsbruck-noreply@uibk.ac.at
SUMMARY:VO Biochemie für Fortgeschrittene I - Proteine: von der Struktur zur Funktion (LV 712003-0 25W)
DESCRIPTION:Lehrveranstaltung 712003 25W, Gruppe 0\nTitel: VO Biochemie für Fortgeschrittene I - Proteine: von der Struktur zur Funktion\nOrt: L.01.220\n\nhttps://lfuonline.uibk.ac.at/public/lfuonline_lv.details?sem_id_in=25W&lvnr_id_in=712003\n
CLASS:PUBLIC
DTSTART:20251105T120000Z
DTEND:20251105T133000Z
DTSTAMP:20260422T054455Z
LOCATION:L.01.220
END:VEVENT
BEGIN:VEVENT
UID:25W_712003_4895190@uibk.ac.at
ORGANIZER;CN="LFU:online Universität Innsbruck":MAILTO:Uni-Innsbruck-noreply@uibk.ac.at
SUMMARY:VO Biochemie für Fortgeschrittene I - Proteine: von der Struktur zur Funktion (LV 712003-0 25W)
DESCRIPTION:Lehrveranstaltung 712003 25W, Gruppe 0\nTitel: VO Biochemie für Fortgeschrittene I - Proteine: von der Struktur zur Funktion\nOrt: L.01.220\n\nhttps://lfuonline.uibk.ac.at/public/lfuonline_lv.details?sem_id_in=25W&lvnr_id_in=712003\n
CLASS:PUBLIC
DTSTART:20251112T120000Z
DTEND:20251112T133000Z
DTSTAMP:20260422T054455Z
LOCATION:L.01.220
END:VEVENT
BEGIN:VEVENT
UID:25W_712003_4895191@uibk.ac.at
ORGANIZER;CN="LFU:online Universität Innsbruck":MAILTO:Uni-Innsbruck-noreply@uibk.ac.at
SUMMARY:VO Biochemie für Fortgeschrittene I - Proteine: von der Struktur zur Funktion (LV 712003-0 25W)
DESCRIPTION:Lehrveranstaltung 712003 25W, Gruppe 0\nTitel: VO Biochemie für Fortgeschrittene I - Proteine: von der Struktur zur Funktion\nOrt: L.01.220\n\nhttps://lfuonline.uibk.ac.at/public/lfuonline_lv.details?sem_id_in=25W&lvnr_id_in=712003\n
CLASS:PUBLIC
DTSTART:20251119T120000Z
DTEND:20251119T133000Z
DTSTAMP:20260422T054455Z
LOCATION:L.01.220
END:VEVENT
BEGIN:VEVENT
UID:25W_712003_4895192@uibk.ac.at
ORGANIZER;CN="LFU:online Universität Innsbruck":MAILTO:Uni-Innsbruck-noreply@uibk.ac.at
SUMMARY:VO Biochemie für Fortgeschrittene I - Proteine: von der Struktur zur Funktion (LV 712003-0 25W)
DESCRIPTION:Lehrveranstaltung 712003 25W, Gruppe 0\nTitel: VO Biochemie für Fortgeschrittene I - Proteine: von der Struktur zur Funktion\nOrt: L.01.220\n\nhttps://lfuonline.uibk.ac.at/public/lfuonline_lv.details?sem_id_in=25W&lvnr_id_in=712003\n
CLASS:PUBLIC
DTSTART:20251126T120000Z
DTEND:20251126T133000Z
DTSTAMP:20260422T054455Z
LOCATION:L.01.220
END:VEVENT
BEGIN:VEVENT
UID:25W_712003_4895193@uibk.ac.at
ORGANIZER;CN="LFU:online Universität Innsbruck":MAILTO:Uni-Innsbruck-noreply@uibk.ac.at
SUMMARY:VO Biochemie für Fortgeschrittene I - Proteine: von der Struktur zur Funktion (LV 712003-0 25W)
DESCRIPTION:Lehrveranstaltung 712003 25W, Gruppe 0\nTitel: VO Biochemie für Fortgeschrittene I - Proteine: von der Struktur zur Funktion\nOrt: L.EG.220\n\nhttps://lfuonline.uibk.ac.at/public/lfuonline_lv.details?sem_id_in=25W&lvnr_id_in=712003\n
CLASS:PUBLIC
DTSTART:20251203T120000Z
DTEND:20251203T133000Z
DTSTAMP:20260422T054455Z
LOCATION:L.EG.220
COMMENT:ACHTUNG: L.EG.220
END:VEVENT
BEGIN:VEVENT
UID:25W_712003_4895194@uibk.ac.at
ORGANIZER;CN="LFU:online Universität Innsbruck":MAILTO:Uni-Innsbruck-noreply@uibk.ac.at
SUMMARY:VO Biochemie für Fortgeschrittene I - Proteine: von der Struktur zur Funktion (LV 712003-0 25W)
DESCRIPTION:Lehrveranstaltung 712003 25W, Gruppe 0\nTitel: VO Biochemie für Fortgeschrittene I - Proteine: von der Struktur zur Funktion\nOrt: L.01.220\n\nhttps://lfuonline.uibk.ac.at/public/lfuonline_lv.details?sem_id_in=25W&lvnr_id_in=712003\n
CLASS:PUBLIC
DTSTART:20251210T120000Z
DTEND:20251210T133000Z
DTSTAMP:20260422T054455Z
LOCATION:L.01.220
END:VEVENT
BEGIN:VEVENT
UID:25W_712003_4895195@uibk.ac.at
ORGANIZER;CN="LFU:online Universität Innsbruck":MAILTO:Uni-Innsbruck-noreply@uibk.ac.at
SUMMARY:VO Biochemie für Fortgeschrittene I - Proteine: von der Struktur zur Funktion (LV 712003-0 25W)
DESCRIPTION:Lehrveranstaltung 712003 25W, Gruppe 0\nTitel: VO Biochemie für Fortgeschrittene I - Proteine: von der Struktur zur Funktion\nOrt: L.01.220\n\nhttps://lfuonline.uibk.ac.at/public/lfuonline_lv.details?sem_id_in=25W&lvnr_id_in=712003\n
CLASS:PUBLIC
DTSTART:20260107T120000Z
DTEND:20260107T133000Z
DTSTAMP:20260422T054455Z
LOCATION:L.01.220
END:VEVENT
BEGIN:VEVENT
UID:25W_712003_4895196@uibk.ac.at
ORGANIZER;CN="LFU:online Universität Innsbruck":MAILTO:Uni-Innsbruck-noreply@uibk.ac.at
SUMMARY:ABGESAGT: VO Biochemie für Fortgeschrittene I - Proteine: von der Struktur zur Funktion (LV 712003-0 25W)
DESCRIPTION:Lehrveranstaltung 712003 25W, Gruppe 0\nTitel: VO Biochemie für Fortgeschrittene I - Proteine: von der Struktur zur Funktion\nOrt: L.01.220\n\nhttps://lfuonline.uibk.ac.at/public/lfuonline_lv.details?sem_id_in=25W&lvnr_id_in=712003\n
CLASS:PUBLIC
DTSTART:20260114T120000Z
DTEND:20260114T133000Z
DTSTAMP:20260422T054455Z
LOCATION:L.01.220
END:VEVENT
BEGIN:VEVENT
UID:25W_712003_5039122@uibk.ac.at
ORGANIZER;CN="LFU:online Universität Innsbruck":MAILTO:Uni-Innsbruck-noreply@uibk.ac.at
SUMMARY:VO Biochemie für Fortgeschrittene I - Proteine: von der Struktur zur Funktion (LV 712003-0 25W)
DESCRIPTION:Lehrveranstaltung 712003 25W, Gruppe 0\nTitel: VO Biochemie für Fortgeschrittene I - Proteine: von der Struktur zur Funktion\nOrt: L.03.112\n\nhttps://lfuonline.uibk.ac.at/public/lfuonline_lv.details?sem_id_in=25W&lvnr_id_in=712003\n
CLASS:PUBLIC
DTSTART:20260115T100000Z
DTEND:20260115T113000Z
DTSTAMP:20260422T054455Z
LOCATION:L.03.112
COMMENT:Ersatztermin für 14.01.2026
END:VEVENT
BEGIN:VEVENT
UID:25W_712003_4895197@uibk.ac.at
ORGANIZER;CN="LFU:online Universität Innsbruck":MAILTO:Uni-Innsbruck-noreply@uibk.ac.at
SUMMARY:VO Biochemie für Fortgeschrittene I - Proteine: von der Struktur zur Funktion (LV 712003-0 25W)
DESCRIPTION:Lehrveranstaltung 712003 25W, Gruppe 0\nTitel: VO Biochemie für Fortgeschrittene I - Proteine: von der Struktur zur Funktion\nOrt: L.01.220\n\nhttps://lfuonline.uibk.ac.at/public/lfuonline_lv.details?sem_id_in=25W&lvnr_id_in=712003\n
CLASS:PUBLIC
DTSTART:20260121T120000Z
DTEND:20260121T133000Z
DTSTAMP:20260422T054455Z
LOCATION:L.01.220
END:VEVENT
BEGIN:VEVENT
UID:25W_712003_4895198@uibk.ac.at
ORGANIZER;CN="LFU:online Universität Innsbruck":MAILTO:Uni-Innsbruck-noreply@uibk.ac.at
SUMMARY:VO Biochemie für Fortgeschrittene I - Proteine: von der Struktur zur Funktion (LV 712003-0 25W)
DESCRIPTION:Lehrveranstaltung 712003 25W, Gruppe 0\nTitel: VO Biochemie für Fortgeschrittene I - Proteine: von der Struktur zur Funktion\nOrt: L.01.220\n\nhttps://lfuonline.uibk.ac.at/public/lfuonline_lv.details?sem_id_in=25W&lvnr_id_in=712003\n
CLASS:PUBLIC
DTSTART:20260128T120000Z
DTEND:20260128T133000Z
DTSTAMP:20260422T054455Z
LOCATION:L.01.220
END:VEVENT
END:VCALENDAR