BEGIN:VCALENDAR
VERSION:2.0
PRODID:-//Universität Innsbruck//LFU:online//DE
METHOD:PUBLISH
BEGIN:VEVENT
UID:26S_712004_4990459@uibk.ac.at
ORGANIZER;CN="LFU:online Universität Innsbruck":MAILTO:Uni-Innsbruck-noreply@uibk.ac.at
SUMMARY:VO Biochemie für Fortgeschrittene II: Metabolische Netzwerke (LV 712004-0 26S)
DESCRIPTION:Lehrveranstaltung 712004 26S, Gruppe 0\nTitel: VO Biochemie für Fortgeschrittene II: Metabolische Netzwerke\nOrt: L.01.220\n\nhttps://lfuonline.uibk.ac.at/public/lfuonline_lv.details?sem_id_in=26S&lvnr_id_in=712004\n
CLASS:PUBLIC
DTSTART:20260304T101500Z
DTEND:20260304T114500Z
DTSTAMP:20260422T054439Z
LOCATION:L.01.220
END:VEVENT
BEGIN:VEVENT
UID:26S_712004_4990460@uibk.ac.at
ORGANIZER;CN="LFU:online Universität Innsbruck":MAILTO:Uni-Innsbruck-noreply@uibk.ac.at
SUMMARY:VO Biochemie für Fortgeschrittene II: Metabolische Netzwerke (LV 712004-0 26S)
DESCRIPTION:Lehrveranstaltung 712004 26S, Gruppe 0\nTitel: VO Biochemie für Fortgeschrittene II: Metabolische Netzwerke\nOrt: L.01.220\n\nhttps://lfuonline.uibk.ac.at/public/lfuonline_lv.details?sem_id_in=26S&lvnr_id_in=712004\n
CLASS:PUBLIC
DTSTART:20260311T101500Z
DTEND:20260311T114500Z
DTSTAMP:20260422T054439Z
LOCATION:L.01.220
END:VEVENT
BEGIN:VEVENT
UID:26S_712004_4990461@uibk.ac.at
ORGANIZER;CN="LFU:online Universität Innsbruck":MAILTO:Uni-Innsbruck-noreply@uibk.ac.at
SUMMARY:VO Biochemie für Fortgeschrittene II: Metabolische Netzwerke (LV 712004-0 26S)
DESCRIPTION:Lehrveranstaltung 712004 26S, Gruppe 0\nTitel: VO Biochemie für Fortgeschrittene II: Metabolische Netzwerke\nOrt: L.01.220\n\nhttps://lfuonline.uibk.ac.at/public/lfuonline_lv.details?sem_id_in=26S&lvnr_id_in=712004\n
CLASS:PUBLIC
DTSTART:20260318T101500Z
DTEND:20260318T114500Z
DTSTAMP:20260422T054439Z
LOCATION:L.01.220
END:VEVENT
BEGIN:VEVENT
UID:26S_712004_4990462@uibk.ac.at
ORGANIZER;CN="LFU:online Universität Innsbruck":MAILTO:Uni-Innsbruck-noreply@uibk.ac.at
SUMMARY:VO Biochemie für Fortgeschrittene II: Metabolische Netzwerke (LV 712004-0 26S)
DESCRIPTION:Lehrveranstaltung 712004 26S, Gruppe 0\nTitel: VO Biochemie für Fortgeschrittene II: Metabolische Netzwerke\nOrt: L.01.220\n\nhttps://lfuonline.uibk.ac.at/public/lfuonline_lv.details?sem_id_in=26S&lvnr_id_in=712004\n
CLASS:PUBLIC
DTSTART:20260325T101500Z
DTEND:20260325T114500Z
DTSTAMP:20260422T054439Z
LOCATION:L.01.220
END:VEVENT
BEGIN:VEVENT
UID:26S_712004_5073093@uibk.ac.at
ORGANIZER;CN="LFU:online Universität Innsbruck":MAILTO:Uni-Innsbruck-noreply@uibk.ac.at
SUMMARY:VO Biochemie für Fortgeschrittene II: Metabolische Netzwerke (LV 712004-0 26S)
DESCRIPTION:Lehrveranstaltung 712004 26S, Gruppe 0\nTitel: VO Biochemie für Fortgeschrittene II: Metabolische Netzwerke\nOrt: L.03.112\n\nhttps://lfuonline.uibk.ac.at/public/lfuonline_lv.details?sem_id_in=26S&lvnr_id_in=712004\n
CLASS:PUBLIC
DTSTART:20260327T101500Z
DTEND:20260327T114500Z
DTSTAMP:20260422T054439Z
LOCATION:L.03.112
COMMENT:Ersatztermin für 04.03.2026
END:VEVENT
BEGIN:VEVENT
UID:26S_712004_4990463@uibk.ac.at
ORGANIZER;CN="LFU:online Universität Innsbruck":MAILTO:Uni-Innsbruck-noreply@uibk.ac.at
SUMMARY:VO Biochemie für Fortgeschrittene II: Metabolische Netzwerke (LV 712004-0 26S)
DESCRIPTION:Lehrveranstaltung 712004 26S, Gruppe 0\nTitel: VO Biochemie für Fortgeschrittene II: Metabolische Netzwerke\nOrt: L.01.220\n\nhttps://lfuonline.uibk.ac.at/public/lfuonline_lv.details?sem_id_in=26S&lvnr_id_in=712004\n
CLASS:PUBLIC
DTSTART:20260415T091500Z
DTEND:20260415T104500Z
DTSTAMP:20260422T054439Z
LOCATION:L.01.220
END:VEVENT
BEGIN:VEVENT
UID:26S_712004_4990464@uibk.ac.at
ORGANIZER;CN="LFU:online Universität Innsbruck":MAILTO:Uni-Innsbruck-noreply@uibk.ac.at
SUMMARY:VO Biochemie für Fortgeschrittene II: Metabolische Netzwerke (LV 712004-0 26S)
DESCRIPTION:Lehrveranstaltung 712004 26S, Gruppe 0\nTitel: VO Biochemie für Fortgeschrittene II: Metabolische Netzwerke\nOrt: L.01.220\n\nhttps://lfuonline.uibk.ac.at/public/lfuonline_lv.details?sem_id_in=26S&lvnr_id_in=712004\n
CLASS:PUBLIC
DTSTART:20260422T091500Z
DTEND:20260422T104500Z
DTSTAMP:20260422T054439Z
LOCATION:L.01.220
END:VEVENT
BEGIN:VEVENT
UID:26S_712004_4990465@uibk.ac.at
ORGANIZER;CN="LFU:online Universität Innsbruck":MAILTO:Uni-Innsbruck-noreply@uibk.ac.at
SUMMARY:VO Biochemie für Fortgeschrittene II: Metabolische Netzwerke (LV 712004-0 26S)
DESCRIPTION:Lehrveranstaltung 712004 26S, Gruppe 0\nTitel: VO Biochemie für Fortgeschrittene II: Metabolische Netzwerke\nOrt: L.01.220\n\nhttps://lfuonline.uibk.ac.at/public/lfuonline_lv.details?sem_id_in=26S&lvnr_id_in=712004\n
CLASS:PUBLIC
DTSTART:20260429T091500Z
DTEND:20260429T104500Z
DTSTAMP:20260422T054439Z
LOCATION:L.01.220
END:VEVENT
BEGIN:VEVENT
UID:26S_712004_4990466@uibk.ac.at
ORGANIZER;CN="LFU:online Universität Innsbruck":MAILTO:Uni-Innsbruck-noreply@uibk.ac.at
SUMMARY:VO Biochemie für Fortgeschrittene II: Metabolische Netzwerke (LV 712004-0 26S)
DESCRIPTION:Lehrveranstaltung 712004 26S, Gruppe 0\nTitel: VO Biochemie für Fortgeschrittene II: Metabolische Netzwerke\nOrt: L.01.220\n\nhttps://lfuonline.uibk.ac.at/public/lfuonline_lv.details?sem_id_in=26S&lvnr_id_in=712004\n
CLASS:PUBLIC
DTSTART:20260506T091500Z
DTEND:20260506T104500Z
DTSTAMP:20260422T054439Z
LOCATION:L.01.220
END:VEVENT
BEGIN:VEVENT
UID:26S_712004_4990467@uibk.ac.at
ORGANIZER;CN="LFU:online Universität Innsbruck":MAILTO:Uni-Innsbruck-noreply@uibk.ac.at
SUMMARY:VO Biochemie für Fortgeschrittene II: Metabolische Netzwerke (LV 712004-0 26S)
DESCRIPTION:Lehrveranstaltung 712004 26S, Gruppe 0\nTitel: VO Biochemie für Fortgeschrittene II: Metabolische Netzwerke\nOrt: L.01.220\n\nhttps://lfuonline.uibk.ac.at/public/lfuonline_lv.details?sem_id_in=26S&lvnr_id_in=712004\n
CLASS:PUBLIC
DTSTART:20260513T091500Z
DTEND:20260513T104500Z
DTSTAMP:20260422T054439Z
LOCATION:L.01.220
END:VEVENT
BEGIN:VEVENT
UID:26S_712004_4990468@uibk.ac.at
ORGANIZER;CN="LFU:online Universität Innsbruck":MAILTO:Uni-Innsbruck-noreply@uibk.ac.at
SUMMARY:VO Biochemie für Fortgeschrittene II: Metabolische Netzwerke (LV 712004-0 26S)
DESCRIPTION:Lehrveranstaltung 712004 26S, Gruppe 0\nTitel: VO Biochemie für Fortgeschrittene II: Metabolische Netzwerke\nOrt: L.01.220\n\nhttps://lfuonline.uibk.ac.at/public/lfuonline_lv.details?sem_id_in=26S&lvnr_id_in=712004\n
CLASS:PUBLIC
DTSTART:20260520T091500Z
DTEND:20260520T104500Z
DTSTAMP:20260422T054439Z
LOCATION:L.01.220
END:VEVENT
BEGIN:VEVENT
UID:26S_712004_4990469@uibk.ac.at
ORGANIZER;CN="LFU:online Universität Innsbruck":MAILTO:Uni-Innsbruck-noreply@uibk.ac.at
SUMMARY:VO Biochemie für Fortgeschrittene II: Metabolische Netzwerke (LV 712004-0 26S)
DESCRIPTION:Lehrveranstaltung 712004 26S, Gruppe 0\nTitel: VO Biochemie für Fortgeschrittene II: Metabolische Netzwerke\nOrt: L.01.220\n\nhttps://lfuonline.uibk.ac.at/public/lfuonline_lv.details?sem_id_in=26S&lvnr_id_in=712004\n
CLASS:PUBLIC
DTSTART:20260527T091500Z
DTEND:20260527T104500Z
DTSTAMP:20260422T054439Z
LOCATION:L.01.220
END:VEVENT
BEGIN:VEVENT
UID:26S_712004_4990470@uibk.ac.at
ORGANIZER;CN="LFU:online Universität Innsbruck":MAILTO:Uni-Innsbruck-noreply@uibk.ac.at
SUMMARY:VO Biochemie für Fortgeschrittene II: Metabolische Netzwerke (LV 712004-0 26S)
DESCRIPTION:Lehrveranstaltung 712004 26S, Gruppe 0\nTitel: VO Biochemie für Fortgeschrittene II: Metabolische Netzwerke\nOrt: L.01.220\n\nhttps://lfuonline.uibk.ac.at/public/lfuonline_lv.details?sem_id_in=26S&lvnr_id_in=712004\n
CLASS:PUBLIC
DTSTART:20260603T091500Z
DTEND:20260603T104500Z
DTSTAMP:20260422T054439Z
LOCATION:L.01.220
END:VEVENT
BEGIN:VEVENT
UID:26S_712004_4990471@uibk.ac.at
ORGANIZER;CN="LFU:online Universität Innsbruck":MAILTO:Uni-Innsbruck-noreply@uibk.ac.at
SUMMARY:VO Biochemie für Fortgeschrittene II: Metabolische Netzwerke (LV 712004-0 26S)
DESCRIPTION:Lehrveranstaltung 712004 26S, Gruppe 0\nTitel: VO Biochemie für Fortgeschrittene II: Metabolische Netzwerke\nOrt: L.01.220\n\nhttps://lfuonline.uibk.ac.at/public/lfuonline_lv.details?sem_id_in=26S&lvnr_id_in=712004\n
CLASS:PUBLIC
DTSTART:20260610T091500Z
DTEND:20260610T104500Z
DTSTAMP:20260422T054439Z
LOCATION:L.01.220
END:VEVENT
BEGIN:VEVENT
UID:26S_712004_4990472@uibk.ac.at
ORGANIZER;CN="LFU:online Universität Innsbruck":MAILTO:Uni-Innsbruck-noreply@uibk.ac.at
SUMMARY:VO Biochemie für Fortgeschrittene II: Metabolische Netzwerke (LV 712004-0 26S)
DESCRIPTION:Lehrveranstaltung 712004 26S, Gruppe 0\nTitel: VO Biochemie für Fortgeschrittene II: Metabolische Netzwerke\nOrt: L.01.220\n\nhttps://lfuonline.uibk.ac.at/public/lfuonline_lv.details?sem_id_in=26S&lvnr_id_in=712004\n
CLASS:PUBLIC
DTSTART:20260617T091500Z
DTEND:20260617T104500Z
DTSTAMP:20260422T054439Z
LOCATION:L.01.220
END:VEVENT
BEGIN:VEVENT
UID:26S_712004_4990473@uibk.ac.at
ORGANIZER;CN="LFU:online Universität Innsbruck":MAILTO:Uni-Innsbruck-noreply@uibk.ac.at
SUMMARY:VO Biochemie für Fortgeschrittene II: Metabolische Netzwerke (LV 712004-0 26S)
DESCRIPTION:Lehrveranstaltung 712004 26S, Gruppe 0\nTitel: VO Biochemie für Fortgeschrittene II: Metabolische Netzwerke\nOrt: L.01.220\n\nhttps://lfuonline.uibk.ac.at/public/lfuonline_lv.details?sem_id_in=26S&lvnr_id_in=712004\n
CLASS:PUBLIC
DTSTART:20260624T091500Z
DTEND:20260624T104500Z
DTSTAMP:20260422T054439Z
LOCATION:L.01.220
END:VEVENT
END:VCALENDAR