BEGIN:VCALENDAR
VERSION:2.0
PRODID:-//Universität Innsbruck//LFU:online//DE
METHOD:PUBLISH
BEGIN:VEVENT
UID:26S_712005_4987316@uibk.ac.at
ORGANIZER;CN="LFU:online Universität Innsbruck":MAILTO:Uni-Innsbruck-noreply@uibk.ac.at
SUMMARY:VO Biochemische Methoden (LV 712005-0 26S)
DESCRIPTION:Lehrveranstaltung 712005 26S, Gruppe 0\nTitel: VO Biochemische Methoden\nOrt: L.EG.220\n\nhttps://lfuonline.uibk.ac.at/public/lfuonline_lv.details?sem_id_in=26S&lvnr_id_in=712005\n
CLASS:PUBLIC
DTSTART:20260521T060000Z
DTEND:20260521T080000Z
DTSTAMP:20260422T053655Z
LOCATION:L.EG.220
END:VEVENT
BEGIN:VEVENT
UID:26S_712005_4987321@uibk.ac.at
ORGANIZER;CN="LFU:online Universität Innsbruck":MAILTO:Uni-Innsbruck-noreply@uibk.ac.at
SUMMARY:VO Biochemische Methoden (LV 712005-0 26S)
DESCRIPTION:Lehrveranstaltung 712005 26S, Gruppe 0\nTitel: VO Biochemische Methoden\nOrt: L.EG.220\n\nhttps://lfuonline.uibk.ac.at/public/lfuonline_lv.details?sem_id_in=26S&lvnr_id_in=712005\n
CLASS:PUBLIC
DTSTART:20260522T060000Z
DTEND:20260522T080000Z
DTSTAMP:20260422T053655Z
LOCATION:L.EG.220
END:VEVENT
BEGIN:VEVENT
UID:26S_712005_4987317@uibk.ac.at
ORGANIZER;CN="LFU:online Universität Innsbruck":MAILTO:Uni-Innsbruck-noreply@uibk.ac.at
SUMMARY:VO Biochemische Methoden (LV 712005-0 26S)
DESCRIPTION:Lehrveranstaltung 712005 26S, Gruppe 0\nTitel: VO Biochemische Methoden\nOrt: L.EG.220\n\nhttps://lfuonline.uibk.ac.at/public/lfuonline_lv.details?sem_id_in=26S&lvnr_id_in=712005\n
CLASS:PUBLIC
DTSTART:20260528T060000Z
DTEND:20260528T080000Z
DTSTAMP:20260422T053655Z
LOCATION:L.EG.220
END:VEVENT
BEGIN:VEVENT
UID:26S_712005_4987322@uibk.ac.at
ORGANIZER;CN="LFU:online Universität Innsbruck":MAILTO:Uni-Innsbruck-noreply@uibk.ac.at
SUMMARY:VO Biochemische Methoden (LV 712005-0 26S)
DESCRIPTION:Lehrveranstaltung 712005 26S, Gruppe 0\nTitel: VO Biochemische Methoden\nOrt: L.EG.220\n\nhttps://lfuonline.uibk.ac.at/public/lfuonline_lv.details?sem_id_in=26S&lvnr_id_in=712005\n
CLASS:PUBLIC
DTSTART:20260529T060000Z
DTEND:20260529T080000Z
DTSTAMP:20260422T053655Z
LOCATION:L.EG.220
END:VEVENT
BEGIN:VEVENT
UID:26S_712005_4987323@uibk.ac.at
ORGANIZER;CN="LFU:online Universität Innsbruck":MAILTO:Uni-Innsbruck-noreply@uibk.ac.at
SUMMARY:VO Biochemische Methoden (LV 712005-0 26S)
DESCRIPTION:Lehrveranstaltung 712005 26S, Gruppe 0\nTitel: VO Biochemische Methoden\nOrt: L.EG.220\n\nhttps://lfuonline.uibk.ac.at/public/lfuonline_lv.details?sem_id_in=26S&lvnr_id_in=712005\n
CLASS:PUBLIC
DTSTART:20260605T060000Z
DTEND:20260605T080000Z
DTSTAMP:20260422T053655Z
LOCATION:L.EG.220
END:VEVENT
BEGIN:VEVENT
UID:26S_712005_4987318@uibk.ac.at
ORGANIZER;CN="LFU:online Universität Innsbruck":MAILTO:Uni-Innsbruck-noreply@uibk.ac.at
SUMMARY:VO Biochemische Methoden (LV 712005-0 26S)
DESCRIPTION:Lehrveranstaltung 712005 26S, Gruppe 0\nTitel: VO Biochemische Methoden\nOrt: L.EG.220\n\nhttps://lfuonline.uibk.ac.at/public/lfuonline_lv.details?sem_id_in=26S&lvnr_id_in=712005\n
CLASS:PUBLIC
DTSTART:20260611T060000Z
DTEND:20260611T080000Z
DTSTAMP:20260422T053655Z
LOCATION:L.EG.220
END:VEVENT
BEGIN:VEVENT
UID:26S_712005_4987324@uibk.ac.at
ORGANIZER;CN="LFU:online Universität Innsbruck":MAILTO:Uni-Innsbruck-noreply@uibk.ac.at
SUMMARY:VO Biochemische Methoden (LV 712005-0 26S)
DESCRIPTION:Lehrveranstaltung 712005 26S, Gruppe 0\nTitel: VO Biochemische Methoden\nOrt: L.EG.220\n\nhttps://lfuonline.uibk.ac.at/public/lfuonline_lv.details?sem_id_in=26S&lvnr_id_in=712005\n
CLASS:PUBLIC
DTSTART:20260612T060000Z
DTEND:20260612T080000Z
DTSTAMP:20260422T053655Z
LOCATION:L.EG.220
END:VEVENT
BEGIN:VEVENT
UID:26S_712005_4987319@uibk.ac.at
ORGANIZER;CN="LFU:online Universität Innsbruck":MAILTO:Uni-Innsbruck-noreply@uibk.ac.at
SUMMARY:VO Biochemische Methoden (LV 712005-0 26S)
DESCRIPTION:Lehrveranstaltung 712005 26S, Gruppe 0\nTitel: VO Biochemische Methoden\nOrt: L.EG.220\n\nhttps://lfuonline.uibk.ac.at/public/lfuonline_lv.details?sem_id_in=26S&lvnr_id_in=712005\n
CLASS:PUBLIC
DTSTART:20260618T060000Z
DTEND:20260618T080000Z
DTSTAMP:20260422T053655Z
LOCATION:L.EG.220
END:VEVENT
BEGIN:VEVENT
UID:26S_712005_4987325@uibk.ac.at
ORGANIZER;CN="LFU:online Universität Innsbruck":MAILTO:Uni-Innsbruck-noreply@uibk.ac.at
SUMMARY:VO Biochemische Methoden (LV 712005-0 26S)
DESCRIPTION:Lehrveranstaltung 712005 26S, Gruppe 0\nTitel: VO Biochemische Methoden\nOrt: L.EG.220\n\nhttps://lfuonline.uibk.ac.at/public/lfuonline_lv.details?sem_id_in=26S&lvnr_id_in=712005\n
CLASS:PUBLIC
DTSTART:20260619T060000Z
DTEND:20260619T080000Z
DTSTAMP:20260422T053655Z
LOCATION:L.EG.220
END:VEVENT
BEGIN:VEVENT
UID:26S_712005_4987320@uibk.ac.at
ORGANIZER;CN="LFU:online Universität Innsbruck":MAILTO:Uni-Innsbruck-noreply@uibk.ac.at
SUMMARY:VO Biochemische Methoden (LV 712005-0 26S)
DESCRIPTION:Lehrveranstaltung 712005 26S, Gruppe 0\nTitel: VO Biochemische Methoden\nOrt: L.EG.220\n\nhttps://lfuonline.uibk.ac.at/public/lfuonline_lv.details?sem_id_in=26S&lvnr_id_in=712005\n
CLASS:PUBLIC
DTSTART:20260625T060000Z
DTEND:20260625T080000Z
DTSTAMP:20260422T053655Z
LOCATION:L.EG.220
END:VEVENT
BEGIN:VEVENT
UID:26S_712005_4987326@uibk.ac.at
ORGANIZER;CN="LFU:online Universität Innsbruck":MAILTO:Uni-Innsbruck-noreply@uibk.ac.at
SUMMARY:VO Biochemische Methoden (LV 712005-0 26S)
DESCRIPTION:Lehrveranstaltung 712005 26S, Gruppe 0\nTitel: VO Biochemische Methoden\nOrt: L.EG.220\n\nhttps://lfuonline.uibk.ac.at/public/lfuonline_lv.details?sem_id_in=26S&lvnr_id_in=712005\n
CLASS:PUBLIC
DTSTART:20260626T060000Z
DTEND:20260626T080000Z
DTSTAMP:20260422T053655Z
LOCATION:L.EG.220
END:VEVENT
END:VCALENDAR