BEGIN:VCALENDAR
VERSION:2.0
PRODID:-//Universität Innsbruck//LFU:online//DE
METHOD:PUBLISH
BEGIN:VEVENT
UID:25W_712025_4937902@uibk.ac.at
ORGANIZER;CN="LFU:online Universität Innsbruck":MAILTO:Uni-Innsbruck-noreply@uibk.ac.at
SUMMARY:PS Biochemie (LV 712025-0 25W)
DESCRIPTION:Lehrveranstaltung 712025 25W, Gruppe 0\nTitel: PS Biochemie\nOrt: Auswärtiger Ort\n\nhttps://lfuonline.uibk.ac.at/public/lfuonline_lv.details?sem_id_in=25W&lvnr_id_in=712025\n
CLASS:PUBLIC
DTSTART:20251009T134500Z
DTEND:20251009T161500Z
DTSTAMP:20260422T053730Z
LOCATION:Auswärtiger Ort
COMMENT:Chemiesaal der PHT
END:VEVENT
BEGIN:VEVENT
UID:25W_712025_4937903@uibk.ac.at
ORGANIZER;CN="LFU:online Universität Innsbruck":MAILTO:Uni-Innsbruck-noreply@uibk.ac.at
SUMMARY:PS Biochemie (LV 712025-0 25W)
DESCRIPTION:Lehrveranstaltung 712025 25W, Gruppe 0\nTitel: PS Biochemie\nOrt: Auswärtiger Ort\n\nhttps://lfuonline.uibk.ac.at/public/lfuonline_lv.details?sem_id_in=25W&lvnr_id_in=712025\n
CLASS:PUBLIC
DTSTART:20251016T134500Z
DTEND:20251016T161500Z
DTSTAMP:20260422T053730Z
LOCATION:Auswärtiger Ort
COMMENT:Chemiesaal der PHT
END:VEVENT
BEGIN:VEVENT
UID:25W_712025_4937904@uibk.ac.at
ORGANIZER;CN="LFU:online Universität Innsbruck":MAILTO:Uni-Innsbruck-noreply@uibk.ac.at
SUMMARY:PS Biochemie (LV 712025-0 25W)
DESCRIPTION:Lehrveranstaltung 712025 25W, Gruppe 0\nTitel: PS Biochemie\nOrt: Auswärtiger Ort\n\nhttps://lfuonline.uibk.ac.at/public/lfuonline_lv.details?sem_id_in=25W&lvnr_id_in=712025\n
CLASS:PUBLIC
DTSTART:20251023T134500Z
DTEND:20251023T161500Z
DTSTAMP:20260422T053730Z
LOCATION:Auswärtiger Ort
COMMENT:Chemiesaal der PHT
END:VEVENT
BEGIN:VEVENT
UID:25W_712025_4937905@uibk.ac.at
ORGANIZER;CN="LFU:online Universität Innsbruck":MAILTO:Uni-Innsbruck-noreply@uibk.ac.at
SUMMARY:PS Biochemie (LV 712025-0 25W)
DESCRIPTION:Lehrveranstaltung 712025 25W, Gruppe 0\nTitel: PS Biochemie\nOrt: Auswärtiger Ort\n\nhttps://lfuonline.uibk.ac.at/public/lfuonline_lv.details?sem_id_in=25W&lvnr_id_in=712025\n
CLASS:PUBLIC
DTSTART:20251030T144500Z
DTEND:20251030T171500Z
DTSTAMP:20260422T053730Z
LOCATION:Auswärtiger Ort
COMMENT:Chemiesaal der PHT
END:VEVENT
BEGIN:VEVENT
UID:25W_712025_4937907@uibk.ac.at
ORGANIZER;CN="LFU:online Universität Innsbruck":MAILTO:Uni-Innsbruck-noreply@uibk.ac.at
SUMMARY:PS Biochemie (LV 712025-0 25W)
DESCRIPTION:Lehrveranstaltung 712025 25W, Gruppe 0\nTitel: PS Biochemie\nOrt: Auswärtiger Ort\n\nhttps://lfuonline.uibk.ac.at/public/lfuonline_lv.details?sem_id_in=25W&lvnr_id_in=712025\n
CLASS:PUBLIC
DTSTART:20251113T144500Z
DTEND:20251113T171500Z
DTSTAMP:20260422T053730Z
LOCATION:Auswärtiger Ort
COMMENT:Chemiesaal der PHT
END:VEVENT
BEGIN:VEVENT
UID:25W_712025_4937908@uibk.ac.at
ORGANIZER;CN="LFU:online Universität Innsbruck":MAILTO:Uni-Innsbruck-noreply@uibk.ac.at
SUMMARY:PS Biochemie (LV 712025-0 25W)
DESCRIPTION:Lehrveranstaltung 712025 25W, Gruppe 0\nTitel: PS Biochemie\nOrt: Auswärtiger Ort\n\nhttps://lfuonline.uibk.ac.at/public/lfuonline_lv.details?sem_id_in=25W&lvnr_id_in=712025\n
CLASS:PUBLIC
DTSTART:20251120T144500Z
DTEND:20251120T171500Z
DTSTAMP:20260422T053730Z
LOCATION:Auswärtiger Ort
COMMENT:Chemiesaal der PHT
END:VEVENT
BEGIN:VEVENT
UID:25W_712025_4937909@uibk.ac.at
ORGANIZER;CN="LFU:online Universität Innsbruck":MAILTO:Uni-Innsbruck-noreply@uibk.ac.at
SUMMARY:PS Biochemie (LV 712025-0 25W)
DESCRIPTION:Lehrveranstaltung 712025 25W, Gruppe 0\nTitel: PS Biochemie\nOrt: Auswärtiger Ort\n\nhttps://lfuonline.uibk.ac.at/public/lfuonline_lv.details?sem_id_in=25W&lvnr_id_in=712025\n
CLASS:PUBLIC
DTSTART:20251127T144500Z
DTEND:20251127T171500Z
DTSTAMP:20260422T053730Z
LOCATION:Auswärtiger Ort
COMMENT:Chemiesaal der PHT
END:VEVENT
BEGIN:VEVENT
UID:25W_712025_4937911@uibk.ac.at
ORGANIZER;CN="LFU:online Universität Innsbruck":MAILTO:Uni-Innsbruck-noreply@uibk.ac.at
SUMMARY:PS Biochemie (LV 712025-0 25W)
DESCRIPTION:Lehrveranstaltung 712025 25W, Gruppe 0\nTitel: PS Biochemie\nOrt: Auswärtiger Ort\n\nhttps://lfuonline.uibk.ac.at/public/lfuonline_lv.details?sem_id_in=25W&lvnr_id_in=712025\n
CLASS:PUBLIC
DTSTART:20251211T144500Z
DTEND:20251211T171500Z
DTSTAMP:20260422T053730Z
LOCATION:Auswärtiger Ort
COMMENT:Chemiesaal der PHT
END:VEVENT
BEGIN:VEVENT
UID:25W_712025_4937912@uibk.ac.at
ORGANIZER;CN="LFU:online Universität Innsbruck":MAILTO:Uni-Innsbruck-noreply@uibk.ac.at
SUMMARY:PS Biochemie (LV 712025-0 25W)
DESCRIPTION:Lehrveranstaltung 712025 25W, Gruppe 0\nTitel: PS Biochemie\nOrt: Auswärtiger Ort\n\nhttps://lfuonline.uibk.ac.at/public/lfuonline_lv.details?sem_id_in=25W&lvnr_id_in=712025\n
CLASS:PUBLIC
DTSTART:20260108T144500Z
DTEND:20260108T171500Z
DTSTAMP:20260422T053730Z
LOCATION:Auswärtiger Ort
COMMENT:Chemiesaal der PHT
END:VEVENT
BEGIN:VEVENT
UID:25W_712025_4937913@uibk.ac.at
ORGANIZER;CN="LFU:online Universität Innsbruck":MAILTO:Uni-Innsbruck-noreply@uibk.ac.at
SUMMARY:PS Biochemie (LV 712025-0 25W)
DESCRIPTION:Lehrveranstaltung 712025 25W, Gruppe 0\nTitel: PS Biochemie\nOrt: Auswärtiger Ort\n\nhttps://lfuonline.uibk.ac.at/public/lfuonline_lv.details?sem_id_in=25W&lvnr_id_in=712025\n
CLASS:PUBLIC
DTSTART:20260115T163000Z
DTEND:20260115T184500Z
DTSTAMP:20260422T053730Z
LOCATION:Auswärtiger Ort
COMMENT:Chemiesaal der PHT
END:VEVENT
END:VCALENDAR