BEGIN:VCALENDAR
VERSION:2.0
PRODID:-//Universität Innsbruck//LFU:online//DE
METHOD:PUBLISH
BEGIN:VEVENT
UID:25W_712901_4847776@uibk.ac.at
ORGANIZER;CN="LFU:online Universität Innsbruck":MAILTO:Uni-Innsbruck-noreply@uibk.ac.at
SUMMARY:VO Eukaryotische Genregulation (LV 712901-0 25W)
DESCRIPTION:Lehrveranstaltung 712901 25W, Gruppe 0\nTitel: VO Eukaryotische Genregulation\nOrt: L.03.112\n\nhttps://lfuonline.uibk.ac.at/public/lfuonline_lv.details?sem_id_in=25W&lvnr_id_in=712901\n
CLASS:PUBLIC
DTSTART:20251007T130000Z
DTEND:20251007T143000Z
DTSTAMP:20260422T053730Z
LOCATION:L.03.112
END:VEVENT
BEGIN:VEVENT
UID:25W_712901_4847777@uibk.ac.at
ORGANIZER;CN="LFU:online Universität Innsbruck":MAILTO:Uni-Innsbruck-noreply@uibk.ac.at
SUMMARY:VO Eukaryotische Genregulation (LV 712901-0 25W)
DESCRIPTION:Lehrveranstaltung 712901 25W, Gruppe 0\nTitel: VO Eukaryotische Genregulation\nOrt: L.03.112\n\nhttps://lfuonline.uibk.ac.at/public/lfuonline_lv.details?sem_id_in=25W&lvnr_id_in=712901\n
CLASS:PUBLIC
DTSTART:20251014T140000Z
DTEND:20251014T153000Z
DTSTAMP:20260422T053730Z
LOCATION:L.03.112
END:VEVENT
BEGIN:VEVENT
UID:25W_712901_4847778@uibk.ac.at
ORGANIZER;CN="LFU:online Universität Innsbruck":MAILTO:Uni-Innsbruck-noreply@uibk.ac.at
SUMMARY:VO Eukaryotische Genregulation (LV 712901-0 25W)
DESCRIPTION:Lehrveranstaltung 712901 25W, Gruppe 0\nTitel: VO Eukaryotische Genregulation\nOrt: L.03.112\n\nhttps://lfuonline.uibk.ac.at/public/lfuonline_lv.details?sem_id_in=25W&lvnr_id_in=712901\n
CLASS:PUBLIC
DTSTART:20251021T130000Z
DTEND:20251021T143000Z
DTSTAMP:20260422T053730Z
LOCATION:L.03.112
END:VEVENT
BEGIN:VEVENT
UID:25W_712901_4847779@uibk.ac.at
ORGANIZER;CN="LFU:online Universität Innsbruck":MAILTO:Uni-Innsbruck-noreply@uibk.ac.at
SUMMARY:VO Eukaryotische Genregulation (LV 712901-0 25W)
DESCRIPTION:Lehrveranstaltung 712901 25W, Gruppe 0\nTitel: VO Eukaryotische Genregulation\nOrt: L.03.112\n\nhttps://lfuonline.uibk.ac.at/public/lfuonline_lv.details?sem_id_in=25W&lvnr_id_in=712901\n
CLASS:PUBLIC
DTSTART:20251028T140000Z
DTEND:20251028T153000Z
DTSTAMP:20260422T053730Z
LOCATION:L.03.112
END:VEVENT
BEGIN:VEVENT
UID:25W_712901_4847780@uibk.ac.at
ORGANIZER;CN="LFU:online Universität Innsbruck":MAILTO:Uni-Innsbruck-noreply@uibk.ac.at
SUMMARY:VO Eukaryotische Genregulation (LV 712901-0 25W)
DESCRIPTION:Lehrveranstaltung 712901 25W, Gruppe 0\nTitel: VO Eukaryotische Genregulation\nOrt: L.03.112\n\nhttps://lfuonline.uibk.ac.at/public/lfuonline_lv.details?sem_id_in=25W&lvnr_id_in=712901\n
CLASS:PUBLIC
DTSTART:20251104T140000Z
DTEND:20251104T153000Z
DTSTAMP:20260422T053730Z
LOCATION:L.03.112
END:VEVENT
BEGIN:VEVENT
UID:25W_712901_4847781@uibk.ac.at
ORGANIZER;CN="LFU:online Universität Innsbruck":MAILTO:Uni-Innsbruck-noreply@uibk.ac.at
SUMMARY:VO Eukaryotische Genregulation (LV 712901-0 25W)
DESCRIPTION:Lehrveranstaltung 712901 25W, Gruppe 0\nTitel: VO Eukaryotische Genregulation\nOrt: L.03.112\n\nhttps://lfuonline.uibk.ac.at/public/lfuonline_lv.details?sem_id_in=25W&lvnr_id_in=712901\n
CLASS:PUBLIC
DTSTART:20251111T140000Z
DTEND:20251111T153000Z
DTSTAMP:20260422T053730Z
LOCATION:L.03.112
END:VEVENT
BEGIN:VEVENT
UID:25W_712901_4847782@uibk.ac.at
ORGANIZER;CN="LFU:online Universität Innsbruck":MAILTO:Uni-Innsbruck-noreply@uibk.ac.at
SUMMARY:VO Eukaryotische Genregulation (LV 712901-0 25W)
DESCRIPTION:Lehrveranstaltung 712901 25W, Gruppe 0\nTitel: VO Eukaryotische Genregulation\nOrt: L.03.112\n\nhttps://lfuonline.uibk.ac.at/public/lfuonline_lv.details?sem_id_in=25W&lvnr_id_in=712901\n
CLASS:PUBLIC
DTSTART:20251118T140000Z
DTEND:20251118T153000Z
DTSTAMP:20260422T053730Z
LOCATION:L.03.112
END:VEVENT
BEGIN:VEVENT
UID:25W_712901_4847783@uibk.ac.at
ORGANIZER;CN="LFU:online Universität Innsbruck":MAILTO:Uni-Innsbruck-noreply@uibk.ac.at
SUMMARY:VO Eukaryotische Genregulation (LV 712901-0 25W)
DESCRIPTION:Lehrveranstaltung 712901 25W, Gruppe 0\nTitel: VO Eukaryotische Genregulation\nOrt: L.03.112\n\nhttps://lfuonline.uibk.ac.at/public/lfuonline_lv.details?sem_id_in=25W&lvnr_id_in=712901\n
CLASS:PUBLIC
DTSTART:20251125T140000Z
DTEND:20251125T153000Z
DTSTAMP:20260422T053730Z
LOCATION:L.03.112
END:VEVENT
BEGIN:VEVENT
UID:25W_712901_4847784@uibk.ac.at
ORGANIZER;CN="LFU:online Universität Innsbruck":MAILTO:Uni-Innsbruck-noreply@uibk.ac.at
SUMMARY:VO Eukaryotische Genregulation (LV 712901-0 25W)
DESCRIPTION:Lehrveranstaltung 712901 25W, Gruppe 0\nTitel: VO Eukaryotische Genregulation\nOrt: L.03.112\n\nhttps://lfuonline.uibk.ac.at/public/lfuonline_lv.details?sem_id_in=25W&lvnr_id_in=712901\n
CLASS:PUBLIC
DTSTART:20251202T140000Z
DTEND:20251202T153000Z
DTSTAMP:20260422T053730Z
LOCATION:L.03.112
END:VEVENT
BEGIN:VEVENT
UID:25W_712901_4847785@uibk.ac.at
ORGANIZER;CN="LFU:online Universität Innsbruck":MAILTO:Uni-Innsbruck-noreply@uibk.ac.at
SUMMARY:VO Eukaryotische Genregulation (LV 712901-0 25W)
DESCRIPTION:Lehrveranstaltung 712901 25W, Gruppe 0\nTitel: VO Eukaryotische Genregulation\nOrt: L.03.112\n\nhttps://lfuonline.uibk.ac.at/public/lfuonline_lv.details?sem_id_in=25W&lvnr_id_in=712901\n
CLASS:PUBLIC
DTSTART:20251209T140000Z
DTEND:20251209T153000Z
DTSTAMP:20260422T053730Z
LOCATION:L.03.112
END:VEVENT
BEGIN:VEVENT
UID:25W_712901_4847786@uibk.ac.at
ORGANIZER;CN="LFU:online Universität Innsbruck":MAILTO:Uni-Innsbruck-noreply@uibk.ac.at
SUMMARY:VO Eukaryotische Genregulation (LV 712901-0 25W)
DESCRIPTION:Lehrveranstaltung 712901 25W, Gruppe 0\nTitel: VO Eukaryotische Genregulation\nOrt: L.03.112\n\nhttps://lfuonline.uibk.ac.at/public/lfuonline_lv.details?sem_id_in=25W&lvnr_id_in=712901\n
CLASS:PUBLIC
DTSTART:20251216T140000Z
DTEND:20251216T153000Z
DTSTAMP:20260422T053730Z
LOCATION:L.03.112
END:VEVENT
BEGIN:VEVENT
UID:25W_712901_4847787@uibk.ac.at
ORGANIZER;CN="LFU:online Universität Innsbruck":MAILTO:Uni-Innsbruck-noreply@uibk.ac.at
SUMMARY:VO Eukaryotische Genregulation (LV 712901-0 25W)
DESCRIPTION:Lehrveranstaltung 712901 25W, Gruppe 0\nTitel: VO Eukaryotische Genregulation\nOrt: L.03.112\n\nhttps://lfuonline.uibk.ac.at/public/lfuonline_lv.details?sem_id_in=25W&lvnr_id_in=712901\n
CLASS:PUBLIC
DTSTART:20260113T140000Z
DTEND:20260113T153000Z
DTSTAMP:20260422T053730Z
LOCATION:L.03.112
END:VEVENT
BEGIN:VEVENT
UID:25W_712901_4847788@uibk.ac.at
ORGANIZER;CN="LFU:online Universität Innsbruck":MAILTO:Uni-Innsbruck-noreply@uibk.ac.at
SUMMARY:VO Eukaryotische Genregulation (LV 712901-0 25W)
DESCRIPTION:Lehrveranstaltung 712901 25W, Gruppe 0\nTitel: VO Eukaryotische Genregulation\nOrt: L.03.112\n\nhttps://lfuonline.uibk.ac.at/public/lfuonline_lv.details?sem_id_in=25W&lvnr_id_in=712901\n
CLASS:PUBLIC
DTSTART:20260120T140000Z
DTEND:20260120T153000Z
DTSTAMP:20260422T053730Z
LOCATION:L.03.112
END:VEVENT
BEGIN:VEVENT
UID:25W_712901_4847789@uibk.ac.at
ORGANIZER;CN="LFU:online Universität Innsbruck":MAILTO:Uni-Innsbruck-noreply@uibk.ac.at
SUMMARY:VO Eukaryotische Genregulation (LV 712901-0 25W)
DESCRIPTION:Lehrveranstaltung 712901 25W, Gruppe 0\nTitel: VO Eukaryotische Genregulation\nOrt: L.03.112\n\nhttps://lfuonline.uibk.ac.at/public/lfuonline_lv.details?sem_id_in=25W&lvnr_id_in=712901\n
CLASS:PUBLIC
DTSTART:20260127T140000Z
DTEND:20260127T153000Z
DTSTAMP:20260422T053730Z
LOCATION:L.03.112
END:VEVENT
END:VCALENDAR