BEGIN:VCALENDAR
VERSION:2.0
PRODID:-//Universität Innsbruck//LFU:online//DE
METHOD:PUBLISH
BEGIN:VEVENT
UID:17S_715178_2916814@uibk.ac.at
ORGANIZER;CN="LFU:online Universität Innsbruck":MAILTO:Uni-Innsbruck-noreply@uibk.ac.at
SUMMARY:Geologische Karten und Profile (LV 715178-0 17S)
DESCRIPTION:Lehrveranstaltung 715178 17S, Gruppe 0\nTitel: Geologische Karten und Profile\nOrt: UR 60306\n\nhttps://lfuonline.uibk.ac.at/public/lfuonline_lv.details?sem_id_in=17S&lvnr_id_in=715178\n
CLASS:PUBLIC
DTSTART:20170320T100000Z
DTEND:20170320T120000Z
DTSTAMP:20260420T161824Z
LOCATION:UR 60306
COMMENT:Tutorium Karten und Profile
END:VEVENT
END:VCALENDAR